BEGIN:VCALENDAR
VERSION:2.0
PRODID:-//Westover Episcopal Church - Charles City, VA - ECPv6.15.20//NONSGML v1.0//EN
CALSCALE:GREGORIAN
METHOD:PUBLISH
X-WR-CALNAME:Westover Episcopal Church - Charles City, VA
X-ORIGINAL-URL:https://westoverepiscopalchurch.org
X-WR-CALDESC:Events for Westover Episcopal Church - Charles City, VA
REFRESH-INTERVAL;VALUE=DURATION:PT1H
X-Robots-Tag:noindex
X-PUBLISHED-TTL:PT1H
BEGIN:VTIMEZONE
TZID:America/New_York
BEGIN:DAYLIGHT
TZOFFSETFROM:-0500
TZOFFSETTO:-0400
TZNAME:EDT
DTSTART:20220313T070000
END:DAYLIGHT
BEGIN:STANDARD
TZOFFSETFROM:-0400
TZOFFSETTO:-0500
TZNAME:EST
DTSTART:20221106T060000
END:STANDARD
BEGIN:DAYLIGHT
TZOFFSETFROM:-0500
TZOFFSETTO:-0400
TZNAME:EDT
DTSTART:20230312T070000
END:DAYLIGHT
BEGIN:STANDARD
TZOFFSETFROM:-0400
TZOFFSETTO:-0500
TZNAME:EST
DTSTART:20231105T060000
END:STANDARD
BEGIN:DAYLIGHT
TZOFFSETFROM:-0500
TZOFFSETTO:-0400
TZNAME:EDT
DTSTART:20240310T070000
END:DAYLIGHT
BEGIN:STANDARD
TZOFFSETFROM:-0400
TZOFFSETTO:-0500
TZNAME:EST
DTSTART:20241103T060000
END:STANDARD
END:VTIMEZONE
BEGIN:VEVENT
DTSTART;TZID=America/New_York:20230901T090000
DTEND;TZID=America/New_York:20230901T110000
DTSTAMP:20260425T125051
CREATED:20230113T145846Z
LAST-MODIFIED:20230113T145846Z
UID:10000893-1693558800-1693566000@westoverepiscopalchurch.org
SUMMARY:Meals on Wheels
DESCRIPTION:Meals On Wheels (MOW) serves hot\, nutritious meals to the homebound elderly and/or disabled Monday through Friday.
URL:https://westoverepiscopalchurch.org/event/meals-on-wheels/2023-09-01/
END:VEVENT
BEGIN:VEVENT
DTSTART;TZID=America/New_York:20230903T100000
DTEND;TZID=America/New_York:20230903T110000
DTSTAMP:20260425T125051
CREATED:20230803T182404Z
LAST-MODIFIED:20230803T182404Z
UID:10001154-1693735200-1693738800@westoverepiscopalchurch.org
SUMMARY:Fourteenth Sunday after Pentecost
DESCRIPTION:
URL:https://westoverepiscopalchurch.org/event/fourteenth-sunday-after-pentecost-2/
END:VEVENT
BEGIN:VEVENT
DTSTART;TZID=America/New_York:20230904T090000
DTEND;TZID=America/New_York:20230904T110000
DTSTAMP:20260425T125051
CREATED:20230113T145846Z
LAST-MODIFIED:20230113T145846Z
UID:10000894-1693818000-1693825200@westoverepiscopalchurch.org
SUMMARY:Meals on Wheels
DESCRIPTION:Meals On Wheels (MOW) serves hot\, nutritious meals to the homebound elderly and/or disabled Monday through Friday.
URL:https://westoverepiscopalchurch.org/event/meals-on-wheels/2023-09-04/
END:VEVENT
BEGIN:VEVENT
DTSTART;TZID=America/New_York:20230905T090000
DTEND;TZID=America/New_York:20230905T110000
DTSTAMP:20260425T125051
CREATED:20230113T145846Z
LAST-MODIFIED:20230113T145846Z
UID:10000895-1693904400-1693911600@westoverepiscopalchurch.org
SUMMARY:Meals on Wheels
DESCRIPTION:Meals On Wheels (MOW) serves hot\, nutritious meals to the homebound elderly and/or disabled Monday through Friday.
URL:https://westoverepiscopalchurch.org/event/meals-on-wheels/2023-09-05/
END:VEVENT
BEGIN:VEVENT
DTSTART;TZID=America/New_York:20230906T090000
DTEND;TZID=America/New_York:20230906T110000
DTSTAMP:20260425T125051
CREATED:20230113T145846Z
LAST-MODIFIED:20230113T145846Z
UID:10000896-1693990800-1693998000@westoverepiscopalchurch.org
SUMMARY:Meals on Wheels
DESCRIPTION:Meals On Wheels (MOW) serves hot\, nutritious meals to the homebound elderly and/or disabled Monday through Friday.
URL:https://westoverepiscopalchurch.org/event/meals-on-wheels/2023-09-06/
END:VEVENT
BEGIN:VEVENT
DTSTART;TZID=America/New_York:20230907T090000
DTEND;TZID=America/New_York:20230907T110000
DTSTAMP:20260425T125051
CREATED:20230113T145846Z
LAST-MODIFIED:20230113T145846Z
UID:10000897-1694077200-1694084400@westoverepiscopalchurch.org
SUMMARY:Meals on Wheels
DESCRIPTION:Meals On Wheels (MOW) serves hot\, nutritious meals to the homebound elderly and/or disabled Monday through Friday.
URL:https://westoverepiscopalchurch.org/event/meals-on-wheels/2023-09-07/
END:VEVENT
BEGIN:VEVENT
DTSTART;TZID=America/New_York:20230907T100000
DTEND;TZID=America/New_York:20230907T110000
DTSTAMP:20260425T125051
CREATED:20230712T204456Z
LAST-MODIFIED:20230712T204456Z
UID:10001095-1694080800-1694084400@westoverepiscopalchurch.org
SUMMARY:Gentle Yoga with Rev. Becky
DESCRIPTION:
URL:https://westoverepiscopalchurch.org/event/gentle-yoga-with-rev-becky-3/2023-09-07/
END:VEVENT
BEGIN:VEVENT
DTSTART;TZID=America/New_York:20230908T090000
DTEND;TZID=America/New_York:20230908T110000
DTSTAMP:20260425T125051
CREATED:20230113T145846Z
LAST-MODIFIED:20230113T145846Z
UID:10000898-1694163600-1694170800@westoverepiscopalchurch.org
SUMMARY:Meals on Wheels
DESCRIPTION:Meals On Wheels (MOW) serves hot\, nutritious meals to the homebound elderly and/or disabled Monday through Friday.
URL:https://westoverepiscopalchurch.org/event/meals-on-wheels/2023-09-08/
END:VEVENT
BEGIN:VEVENT
DTSTART;TZID=America/New_York:20230910T100000
DTEND;TZID=America/New_York:20230910T110000
DTSTAMP:20260425T125051
CREATED:20230803T182459Z
LAST-MODIFIED:20230803T182459Z
UID:10001155-1694340000-1694343600@westoverepiscopalchurch.org
SUMMARY:Fifteen Sunday after Pentecost
DESCRIPTION:
URL:https://westoverepiscopalchurch.org/event/fifteen-sunday-after-pentecost/
LOCATION:Westover Episcopal Church\, 6401 John Tyler Hwy.\, Charles City\, VA\, 23030\, United States
END:VEVENT
BEGIN:VEVENT
DTSTART;TZID=America/New_York:20230911T090000
DTEND;TZID=America/New_York:20230911T110000
DTSTAMP:20260425T125051
CREATED:20230113T145846Z
LAST-MODIFIED:20230113T145846Z
UID:10000899-1694422800-1694430000@westoverepiscopalchurch.org
SUMMARY:Meals on Wheels
DESCRIPTION:Meals On Wheels (MOW) serves hot\, nutritious meals to the homebound elderly and/or disabled Monday through Friday.
URL:https://westoverepiscopalchurch.org/event/meals-on-wheels/2023-09-11/
END:VEVENT
BEGIN:VEVENT
DTSTART;TZID=America/New_York:20230912T090000
DTEND;TZID=America/New_York:20230912T110000
DTSTAMP:20260425T125051
CREATED:20230113T145846Z
LAST-MODIFIED:20230113T145846Z
UID:10000900-1694509200-1694516400@westoverepiscopalchurch.org
SUMMARY:Meals on Wheels
DESCRIPTION:Meals On Wheels (MOW) serves hot\, nutritious meals to the homebound elderly and/or disabled Monday through Friday.
URL:https://westoverepiscopalchurch.org/event/meals-on-wheels/2023-09-12/
END:VEVENT
BEGIN:VEVENT
DTSTART;TZID=America/New_York:20230913T090000
DTEND;TZID=America/New_York:20230913T110000
DTSTAMP:20260425T125051
CREATED:20230113T145846Z
LAST-MODIFIED:20230113T145846Z
UID:10000901-1694595600-1694602800@westoverepiscopalchurch.org
SUMMARY:Meals on Wheels
DESCRIPTION:Meals On Wheels (MOW) serves hot\, nutritious meals to the homebound elderly and/or disabled Monday through Friday.
URL:https://westoverepiscopalchurch.org/event/meals-on-wheels/2023-09-13/
END:VEVENT
BEGIN:VEVENT
DTSTART;TZID=America/New_York:20230914T090000
DTEND;TZID=America/New_York:20230914T110000
DTSTAMP:20260425T125051
CREATED:20230113T145846Z
LAST-MODIFIED:20230113T145846Z
UID:10000902-1694682000-1694689200@westoverepiscopalchurch.org
SUMMARY:Meals on Wheels
DESCRIPTION:Meals On Wheels (MOW) serves hot\, nutritious meals to the homebound elderly and/or disabled Monday through Friday.
URL:https://westoverepiscopalchurch.org/event/meals-on-wheels/2023-09-14/
END:VEVENT
BEGIN:VEVENT
DTSTART;TZID=America/New_York:20230914T100000
DTEND;TZID=America/New_York:20230914T110000
DTSTAMP:20260425T125051
CREATED:20230712T204456Z
LAST-MODIFIED:20230712T204456Z
UID:10001096-1694685600-1694689200@westoverepiscopalchurch.org
SUMMARY:Gentle Yoga with Rev. Becky
DESCRIPTION:
URL:https://westoverepiscopalchurch.org/event/gentle-yoga-with-rev-becky-3/2023-09-14/
END:VEVENT
BEGIN:VEVENT
DTSTART;TZID=America/New_York:20230915T090000
DTEND;TZID=America/New_York:20230915T110000
DTSTAMP:20260425T125051
CREATED:20230113T145846Z
LAST-MODIFIED:20230113T145846Z
UID:10000903-1694768400-1694775600@westoverepiscopalchurch.org
SUMMARY:Meals on Wheels
DESCRIPTION:Meals On Wheels (MOW) serves hot\, nutritious meals to the homebound elderly and/or disabled Monday through Friday.
URL:https://westoverepiscopalchurch.org/event/meals-on-wheels/2023-09-15/
END:VEVENT
BEGIN:VEVENT
DTSTART;TZID=America/New_York:20230917T100000
DTEND;TZID=America/New_York:20230917T110000
DTSTAMP:20260425T125051
CREATED:20230803T182540Z
LAST-MODIFIED:20230803T182540Z
UID:10001156-1694944800-1694948400@westoverepiscopalchurch.org
SUMMARY:Sixteenth Sunday after Pentecost
DESCRIPTION:
URL:https://westoverepiscopalchurch.org/event/sixteenth-sunday-after-pentecost-2/
LOCATION:Westover Episcopal Church\, 6401 John Tyler Hwy.\, Charles City\, VA\, 23030\, United States
END:VEVENT
BEGIN:VEVENT
DTSTART;TZID=America/New_York:20230918T090000
DTEND;TZID=America/New_York:20230918T110000
DTSTAMP:20260425T125051
CREATED:20230113T145846Z
LAST-MODIFIED:20230113T145846Z
UID:10000904-1695027600-1695034800@westoverepiscopalchurch.org
SUMMARY:Meals on Wheels
DESCRIPTION:Meals On Wheels (MOW) serves hot\, nutritious meals to the homebound elderly and/or disabled Monday through Friday.
URL:https://westoverepiscopalchurch.org/event/meals-on-wheels/2023-09-18/
END:VEVENT
BEGIN:VEVENT
DTSTART;TZID=America/New_York:20230919T090000
DTEND;TZID=America/New_York:20230919T110000
DTSTAMP:20260425T125051
CREATED:20230113T145846Z
LAST-MODIFIED:20230113T145846Z
UID:10000905-1695114000-1695121200@westoverepiscopalchurch.org
SUMMARY:Meals on Wheels
DESCRIPTION:Meals On Wheels (MOW) serves hot\, nutritious meals to the homebound elderly and/or disabled Monday through Friday.
URL:https://westoverepiscopalchurch.org/event/meals-on-wheels/2023-09-19/
END:VEVENT
BEGIN:VEVENT
DTSTART;TZID=America/New_York:20230920T090000
DTEND;TZID=America/New_York:20230920T110000
DTSTAMP:20260425T125051
CREATED:20230113T145846Z
LAST-MODIFIED:20230113T145846Z
UID:10000906-1695200400-1695207600@westoverepiscopalchurch.org
SUMMARY:Meals on Wheels
DESCRIPTION:Meals On Wheels (MOW) serves hot\, nutritious meals to the homebound elderly and/or disabled Monday through Friday.
URL:https://westoverepiscopalchurch.org/event/meals-on-wheels/2023-09-20/
END:VEVENT
BEGIN:VEVENT
DTSTART;TZID=America/New_York:20230921T090000
DTEND;TZID=America/New_York:20230921T110000
DTSTAMP:20260425T125051
CREATED:20230113T145846Z
LAST-MODIFIED:20230113T145846Z
UID:10000907-1695286800-1695294000@westoverepiscopalchurch.org
SUMMARY:Meals on Wheels
DESCRIPTION:Meals On Wheels (MOW) serves hot\, nutritious meals to the homebound elderly and/or disabled Monday through Friday.
URL:https://westoverepiscopalchurch.org/event/meals-on-wheels/2023-09-21/
END:VEVENT
BEGIN:VEVENT
DTSTART;TZID=America/New_York:20230921T100000
DTEND;TZID=America/New_York:20230921T110000
DTSTAMP:20260425T125051
CREATED:20230712T204456Z
LAST-MODIFIED:20230712T204456Z
UID:10001097-1695290400-1695294000@westoverepiscopalchurch.org
SUMMARY:Gentle Yoga with Rev. Becky
DESCRIPTION:
URL:https://westoverepiscopalchurch.org/event/gentle-yoga-with-rev-becky-3/2023-09-21/
END:VEVENT
BEGIN:VEVENT
DTSTART;TZID=America/New_York:20230922T090000
DTEND;TZID=America/New_York:20230922T110000
DTSTAMP:20260425T125051
CREATED:20230113T145846Z
LAST-MODIFIED:20230113T145846Z
UID:10000908-1695373200-1695380400@westoverepiscopalchurch.org
SUMMARY:Meals on Wheels
DESCRIPTION:Meals On Wheels (MOW) serves hot\, nutritious meals to the homebound elderly and/or disabled Monday through Friday.
URL:https://westoverepiscopalchurch.org/event/meals-on-wheels/2023-09-22/
END:VEVENT
BEGIN:VEVENT
DTSTART;TZID=America/New_York:20230924T100000
DTEND;TZID=America/New_York:20230924T110000
DTSTAMP:20260425T125051
CREATED:20230803T182628Z
LAST-MODIFIED:20230803T182628Z
UID:10001157-1695549600-1695553200@westoverepiscopalchurch.org
SUMMARY:Seventeenth Sunday after Pentecost
DESCRIPTION:
URL:https://westoverepiscopalchurch.org/event/seventeenth-sunday-after-pentecost-2/
LOCATION:Westover Episcopal Church\, 6401 John Tyler Hwy.\, Charles City\, VA\, 23030\, United States
END:VEVENT
BEGIN:VEVENT
DTSTART;TZID=America/New_York:20230925T090000
DTEND;TZID=America/New_York:20230925T110000
DTSTAMP:20260425T125051
CREATED:20230113T145846Z
LAST-MODIFIED:20230113T145846Z
UID:10000909-1695632400-1695639600@westoverepiscopalchurch.org
SUMMARY:Meals on Wheels
DESCRIPTION:Meals On Wheels (MOW) serves hot\, nutritious meals to the homebound elderly and/or disabled Monday through Friday.
URL:https://westoverepiscopalchurch.org/event/meals-on-wheels/2023-09-25/
END:VEVENT
BEGIN:VEVENT
DTSTART;TZID=America/New_York:20230926T090000
DTEND;TZID=America/New_York:20230926T110000
DTSTAMP:20260425T125051
CREATED:20230113T145846Z
LAST-MODIFIED:20230113T145846Z
UID:10000910-1695718800-1695726000@westoverepiscopalchurch.org
SUMMARY:Meals on Wheels
DESCRIPTION:Meals On Wheels (MOW) serves hot\, nutritious meals to the homebound elderly and/or disabled Monday through Friday.
URL:https://westoverepiscopalchurch.org/event/meals-on-wheels/2023-09-26/
END:VEVENT
BEGIN:VEVENT
DTSTART;TZID=America/New_York:20230927T090000
DTEND;TZID=America/New_York:20230927T110000
DTSTAMP:20260425T125051
CREATED:20230113T145846Z
LAST-MODIFIED:20230113T145846Z
UID:10000911-1695805200-1695812400@westoverepiscopalchurch.org
SUMMARY:Meals on Wheels
DESCRIPTION:Meals On Wheels (MOW) serves hot\, nutritious meals to the homebound elderly and/or disabled Monday through Friday.
URL:https://westoverepiscopalchurch.org/event/meals-on-wheels/2023-09-27/
END:VEVENT
BEGIN:VEVENT
DTSTART;TZID=America/New_York:20230928T090000
DTEND;TZID=America/New_York:20230928T110000
DTSTAMP:20260425T125051
CREATED:20230113T145846Z
LAST-MODIFIED:20230113T145846Z
UID:10000912-1695891600-1695898800@westoverepiscopalchurch.org
SUMMARY:Meals on Wheels
DESCRIPTION:Meals On Wheels (MOW) serves hot\, nutritious meals to the homebound elderly and/or disabled Monday through Friday.
URL:https://westoverepiscopalchurch.org/event/meals-on-wheels/2023-09-28/
END:VEVENT
BEGIN:VEVENT
DTSTART;TZID=America/New_York:20230928T100000
DTEND;TZID=America/New_York:20230928T110000
DTSTAMP:20260425T125051
CREATED:20230712T204456Z
LAST-MODIFIED:20230712T204456Z
UID:10001098-1695895200-1695898800@westoverepiscopalchurch.org
SUMMARY:Gentle Yoga with Rev. Becky
DESCRIPTION:
URL:https://westoverepiscopalchurch.org/event/gentle-yoga-with-rev-becky-3/2023-09-28/
END:VEVENT
BEGIN:VEVENT
DTSTART;TZID=America/New_York:20230929T090000
DTEND;TZID=America/New_York:20230929T110000
DTSTAMP:20260425T125051
CREATED:20230113T145846Z
LAST-MODIFIED:20230113T145846Z
UID:10000913-1695978000-1695985200@westoverepiscopalchurch.org
SUMMARY:Meals on Wheels
DESCRIPTION:Meals On Wheels (MOW) serves hot\, nutritious meals to the homebound elderly and/or disabled Monday through Friday.
URL:https://westoverepiscopalchurch.org/event/meals-on-wheels/2023-09-29/
END:VEVENT
BEGIN:VEVENT
DTSTART;TZID=America/New_York:20230930T090000
DTEND;TZID=America/New_York:20230930T160000
DTSTAMP:20260425T125051
CREATED:20230712T204331Z
LAST-MODIFIED:20230712T204729Z
UID:10001087-1696064400-1696089600@westoverepiscopalchurch.org
SUMMARY:Historic Autumn Pilgrimage House Tour
DESCRIPTION:A tour of historic plantations\, contemporary houses and gardens in the cradle of the nation. For more information click HERE
URL:https://westoverepiscopalchurch.org/event/historic-autumn-pilgrimage-house-tour/
END:VEVENT
END:VCALENDAR