BEGIN:VCALENDAR
VERSION:2.0
PRODID:-//Westover Episcopal Church - Charles City, VA - ECPv6.15.20//NONSGML v1.0//EN
CALSCALE:GREGORIAN
METHOD:PUBLISH
X-WR-CALNAME:Westover Episcopal Church - Charles City, VA
X-ORIGINAL-URL:https://westoverepiscopalchurch.org
X-WR-CALDESC:Events for Westover Episcopal Church - Charles City, VA
REFRESH-INTERVAL;VALUE=DURATION:PT1H
X-Robots-Tag:noindex
X-PUBLISHED-TTL:PT1H
BEGIN:VTIMEZONE
TZID:America/New_York
BEGIN:DAYLIGHT
TZOFFSETFROM:-0500
TZOFFSETTO:-0400
TZNAME:EDT
DTSTART:20220313T070000
END:DAYLIGHT
BEGIN:STANDARD
TZOFFSETFROM:-0400
TZOFFSETTO:-0500
TZNAME:EST
DTSTART:20221106T060000
END:STANDARD
BEGIN:DAYLIGHT
TZOFFSETFROM:-0500
TZOFFSETTO:-0400
TZNAME:EDT
DTSTART:20230312T070000
END:DAYLIGHT
BEGIN:STANDARD
TZOFFSETFROM:-0400
TZOFFSETTO:-0500
TZNAME:EST
DTSTART:20231105T060000
END:STANDARD
BEGIN:DAYLIGHT
TZOFFSETFROM:-0500
TZOFFSETTO:-0400
TZNAME:EDT
DTSTART:20240310T070000
END:DAYLIGHT
BEGIN:STANDARD
TZOFFSETFROM:-0400
TZOFFSETTO:-0500
TZNAME:EST
DTSTART:20241103T060000
END:STANDARD
END:VTIMEZONE
BEGIN:VEVENT
DTSTART;TZID=America/New_York:20231001T100000
DTEND;TZID=America/New_York:20231001T110000
DTSTAMP:20260425T111645
CREATED:20230925T202537Z
LAST-MODIFIED:20230925T202537Z
UID:10001158-1696154400-1696158000@westoverepiscopalchurch.org
SUMMARY:Blessing of the Animals Outside Service
DESCRIPTION:Join us with you pets\, big or small\, furry or scaly\, for an outside service of Blessing of the Animals.
URL:https://westoverepiscopalchurch.org/event/blessing-of-the-animals-outside-service/
LOCATION:Westover Episcopal Church\, 6401 John Tyler Hwy.\, Charles City\, VA\, 23030\, United States
END:VEVENT
BEGIN:VEVENT
DTSTART;TZID=America/New_York:20231002T090000
DTEND;TZID=America/New_York:20231002T110000
DTSTAMP:20260425T111645
CREATED:20230113T145846Z
LAST-MODIFIED:20230113T145846Z
UID:10000914-1696237200-1696244400@westoverepiscopalchurch.org
SUMMARY:Meals on Wheels
DESCRIPTION:Meals On Wheels (MOW) serves hot\, nutritious meals to the homebound elderly and/or disabled Monday through Friday.
URL:https://westoverepiscopalchurch.org/event/meals-on-wheels/2023-10-02/
END:VEVENT
BEGIN:VEVENT
DTSTART;TZID=America/New_York:20231003T090000
DTEND;TZID=America/New_York:20231003T110000
DTSTAMP:20260425T111645
CREATED:20230113T145846Z
LAST-MODIFIED:20230113T145846Z
UID:10000915-1696323600-1696330800@westoverepiscopalchurch.org
SUMMARY:Meals on Wheels
DESCRIPTION:Meals On Wheels (MOW) serves hot\, nutritious meals to the homebound elderly and/or disabled Monday through Friday.
URL:https://westoverepiscopalchurch.org/event/meals-on-wheels/2023-10-03/
END:VEVENT
BEGIN:VEVENT
DTSTART;TZID=America/New_York:20231004T090000
DTEND;TZID=America/New_York:20231004T110000
DTSTAMP:20260425T111645
CREATED:20230113T145846Z
LAST-MODIFIED:20230113T145846Z
UID:10000916-1696410000-1696417200@westoverepiscopalchurch.org
SUMMARY:Meals on Wheels
DESCRIPTION:Meals On Wheels (MOW) serves hot\, nutritious meals to the homebound elderly and/or disabled Monday through Friday.
URL:https://westoverepiscopalchurch.org/event/meals-on-wheels/2023-10-04/
END:VEVENT
BEGIN:VEVENT
DTSTART;TZID=America/New_York:20231005T090000
DTEND;TZID=America/New_York:20231005T110000
DTSTAMP:20260425T111645
CREATED:20230113T145846Z
LAST-MODIFIED:20230113T145846Z
UID:10000917-1696496400-1696503600@westoverepiscopalchurch.org
SUMMARY:Meals on Wheels
DESCRIPTION:Meals On Wheels (MOW) serves hot\, nutritious meals to the homebound elderly and/or disabled Monday through Friday.
URL:https://westoverepiscopalchurch.org/event/meals-on-wheels/2023-10-05/
END:VEVENT
BEGIN:VEVENT
DTSTART;TZID=America/New_York:20231005T100000
DTEND;TZID=America/New_York:20231005T110000
DTSTAMP:20260425T111645
CREATED:20230712T204456Z
LAST-MODIFIED:20230712T204456Z
UID:10001099-1696500000-1696503600@westoverepiscopalchurch.org
SUMMARY:Gentle Yoga with Rev. Becky
DESCRIPTION:
URL:https://westoverepiscopalchurch.org/event/gentle-yoga-with-rev-becky-3/2023-10-05/
END:VEVENT
BEGIN:VEVENT
DTSTART;TZID=America/New_York:20231006T090000
DTEND;TZID=America/New_York:20231006T110000
DTSTAMP:20260425T111645
CREATED:20230113T145846Z
LAST-MODIFIED:20230113T145846Z
UID:10000918-1696582800-1696590000@westoverepiscopalchurch.org
SUMMARY:Meals on Wheels
DESCRIPTION:Meals On Wheels (MOW) serves hot\, nutritious meals to the homebound elderly and/or disabled Monday through Friday.
URL:https://westoverepiscopalchurch.org/event/meals-on-wheels/2023-10-06/
END:VEVENT
BEGIN:VEVENT
DTSTART;TZID=America/New_York:20231008T100000
DTEND;TZID=America/New_York:20231008T110000
DTSTAMP:20260425T111645
CREATED:20230925T202755Z
LAST-MODIFIED:20230925T202755Z
UID:10001159-1696759200-1696762800@westoverepiscopalchurch.org
SUMMARY:Nineteenth Sunday after Pentecost Service
DESCRIPTION:
URL:https://westoverepiscopalchurch.org/event/nineteenth-sunday-after-pentecost-service/
LOCATION:Westover Episcopal Church\, 6401 John Tyler Hwy.\, Charles City\, VA\, 23030\, United States
END:VEVENT
BEGIN:VEVENT
DTSTART;TZID=America/New_York:20231009T090000
DTEND;TZID=America/New_York:20231009T110000
DTSTAMP:20260425T111645
CREATED:20230113T145846Z
LAST-MODIFIED:20230113T145846Z
UID:10000919-1696842000-1696849200@westoverepiscopalchurch.org
SUMMARY:Meals on Wheels
DESCRIPTION:Meals On Wheels (MOW) serves hot\, nutritious meals to the homebound elderly and/or disabled Monday through Friday.
URL:https://westoverepiscopalchurch.org/event/meals-on-wheels/2023-10-09/
END:VEVENT
BEGIN:VEVENT
DTSTART;TZID=America/New_York:20231010T090000
DTEND;TZID=America/New_York:20231010T110000
DTSTAMP:20260425T111645
CREATED:20230113T145846Z
LAST-MODIFIED:20230113T145846Z
UID:10000920-1696928400-1696935600@westoverepiscopalchurch.org
SUMMARY:Meals on Wheels
DESCRIPTION:Meals On Wheels (MOW) serves hot\, nutritious meals to the homebound elderly and/or disabled Monday through Friday.
URL:https://westoverepiscopalchurch.org/event/meals-on-wheels/2023-10-10/
END:VEVENT
BEGIN:VEVENT
DTSTART;TZID=America/New_York:20231011T090000
DTEND;TZID=America/New_York:20231011T110000
DTSTAMP:20260425T111645
CREATED:20230113T145846Z
LAST-MODIFIED:20230113T145846Z
UID:10000921-1697014800-1697022000@westoverepiscopalchurch.org
SUMMARY:Meals on Wheels
DESCRIPTION:Meals On Wheels (MOW) serves hot\, nutritious meals to the homebound elderly and/or disabled Monday through Friday.
URL:https://westoverepiscopalchurch.org/event/meals-on-wheels/2023-10-11/
END:VEVENT
BEGIN:VEVENT
DTSTART;TZID=America/New_York:20231012T090000
DTEND;TZID=America/New_York:20231012T110000
DTSTAMP:20260425T111645
CREATED:20230113T145846Z
LAST-MODIFIED:20230113T145846Z
UID:10000922-1697101200-1697108400@westoverepiscopalchurch.org
SUMMARY:Meals on Wheels
DESCRIPTION:Meals On Wheels (MOW) serves hot\, nutritious meals to the homebound elderly and/or disabled Monday through Friday.
URL:https://westoverepiscopalchurch.org/event/meals-on-wheels/2023-10-12/
END:VEVENT
BEGIN:VEVENT
DTSTART;TZID=America/New_York:20231012T100000
DTEND;TZID=America/New_York:20231012T110000
DTSTAMP:20260425T111645
CREATED:20230712T204456Z
LAST-MODIFIED:20230712T204456Z
UID:10001100-1697104800-1697108400@westoverepiscopalchurch.org
SUMMARY:Gentle Yoga with Rev. Becky
DESCRIPTION:
URL:https://westoverepiscopalchurch.org/event/gentle-yoga-with-rev-becky-3/2023-10-12/
END:VEVENT
BEGIN:VEVENT
DTSTART;TZID=America/New_York:20231013T090000
DTEND;TZID=America/New_York:20231013T110000
DTSTAMP:20260425T111645
CREATED:20230113T145846Z
LAST-MODIFIED:20230113T145846Z
UID:10000923-1697187600-1697194800@westoverepiscopalchurch.org
SUMMARY:Meals on Wheels
DESCRIPTION:Meals On Wheels (MOW) serves hot\, nutritious meals to the homebound elderly and/or disabled Monday through Friday.
URL:https://westoverepiscopalchurch.org/event/meals-on-wheels/2023-10-13/
END:VEVENT
BEGIN:VEVENT
DTSTART;TZID=America/New_York:20231015T100000
DTEND;TZID=America/New_York:20231015T110000
DTSTAMP:20260425T111645
CREATED:20230925T202847Z
LAST-MODIFIED:20230925T202922Z
UID:10001160-1697364000-1697367600@westoverepiscopalchurch.org
SUMMARY:Twentieth Sunday after Pentecost Service
DESCRIPTION:
URL:https://westoverepiscopalchurch.org/event/twentieth-sunday-after-pentecost-2/
LOCATION:Westover Episcopal Church\, 6401 John Tyler Hwy.\, Charles City\, VA\, 23030\, United States
END:VEVENT
BEGIN:VEVENT
DTSTART;TZID=America/New_York:20231016T090000
DTEND;TZID=America/New_York:20231016T110000
DTSTAMP:20260425T111645
CREATED:20230113T145846Z
LAST-MODIFIED:20230113T145846Z
UID:10000924-1697446800-1697454000@westoverepiscopalchurch.org
SUMMARY:Meals on Wheels
DESCRIPTION:Meals On Wheels (MOW) serves hot\, nutritious meals to the homebound elderly and/or disabled Monday through Friday.
URL:https://westoverepiscopalchurch.org/event/meals-on-wheels/2023-10-16/
END:VEVENT
BEGIN:VEVENT
DTSTART;TZID=America/New_York:20231017T090000
DTEND;TZID=America/New_York:20231017T110000
DTSTAMP:20260425T111645
CREATED:20230113T145846Z
LAST-MODIFIED:20230113T145846Z
UID:10000925-1697533200-1697540400@westoverepiscopalchurch.org
SUMMARY:Meals on Wheels
DESCRIPTION:Meals On Wheels (MOW) serves hot\, nutritious meals to the homebound elderly and/or disabled Monday through Friday.
URL:https://westoverepiscopalchurch.org/event/meals-on-wheels/2023-10-17/
END:VEVENT
BEGIN:VEVENT
DTSTART;TZID=America/New_York:20231018T090000
DTEND;TZID=America/New_York:20231018T110000
DTSTAMP:20260425T111645
CREATED:20230113T145846Z
LAST-MODIFIED:20230113T145846Z
UID:10000926-1697619600-1697626800@westoverepiscopalchurch.org
SUMMARY:Meals on Wheels
DESCRIPTION:Meals On Wheels (MOW) serves hot\, nutritious meals to the homebound elderly and/or disabled Monday through Friday.
URL:https://westoverepiscopalchurch.org/event/meals-on-wheels/2023-10-18/
END:VEVENT
BEGIN:VEVENT
DTSTART;TZID=America/New_York:20231019T090000
DTEND;TZID=America/New_York:20231019T110000
DTSTAMP:20260425T111645
CREATED:20230113T145846Z
LAST-MODIFIED:20230113T145846Z
UID:10000927-1697706000-1697713200@westoverepiscopalchurch.org
SUMMARY:Meals on Wheels
DESCRIPTION:Meals On Wheels (MOW) serves hot\, nutritious meals to the homebound elderly and/or disabled Monday through Friday.
URL:https://westoverepiscopalchurch.org/event/meals-on-wheels/2023-10-19/
END:VEVENT
BEGIN:VEVENT
DTSTART;TZID=America/New_York:20231019T100000
DTEND;TZID=America/New_York:20231019T110000
DTSTAMP:20260425T111645
CREATED:20230712T204456Z
LAST-MODIFIED:20230712T204456Z
UID:10001101-1697709600-1697713200@westoverepiscopalchurch.org
SUMMARY:Gentle Yoga with Rev. Becky
DESCRIPTION:
URL:https://westoverepiscopalchurch.org/event/gentle-yoga-with-rev-becky-3/2023-10-19/
END:VEVENT
BEGIN:VEVENT
DTSTART;TZID=America/New_York:20231020T090000
DTEND;TZID=America/New_York:20231020T110000
DTSTAMP:20260425T111645
CREATED:20230113T145846Z
LAST-MODIFIED:20230113T145846Z
UID:10000928-1697792400-1697799600@westoverepiscopalchurch.org
SUMMARY:Meals on Wheels
DESCRIPTION:Meals On Wheels (MOW) serves hot\, nutritious meals to the homebound elderly and/or disabled Monday through Friday.
URL:https://westoverepiscopalchurch.org/event/meals-on-wheels/2023-10-20/
END:VEVENT
BEGIN:VEVENT
DTSTART;TZID=America/New_York:20231022T100000
DTEND;TZID=America/New_York:20231022T110000
DTSTAMP:20260425T111645
CREATED:20230925T203012Z
LAST-MODIFIED:20230925T203538Z
UID:10001161-1697968800-1697972400@westoverepiscopalchurch.org
SUMMARY:Twenty-First Sunday after Pentecost Service with Bishop Harris
DESCRIPTION:
URL:https://westoverepiscopalchurch.org/event/twenty-first-sunday-after-pentecost-service/
LOCATION:Westover Episcopal Church\, 6401 John Tyler Hwy.\, Charles City\, VA\, 23030\, United States
END:VEVENT
BEGIN:VEVENT
DTSTART;TZID=America/New_York:20231022T113000
DTEND;TZID=America/New_York:20231022T123000
DTSTAMP:20260425T111645
CREATED:20230925T204055Z
LAST-MODIFIED:20230925T204055Z
UID:10001165-1697974200-1697977800@westoverepiscopalchurch.org
SUMMARY:Blessing of the Bicycles Outside Service with Bishop Harris
DESCRIPTION:Join us for an outside service of the Blessing of the Bicycles.  Feel free to ride your bike down the Virginia Capital Trail to Westover Church .
URL:https://westoverepiscopalchurch.org/event/blessing-of-the-bicycles-outside-service-with-bishop-harris/
LOCATION:Westover Episcopal Church\, 6401 John Tyler Hwy.\, Charles City\, VA\, 23030\, United States
END:VEVENT
BEGIN:VEVENT
DTSTART;TZID=America/New_York:20231023T090000
DTEND;TZID=America/New_York:20231023T110000
DTSTAMP:20260425T111645
CREATED:20230113T145846Z
LAST-MODIFIED:20230113T145846Z
UID:10000929-1698051600-1698058800@westoverepiscopalchurch.org
SUMMARY:Meals on Wheels
DESCRIPTION:Meals On Wheels (MOW) serves hot\, nutritious meals to the homebound elderly and/or disabled Monday through Friday.
URL:https://westoverepiscopalchurch.org/event/meals-on-wheels/2023-10-23/
END:VEVENT
BEGIN:VEVENT
DTSTART;TZID=America/New_York:20231024T090000
DTEND;TZID=America/New_York:20231024T110000
DTSTAMP:20260425T111645
CREATED:20230113T145846Z
LAST-MODIFIED:20230113T145846Z
UID:10000930-1698138000-1698145200@westoverepiscopalchurch.org
SUMMARY:Meals on Wheels
DESCRIPTION:Meals On Wheels (MOW) serves hot\, nutritious meals to the homebound elderly and/or disabled Monday through Friday.
URL:https://westoverepiscopalchurch.org/event/meals-on-wheels/2023-10-24/
END:VEVENT
BEGIN:VEVENT
DTSTART;TZID=America/New_York:20231025T090000
DTEND;TZID=America/New_York:20231025T110000
DTSTAMP:20260425T111645
CREATED:20230113T145846Z
LAST-MODIFIED:20230113T145846Z
UID:10000931-1698224400-1698231600@westoverepiscopalchurch.org
SUMMARY:Meals on Wheels
DESCRIPTION:Meals On Wheels (MOW) serves hot\, nutritious meals to the homebound elderly and/or disabled Monday through Friday.
URL:https://westoverepiscopalchurch.org/event/meals-on-wheels/2023-10-25/
END:VEVENT
BEGIN:VEVENT
DTSTART;TZID=America/New_York:20231026T090000
DTEND;TZID=America/New_York:20231026T110000
DTSTAMP:20260425T111645
CREATED:20230113T145846Z
LAST-MODIFIED:20230113T145846Z
UID:10000932-1698310800-1698318000@westoverepiscopalchurch.org
SUMMARY:Meals on Wheels
DESCRIPTION:Meals On Wheels (MOW) serves hot\, nutritious meals to the homebound elderly and/or disabled Monday through Friday.
URL:https://westoverepiscopalchurch.org/event/meals-on-wheels/2023-10-26/
END:VEVENT
BEGIN:VEVENT
DTSTART;TZID=America/New_York:20231026T100000
DTEND;TZID=America/New_York:20231026T110000
DTSTAMP:20260425T111645
CREATED:20230712T204456Z
LAST-MODIFIED:20230712T204456Z
UID:10001102-1698314400-1698318000@westoverepiscopalchurch.org
SUMMARY:Gentle Yoga with Rev. Becky
DESCRIPTION:
URL:https://westoverepiscopalchurch.org/event/gentle-yoga-with-rev-becky-3/2023-10-26/
END:VEVENT
BEGIN:VEVENT
DTSTART;TZID=America/New_York:20231027T090000
DTEND;TZID=America/New_York:20231027T110000
DTSTAMP:20260425T111645
CREATED:20230113T145846Z
LAST-MODIFIED:20230113T145846Z
UID:10000933-1698397200-1698404400@westoverepiscopalchurch.org
SUMMARY:Meals on Wheels
DESCRIPTION:Meals On Wheels (MOW) serves hot\, nutritious meals to the homebound elderly and/or disabled Monday through Friday.
URL:https://westoverepiscopalchurch.org/event/meals-on-wheels/2023-10-27/
END:VEVENT
BEGIN:VEVENT
DTSTART;TZID=America/New_York:20231029T100000
DTEND;TZID=America/New_York:20231029T110000
DTSTAMP:20260425T111645
CREATED:20230925T203056Z
LAST-MODIFIED:20230925T203056Z
UID:10001162-1698573600-1698577200@westoverepiscopalchurch.org
SUMMARY:Twenty-Second Sunday after Pentecost Service
DESCRIPTION:
URL:https://westoverepiscopalchurch.org/event/twenty-second-sunday-after-pentecost-service/
LOCATION:Westover Episcopal Church\, 6401 John Tyler Hwy.\, Charles City\, VA\, 23030\, United States
END:VEVENT
END:VCALENDAR