BEGIN:VCALENDAR
VERSION:2.0
PRODID:-//Westover Episcopal Church - Charles City, VA - ECPv6.15.20//NONSGML v1.0//EN
CALSCALE:GREGORIAN
METHOD:PUBLISH
X-WR-CALNAME:Westover Episcopal Church - Charles City, VA
X-ORIGINAL-URL:https://westoverepiscopalchurch.org
X-WR-CALDESC:Events for Westover Episcopal Church - Charles City, VA
REFRESH-INTERVAL;VALUE=DURATION:PT1H
X-Robots-Tag:noindex
X-PUBLISHED-TTL:PT1H
BEGIN:VTIMEZONE
TZID:America/New_York
BEGIN:DAYLIGHT
TZOFFSETFROM:-0500
TZOFFSETTO:-0400
TZNAME:EDT
DTSTART:20220313T070000
END:DAYLIGHT
BEGIN:STANDARD
TZOFFSETFROM:-0400
TZOFFSETTO:-0500
TZNAME:EST
DTSTART:20221106T060000
END:STANDARD
BEGIN:DAYLIGHT
TZOFFSETFROM:-0500
TZOFFSETTO:-0400
TZNAME:EDT
DTSTART:20230312T070000
END:DAYLIGHT
BEGIN:STANDARD
TZOFFSETFROM:-0400
TZOFFSETTO:-0500
TZNAME:EST
DTSTART:20231105T060000
END:STANDARD
BEGIN:DAYLIGHT
TZOFFSETFROM:-0500
TZOFFSETTO:-0400
TZNAME:EDT
DTSTART:20240310T070000
END:DAYLIGHT
BEGIN:STANDARD
TZOFFSETFROM:-0400
TZOFFSETTO:-0500
TZNAME:EST
DTSTART:20241103T060000
END:STANDARD
END:VTIMEZONE
BEGIN:VEVENT
DTSTART;TZID=America/New_York:20231127T090000
DTEND;TZID=America/New_York:20231127T110000
DTSTAMP:20260425T094726
CREATED:20230113T145846Z
LAST-MODIFIED:20230113T145846Z
UID:10000954-1701075600-1701082800@westoverepiscopalchurch.org
SUMMARY:Meals on Wheels
DESCRIPTION:Meals On Wheels (MOW) serves hot\, nutritious meals to the homebound elderly and/or disabled Monday through Friday.
URL:https://westoverepiscopalchurch.org/event/meals-on-wheels/2023-11-27/
END:VEVENT
BEGIN:VEVENT
DTSTART;TZID=America/New_York:20231128T090000
DTEND;TZID=America/New_York:20231128T110000
DTSTAMP:20260425T094726
CREATED:20230113T145846Z
LAST-MODIFIED:20230113T145846Z
UID:10000955-1701162000-1701169200@westoverepiscopalchurch.org
SUMMARY:Meals on Wheels
DESCRIPTION:Meals On Wheels (MOW) serves hot\, nutritious meals to the homebound elderly and/or disabled Monday through Friday.
URL:https://westoverepiscopalchurch.org/event/meals-on-wheels/2023-11-28/
END:VEVENT
BEGIN:VEVENT
DTSTART;TZID=America/New_York:20231128T130000
DTEND;TZID=America/New_York:20231128T143000
DTSTAMP:20260425T094726
CREATED:20231125T223651Z
LAST-MODIFIED:20231125T224559Z
UID:10001175-1701176400-1701181800@westoverepiscopalchurch.org
SUMMARY:Advent Book Study
DESCRIPTION:Our Advent Book Study will begin on Tuesday\, November 28th\, and we will meet from 1pm to 2:30pm in the Parish Hall.  On Tuesdays November 28th\, December 5th\, December 12th\, and December 19th we will read and discuss Rowan Williams’ Being Christian: Baptism\, Bible\, Eucharist\, Prayer.  This little gem of a book gets right to the heart of the Christian experience in four theologically profound chapters.  Rowan Williams served as the 104th Archbishop of Canterbury from 2002 to 2012 and continues to serve the Church through teaching and writing.
URL:https://westoverepiscopalchurch.org/event/advent-book-study/
LOCATION:Westover Episcopal Church\, 6401 John Tyler Hwy.\, Charles City\, VA\, 23030\, United States
END:VEVENT
BEGIN:VEVENT
DTSTART;TZID=America/New_York:20231129T090000
DTEND;TZID=America/New_York:20231129T110000
DTSTAMP:20260425T094726
CREATED:20230113T145846Z
LAST-MODIFIED:20230113T145846Z
UID:10000956-1701248400-1701255600@westoverepiscopalchurch.org
SUMMARY:Meals on Wheels
DESCRIPTION:Meals On Wheels (MOW) serves hot\, nutritious meals to the homebound elderly and/or disabled Monday through Friday.
URL:https://westoverepiscopalchurch.org/event/meals-on-wheels/2023-11-29/
END:VEVENT
BEGIN:VEVENT
DTSTART;TZID=America/New_York:20231130T090000
DTEND;TZID=America/New_York:20231130T110000
DTSTAMP:20260425T094726
CREATED:20230113T145846Z
LAST-MODIFIED:20230113T145846Z
UID:10000957-1701334800-1701342000@westoverepiscopalchurch.org
SUMMARY:Meals on Wheels
DESCRIPTION:Meals On Wheels (MOW) serves hot\, nutritious meals to the homebound elderly and/or disabled Monday through Friday.
URL:https://westoverepiscopalchurch.org/event/meals-on-wheels/2023-11-30/
END:VEVENT
BEGIN:VEVENT
DTSTART;TZID=America/New_York:20231130T100000
DTEND;TZID=America/New_York:20231130T110000
DTSTAMP:20260425T094726
CREATED:20230712T204456Z
LAST-MODIFIED:20230712T204456Z
UID:10001107-1701338400-1701342000@westoverepiscopalchurch.org
SUMMARY:Gentle Yoga with Rev. Becky
DESCRIPTION:
URL:https://westoverepiscopalchurch.org/event/gentle-yoga-with-rev-becky-3/2023-11-30/
END:VEVENT
BEGIN:VEVENT
DTSTART;TZID=America/New_York:20231201T090000
DTEND;TZID=America/New_York:20231201T110000
DTSTAMP:20260425T094726
CREATED:20230113T145846Z
LAST-MODIFIED:20230113T145846Z
UID:10000958-1701421200-1701428400@westoverepiscopalchurch.org
SUMMARY:Meals on Wheels
DESCRIPTION:Meals On Wheels (MOW) serves hot\, nutritious meals to the homebound elderly and/or disabled Monday through Friday.
URL:https://westoverepiscopalchurch.org/event/meals-on-wheels/2023-12-01/
END:VEVENT
BEGIN:VEVENT
DTSTART;TZID=America/New_York:20231203T100000
DTEND;TZID=America/New_York:20231203T110000
DTSTAMP:20260425T094726
CREATED:20230925T204833Z
LAST-MODIFIED:20230925T204833Z
UID:10001170-1701597600-1701601200@westoverepiscopalchurch.org
SUMMARY:First Sunday of Advent Service
DESCRIPTION:
URL:https://westoverepiscopalchurch.org/event/first-sunday-of-advent-service/
LOCATION:Westover Episcopal Church\, 6401 John Tyler Hwy.\, Charles City\, VA\, 23030\, United States
END:VEVENT
BEGIN:VEVENT
DTSTART;TZID=America/New_York:20231204T090000
DTEND;TZID=America/New_York:20231204T110000
DTSTAMP:20260425T094726
CREATED:20230113T145846Z
LAST-MODIFIED:20230113T145846Z
UID:10000959-1701680400-1701687600@westoverepiscopalchurch.org
SUMMARY:Meals on Wheels
DESCRIPTION:Meals On Wheels (MOW) serves hot\, nutritious meals to the homebound elderly and/or disabled Monday through Friday.
URL:https://westoverepiscopalchurch.org/event/meals-on-wheels/2023-12-04/
END:VEVENT
BEGIN:VEVENT
DTSTART;TZID=America/New_York:20231205T090000
DTEND;TZID=America/New_York:20231205T110000
DTSTAMP:20260425T094726
CREATED:20230113T145846Z
LAST-MODIFIED:20230113T145846Z
UID:10000960-1701766800-1701774000@westoverepiscopalchurch.org
SUMMARY:Meals on Wheels
DESCRIPTION:Meals On Wheels (MOW) serves hot\, nutritious meals to the homebound elderly and/or disabled Monday through Friday.
URL:https://westoverepiscopalchurch.org/event/meals-on-wheels/2023-12-05/
END:VEVENT
BEGIN:VEVENT
DTSTART;TZID=America/New_York:20231205T130000
DTEND;TZID=America/New_York:20231205T143000
DTSTAMP:20260425T094726
CREATED:20231125T223825Z
LAST-MODIFIED:20231125T224627Z
UID:10001176-1701781200-1701786600@westoverepiscopalchurch.org
SUMMARY:Advent Book Study
DESCRIPTION:Our Advent Book Study will begin on Tuesday\, November 28th\, and we will meet from 1pm to 2:30pm in the Parish Hall.  On Tuesdays November 28th\, December 5th\, December 12th\, and December 19th we will read and discuss Rowan Williams’ Being Christian: Baptism\, Bible\, Eucharist\, Prayer.  This little gem of a book gets right to the heart of the Christian experience in four theologically profound chapters.  Rowan Williams served as the 104th Archbishop of Canterbury from 2002 to 2012 and continues to serve the Church through teaching and writing.
URL:https://westoverepiscopalchurch.org/event/advent-book-study-2/
LOCATION:Westover Episcopal Church\, 6401 John Tyler Hwy.\, Charles City\, VA\, 23030\, United States
END:VEVENT
BEGIN:VEVENT
DTSTART;TZID=America/New_York:20231206T090000
DTEND;TZID=America/New_York:20231206T110000
DTSTAMP:20260425T094726
CREATED:20230113T145846Z
LAST-MODIFIED:20230113T145846Z
UID:10000961-1701853200-1701860400@westoverepiscopalchurch.org
SUMMARY:Meals on Wheels
DESCRIPTION:Meals On Wheels (MOW) serves hot\, nutritious meals to the homebound elderly and/or disabled Monday through Friday.
URL:https://westoverepiscopalchurch.org/event/meals-on-wheels/2023-12-06/
END:VEVENT
BEGIN:VEVENT
DTSTART;TZID=America/New_York:20231207T090000
DTEND;TZID=America/New_York:20231207T110000
DTSTAMP:20260425T094726
CREATED:20230113T145846Z
LAST-MODIFIED:20230113T145846Z
UID:10000962-1701939600-1701946800@westoverepiscopalchurch.org
SUMMARY:Meals on Wheels
DESCRIPTION:Meals On Wheels (MOW) serves hot\, nutritious meals to the homebound elderly and/or disabled Monday through Friday.
URL:https://westoverepiscopalchurch.org/event/meals-on-wheels/2023-12-07/
END:VEVENT
BEGIN:VEVENT
DTSTART;TZID=America/New_York:20231207T100000
DTEND;TZID=America/New_York:20231207T110000
DTSTAMP:20260425T094726
CREATED:20230712T204456Z
LAST-MODIFIED:20230712T204456Z
UID:10001108-1701943200-1701946800@westoverepiscopalchurch.org
SUMMARY:Gentle Yoga with Rev. Becky
DESCRIPTION:
URL:https://westoverepiscopalchurch.org/event/gentle-yoga-with-rev-becky-3/2023-12-07/
END:VEVENT
BEGIN:VEVENT
DTSTART;TZID=America/New_York:20231208T090000
DTEND;TZID=America/New_York:20231208T110000
DTSTAMP:20260425T094726
CREATED:20230113T145846Z
LAST-MODIFIED:20230113T145846Z
UID:10000963-1702026000-1702033200@westoverepiscopalchurch.org
SUMMARY:Meals on Wheels
DESCRIPTION:Meals On Wheels (MOW) serves hot\, nutritious meals to the homebound elderly and/or disabled Monday through Friday.
URL:https://westoverepiscopalchurch.org/event/meals-on-wheels/2023-12-08/
END:VEVENT
BEGIN:VEVENT
DTSTART;TZID=America/New_York:20231210T100000
DTEND;TZID=America/New_York:20231210T110000
DTSTAMP:20260425T094726
CREATED:20230925T204925Z
LAST-MODIFIED:20230925T204925Z
UID:10001171-1702202400-1702206000@westoverepiscopalchurch.org
SUMMARY:Second Sunday of Advent Service
DESCRIPTION:
URL:https://westoverepiscopalchurch.org/event/second-sunday-of-advent-service/
LOCATION:Westover Episcopal Church\, 6401 John Tyler Hwy.\, Charles City\, VA\, 23030\, United States
END:VEVENT
BEGIN:VEVENT
DTSTART;TZID=America/New_York:20231211T090000
DTEND;TZID=America/New_York:20231211T110000
DTSTAMP:20260425T094726
CREATED:20230113T145846Z
LAST-MODIFIED:20230113T145846Z
UID:10000964-1702285200-1702292400@westoverepiscopalchurch.org
SUMMARY:Meals on Wheels
DESCRIPTION:Meals On Wheels (MOW) serves hot\, nutritious meals to the homebound elderly and/or disabled Monday through Friday.
URL:https://westoverepiscopalchurch.org/event/meals-on-wheels/2023-12-11/
END:VEVENT
BEGIN:VEVENT
DTSTART;TZID=America/New_York:20231212T090000
DTEND;TZID=America/New_York:20231212T110000
DTSTAMP:20260425T094726
CREATED:20230113T145846Z
LAST-MODIFIED:20230113T145846Z
UID:10000965-1702371600-1702378800@westoverepiscopalchurch.org
SUMMARY:Meals on Wheels
DESCRIPTION:Meals On Wheels (MOW) serves hot\, nutritious meals to the homebound elderly and/or disabled Monday through Friday.
URL:https://westoverepiscopalchurch.org/event/meals-on-wheels/2023-12-12/
END:VEVENT
BEGIN:VEVENT
DTSTART;TZID=America/New_York:20231212T130000
DTEND;TZID=America/New_York:20231212T143000
DTSTAMP:20260425T094726
CREATED:20231125T224213Z
LAST-MODIFIED:20231125T224213Z
UID:10001177-1702386000-1702391400@westoverepiscopalchurch.org
SUMMARY:Advent Book Study
DESCRIPTION:Our Advent Book Study will begin on Tuesday\, November 28th\, and we will meet from 1pm to 2:30pm in the Parish Hall.  On Tuesdays November 28th\, December 5th\, December 12th\, and December 19th we will read and discuss Rowan Williams’ Being Christian: Baptism\, Bible\, Eucharist\, Prayer.  This little gem of a book gets right to the heart of the Christian experience in four theologically profound chapters.  Rowan Williams served as the 104th Archbishop of Canterbury from 2002 to 2012 and continues to serve the Church through teaching and writing.
URL:https://westoverepiscopalchurch.org/event/advent-book-study-3/
LOCATION:Westover Episcopal Church\, 6401 John Tyler Hwy.\, Charles City\, VA\, 23030\, United States
END:VEVENT
BEGIN:VEVENT
DTSTART;TZID=America/New_York:20231213T090000
DTEND;TZID=America/New_York:20231213T110000
DTSTAMP:20260425T094726
CREATED:20230113T145846Z
LAST-MODIFIED:20230113T145846Z
UID:10000966-1702458000-1702465200@westoverepiscopalchurch.org
SUMMARY:Meals on Wheels
DESCRIPTION:Meals On Wheels (MOW) serves hot\, nutritious meals to the homebound elderly and/or disabled Monday through Friday.
URL:https://westoverepiscopalchurch.org/event/meals-on-wheels/2023-12-13/
END:VEVENT
BEGIN:VEVENT
DTSTART;TZID=America/New_York:20231214T090000
DTEND;TZID=America/New_York:20231214T110000
DTSTAMP:20260425T094726
CREATED:20230113T145846Z
LAST-MODIFIED:20230113T145846Z
UID:10000967-1702544400-1702551600@westoverepiscopalchurch.org
SUMMARY:Meals on Wheels
DESCRIPTION:Meals On Wheels (MOW) serves hot\, nutritious meals to the homebound elderly and/or disabled Monday through Friday.
URL:https://westoverepiscopalchurch.org/event/meals-on-wheels/2023-12-14/
END:VEVENT
BEGIN:VEVENT
DTSTART;TZID=America/New_York:20231214T100000
DTEND;TZID=America/New_York:20231214T110000
DTSTAMP:20260425T094726
CREATED:20230712T204456Z
LAST-MODIFIED:20230712T204456Z
UID:10001109-1702548000-1702551600@westoverepiscopalchurch.org
SUMMARY:Gentle Yoga with Rev. Becky
DESCRIPTION:
URL:https://westoverepiscopalchurch.org/event/gentle-yoga-with-rev-becky-3/2023-12-14/
END:VEVENT
BEGIN:VEVENT
DTSTART;TZID=America/New_York:20231215T090000
DTEND;TZID=America/New_York:20231215T110000
DTSTAMP:20260425T094726
CREATED:20230113T145846Z
LAST-MODIFIED:20230113T145846Z
UID:10000968-1702630800-1702638000@westoverepiscopalchurch.org
SUMMARY:Meals on Wheels
DESCRIPTION:Meals On Wheels (MOW) serves hot\, nutritious meals to the homebound elderly and/or disabled Monday through Friday.
URL:https://westoverepiscopalchurch.org/event/meals-on-wheels/2023-12-15/
END:VEVENT
BEGIN:VEVENT
DTSTART;TZID=America/New_York:20231217T100000
DTEND;TZID=America/New_York:20231217T110000
DTSTAMP:20260425T094726
CREATED:20230925T205012Z
LAST-MODIFIED:20230925T205012Z
UID:10001172-1702807200-1702810800@westoverepiscopalchurch.org
SUMMARY:Third Sunday of Advent Service
DESCRIPTION:
URL:https://westoverepiscopalchurch.org/event/third-sunday-of-advent-service/
LOCATION:Westover Episcopal Church\, 6401 John Tyler Hwy.\, Charles City\, VA\, 23030\, United States
END:VEVENT
BEGIN:VEVENT
DTSTART;TZID=America/New_York:20231218T090000
DTEND;TZID=America/New_York:20231218T110000
DTSTAMP:20260425T094726
CREATED:20230113T145846Z
LAST-MODIFIED:20230113T145846Z
UID:10000969-1702890000-1702897200@westoverepiscopalchurch.org
SUMMARY:Meals on Wheels
DESCRIPTION:Meals On Wheels (MOW) serves hot\, nutritious meals to the homebound elderly and/or disabled Monday through Friday.
URL:https://westoverepiscopalchurch.org/event/meals-on-wheels/2023-12-18/
END:VEVENT
BEGIN:VEVENT
DTSTART;TZID=America/New_York:20231219T090000
DTEND;TZID=America/New_York:20231219T110000
DTSTAMP:20260425T094726
CREATED:20230113T145846Z
LAST-MODIFIED:20230113T145846Z
UID:10000970-1702976400-1702983600@westoverepiscopalchurch.org
SUMMARY:Meals on Wheels
DESCRIPTION:Meals On Wheels (MOW) serves hot\, nutritious meals to the homebound elderly and/or disabled Monday through Friday.
URL:https://westoverepiscopalchurch.org/event/meals-on-wheels/2023-12-19/
END:VEVENT
BEGIN:VEVENT
DTSTART;TZID=America/New_York:20231219T130000
DTEND;TZID=America/New_York:20231219T143000
DTSTAMP:20260425T094726
CREATED:20231125T224319Z
LAST-MODIFIED:20231125T224319Z
UID:10001178-1702990800-1702996200@westoverepiscopalchurch.org
SUMMARY:Advent Book Study
DESCRIPTION:Our Advent Book Study will begin on Tuesday\, November 28th\, and we will meet from 1pm to 2:30pm in the Parish Hall.  On Tuesdays November 28th\, December 5th\, December 12th\, and December 19th we will read and discuss Rowan Williams’ Being Christian: Baptism\, Bible\, Eucharist\, Prayer.  This little gem of a book gets right to the heart of the Christian experience in four theologically profound chapters.  Rowan Williams served as the 104th Archbishop of Canterbury from 2002 to 2012 and continues to serve the Church through teaching and writing.
URL:https://westoverepiscopalchurch.org/event/advent-book-study-4/
END:VEVENT
BEGIN:VEVENT
DTSTART;TZID=America/New_York:20231220T090000
DTEND;TZID=America/New_York:20231220T110000
DTSTAMP:20260425T094726
CREATED:20230113T145846Z
LAST-MODIFIED:20230113T145846Z
UID:10000971-1703062800-1703070000@westoverepiscopalchurch.org
SUMMARY:Meals on Wheels
DESCRIPTION:Meals On Wheels (MOW) serves hot\, nutritious meals to the homebound elderly and/or disabled Monday through Friday.
URL:https://westoverepiscopalchurch.org/event/meals-on-wheels/2023-12-20/
END:VEVENT
BEGIN:VEVENT
DTSTART;TZID=America/New_York:20231221T090000
DTEND;TZID=America/New_York:20231221T110000
DTSTAMP:20260425T094726
CREATED:20230113T145846Z
LAST-MODIFIED:20230113T145846Z
UID:10000972-1703149200-1703156400@westoverepiscopalchurch.org
SUMMARY:Meals on Wheels
DESCRIPTION:Meals On Wheels (MOW) serves hot\, nutritious meals to the homebound elderly and/or disabled Monday through Friday.
URL:https://westoverepiscopalchurch.org/event/meals-on-wheels/2023-12-21/
END:VEVENT
BEGIN:VEVENT
DTSTART;TZID=America/New_York:20231221T100000
DTEND;TZID=America/New_York:20231221T110000
DTSTAMP:20260425T094726
CREATED:20230712T204456Z
LAST-MODIFIED:20230712T204456Z
UID:10001110-1703152800-1703156400@westoverepiscopalchurch.org
SUMMARY:Gentle Yoga with Rev. Becky
DESCRIPTION:
URL:https://westoverepiscopalchurch.org/event/gentle-yoga-with-rev-becky-3/2023-12-21/
END:VEVENT
END:VCALENDAR