BEGIN:VCALENDAR
VERSION:2.0
PRODID:-//Westover Episcopal Church - Charles City, VA - ECPv6.15.20//NONSGML v1.0//EN
CALSCALE:GREGORIAN
METHOD:PUBLISH
X-WR-CALNAME:Westover Episcopal Church - Charles City, VA
X-ORIGINAL-URL:https://westoverepiscopalchurch.org
X-WR-CALDESC:Events for Westover Episcopal Church - Charles City, VA
REFRESH-INTERVAL;VALUE=DURATION:PT1H
X-Robots-Tag:noindex
X-PUBLISHED-TTL:PT1H
BEGIN:VTIMEZONE
TZID:America/New_York
BEGIN:DAYLIGHT
TZOFFSETFROM:-0500
TZOFFSETTO:-0400
TZNAME:EDT
DTSTART:20230312T070000
END:DAYLIGHT
BEGIN:STANDARD
TZOFFSETFROM:-0400
TZOFFSETTO:-0500
TZNAME:EST
DTSTART:20231105T060000
END:STANDARD
BEGIN:DAYLIGHT
TZOFFSETFROM:-0500
TZOFFSETTO:-0400
TZNAME:EDT
DTSTART:20240310T070000
END:DAYLIGHT
BEGIN:STANDARD
TZOFFSETFROM:-0400
TZOFFSETTO:-0500
TZNAME:EST
DTSTART:20241103T060000
END:STANDARD
BEGIN:DAYLIGHT
TZOFFSETFROM:-0500
TZOFFSETTO:-0400
TZNAME:EDT
DTSTART:20250309T070000
END:DAYLIGHT
BEGIN:STANDARD
TZOFFSETFROM:-0400
TZOFFSETTO:-0500
TZNAME:EST
DTSTART:20251102T060000
END:STANDARD
END:VTIMEZONE
BEGIN:VEVENT
DTSTART;TZID=America/New_York:20240220T090000
DTEND;TZID=America/New_York:20240220T110000
DTSTAMP:20260425T091440
CREATED:20230113T145846Z
LAST-MODIFIED:20230113T145846Z
UID:10002607-1708419600-1708426800@westoverepiscopalchurch.org
SUMMARY:Meals on Wheels
DESCRIPTION:Meals On Wheels (MOW) serves hot\, nutritious meals to the homebound elderly and/or disabled Monday through Friday.
URL:https://westoverepiscopalchurch.org/event/meals-on-wheels/2024-02-20/
END:VEVENT
BEGIN:VEVENT
DTSTART;TZID=America/New_York:20240220T090000
DTEND;TZID=America/New_York:20240220T110000
DTSTAMP:20260425T091440
CREATED:20240105T180517Z
LAST-MODIFIED:20240105T180520Z
UID:10001221-1708419600-1708426800@westoverepiscopalchurch.org
SUMMARY:Meals on Wheels
DESCRIPTION:
URL:https://westoverepiscopalchurch.org/event/meals-on-wheels-3-2/2024-02-20/
END:VEVENT
BEGIN:VEVENT
DTSTART;TZID=America/New_York:20240221T090000
DTEND;TZID=America/New_York:20240221T110000
DTSTAMP:20260425T091440
CREATED:20230113T145846Z
LAST-MODIFIED:20230113T145846Z
UID:10002608-1708506000-1708513200@westoverepiscopalchurch.org
SUMMARY:Meals on Wheels
DESCRIPTION:Meals On Wheels (MOW) serves hot\, nutritious meals to the homebound elderly and/or disabled Monday through Friday.
URL:https://westoverepiscopalchurch.org/event/meals-on-wheels/2024-02-21/
END:VEVENT
BEGIN:VEVENT
DTSTART;TZID=America/New_York:20240221T090000
DTEND;TZID=America/New_York:20240221T110000
DTSTAMP:20260425T091440
CREATED:20240105T180517Z
LAST-MODIFIED:20240105T180520Z
UID:10001222-1708506000-1708513200@westoverepiscopalchurch.org
SUMMARY:Meals on Wheels
DESCRIPTION:
URL:https://westoverepiscopalchurch.org/event/meals-on-wheels-3-2/2024-02-21/
END:VEVENT
BEGIN:VEVENT
DTSTART;TZID=America/New_York:20240222T090000
DTEND;TZID=America/New_York:20240222T110000
DTSTAMP:20260425T091440
CREATED:20230113T145846Z
LAST-MODIFIED:20230113T145846Z
UID:10002609-1708592400-1708599600@westoverepiscopalchurch.org
SUMMARY:Meals on Wheels
DESCRIPTION:Meals On Wheels (MOW) serves hot\, nutritious meals to the homebound elderly and/or disabled Monday through Friday.
URL:https://westoverepiscopalchurch.org/event/meals-on-wheels/2024-02-22/
END:VEVENT
BEGIN:VEVENT
DTSTART;TZID=America/New_York:20240222T090000
DTEND;TZID=America/New_York:20240222T110000
DTSTAMP:20260425T091440
CREATED:20240105T180517Z
LAST-MODIFIED:20240105T180520Z
UID:10001223-1708592400-1708599600@westoverepiscopalchurch.org
SUMMARY:Meals on Wheels
DESCRIPTION:
URL:https://westoverepiscopalchurch.org/event/meals-on-wheels-3-2/2024-02-22/
END:VEVENT
BEGIN:VEVENT
DTSTART;TZID=America/New_York:20240222T100000
DTEND;TZID=America/New_York:20240222T110000
DTSTAMP:20260425T091440
CREATED:20230712T204456Z
LAST-MODIFIED:20230712T204456Z
UID:10001119-1708596000-1708599600@westoverepiscopalchurch.org
SUMMARY:Gentle Yoga with Rev. Becky
DESCRIPTION:
URL:https://westoverepiscopalchurch.org/event/gentle-yoga-with-rev-becky-3/2024-02-22/
END:VEVENT
BEGIN:VEVENT
DTSTART;TZID=America/New_York:20240223T090000
DTEND;TZID=America/New_York:20240223T110000
DTSTAMP:20260425T091440
CREATED:20230113T145846Z
LAST-MODIFIED:20230113T145846Z
UID:10002610-1708678800-1708686000@westoverepiscopalchurch.org
SUMMARY:Meals on Wheels
DESCRIPTION:Meals On Wheels (MOW) serves hot\, nutritious meals to the homebound elderly and/or disabled Monday through Friday.
URL:https://westoverepiscopalchurch.org/event/meals-on-wheels/2024-02-23/
END:VEVENT
BEGIN:VEVENT
DTSTART;TZID=America/New_York:20240223T090000
DTEND;TZID=America/New_York:20240223T110000
DTSTAMP:20260425T091440
CREATED:20240105T180517Z
LAST-MODIFIED:20240105T180520Z
UID:10001224-1708678800-1708686000@westoverepiscopalchurch.org
SUMMARY:Meals on Wheels
DESCRIPTION:
URL:https://westoverepiscopalchurch.org/event/meals-on-wheels-3-2/2024-02-23/
END:VEVENT
BEGIN:VEVENT
DTSTART;TZID=America/New_York:20240225T100000
DTEND;TZID=America/New_York:20240225T110000
DTSTAMP:20260425T091440
CREATED:20240105T180118Z
LAST-MODIFIED:20240105T180118Z
UID:10001188-1708855200-1708858800@westoverepiscopalchurch.org
SUMMARY:Second Sunday in Lent Service
DESCRIPTION:
URL:https://westoverepiscopalchurch.org/event/second-sunday-in-lent-service/
LOCATION:Westover Episcopal Church\, 6401 John Tyler Hwy.\, Charles City\, VA\, 23030\, United States
END:VEVENT
BEGIN:VEVENT
DTSTART;TZID=America/New_York:20240226T090000
DTEND;TZID=America/New_York:20240226T110000
DTSTAMP:20260425T091440
CREATED:20230113T145846Z
LAST-MODIFIED:20230113T145846Z
UID:10002611-1708938000-1708945200@westoverepiscopalchurch.org
SUMMARY:Meals on Wheels
DESCRIPTION:Meals On Wheels (MOW) serves hot\, nutritious meals to the homebound elderly and/or disabled Monday through Friday.
URL:https://westoverepiscopalchurch.org/event/meals-on-wheels/2024-02-26/
END:VEVENT
BEGIN:VEVENT
DTSTART;TZID=America/New_York:20240226T090000
DTEND;TZID=America/New_York:20240226T110000
DTSTAMP:20260425T091440
CREATED:20240105T180517Z
LAST-MODIFIED:20240105T180520Z
UID:10001225-1708938000-1708945200@westoverepiscopalchurch.org
SUMMARY:Meals on Wheels
DESCRIPTION:
URL:https://westoverepiscopalchurch.org/event/meals-on-wheels-3-2/2024-02-26/
END:VEVENT
BEGIN:VEVENT
DTSTART;TZID=America/New_York:20240227T090000
DTEND;TZID=America/New_York:20240227T110000
DTSTAMP:20260425T091440
CREATED:20230113T145846Z
LAST-MODIFIED:20230113T145846Z
UID:10002612-1709024400-1709031600@westoverepiscopalchurch.org
SUMMARY:Meals on Wheels
DESCRIPTION:Meals On Wheels (MOW) serves hot\, nutritious meals to the homebound elderly and/or disabled Monday through Friday.
URL:https://westoverepiscopalchurch.org/event/meals-on-wheels/2024-02-27/
END:VEVENT
BEGIN:VEVENT
DTSTART;TZID=America/New_York:20240227T090000
DTEND;TZID=America/New_York:20240227T110000
DTSTAMP:20260425T091440
CREATED:20240105T180517Z
LAST-MODIFIED:20240105T180520Z
UID:10001226-1709024400-1709031600@westoverepiscopalchurch.org
SUMMARY:Meals on Wheels
DESCRIPTION:
URL:https://westoverepiscopalchurch.org/event/meals-on-wheels-3-2/2024-02-27/
END:VEVENT
BEGIN:VEVENT
DTSTART;TZID=America/New_York:20240228T090000
DTEND;TZID=America/New_York:20240228T110000
DTSTAMP:20260425T091440
CREATED:20230113T145846Z
LAST-MODIFIED:20230113T145846Z
UID:10002613-1709110800-1709118000@westoverepiscopalchurch.org
SUMMARY:Meals on Wheels
DESCRIPTION:Meals On Wheels (MOW) serves hot\, nutritious meals to the homebound elderly and/or disabled Monday through Friday.
URL:https://westoverepiscopalchurch.org/event/meals-on-wheels/2024-02-28/
END:VEVENT
BEGIN:VEVENT
DTSTART;TZID=America/New_York:20240228T090000
DTEND;TZID=America/New_York:20240228T110000
DTSTAMP:20260425T091440
CREATED:20240105T180517Z
LAST-MODIFIED:20240105T180520Z
UID:10001227-1709110800-1709118000@westoverepiscopalchurch.org
SUMMARY:Meals on Wheels
DESCRIPTION:
URL:https://westoverepiscopalchurch.org/event/meals-on-wheels-3-2/2024-02-28/
END:VEVENT
BEGIN:VEVENT
DTSTART;TZID=America/New_York:20240229T090000
DTEND;TZID=America/New_York:20240229T110000
DTSTAMP:20260425T091440
CREATED:20230113T145846Z
LAST-MODIFIED:20230113T145846Z
UID:10002614-1709197200-1709204400@westoverepiscopalchurch.org
SUMMARY:Meals on Wheels
DESCRIPTION:Meals On Wheels (MOW) serves hot\, nutritious meals to the homebound elderly and/or disabled Monday through Friday.
URL:https://westoverepiscopalchurch.org/event/meals-on-wheels/2024-02-29/
END:VEVENT
BEGIN:VEVENT
DTSTART;TZID=America/New_York:20240229T090000
DTEND;TZID=America/New_York:20240229T110000
DTSTAMP:20260425T091440
CREATED:20240105T180517Z
LAST-MODIFIED:20240105T180520Z
UID:10001228-1709197200-1709204400@westoverepiscopalchurch.org
SUMMARY:Meals on Wheels
DESCRIPTION:
URL:https://westoverepiscopalchurch.org/event/meals-on-wheels-3-2/2024-02-29/
END:VEVENT
BEGIN:VEVENT
DTSTART;TZID=America/New_York:20240229T100000
DTEND;TZID=America/New_York:20240229T110000
DTSTAMP:20260425T091440
CREATED:20230712T204456Z
LAST-MODIFIED:20230712T204456Z
UID:10001120-1709200800-1709204400@westoverepiscopalchurch.org
SUMMARY:Gentle Yoga with Rev. Becky
DESCRIPTION:
URL:https://westoverepiscopalchurch.org/event/gentle-yoga-with-rev-becky-3/2024-02-29/
END:VEVENT
BEGIN:VEVENT
DTSTART;TZID=America/New_York:20240301T090000
DTEND;TZID=America/New_York:20240301T110000
DTSTAMP:20260425T091440
CREATED:20230113T145846Z
LAST-MODIFIED:20230113T145846Z
UID:10002615-1709283600-1709290800@westoverepiscopalchurch.org
SUMMARY:Meals on Wheels
DESCRIPTION:Meals On Wheels (MOW) serves hot\, nutritious meals to the homebound elderly and/or disabled Monday through Friday.
URL:https://westoverepiscopalchurch.org/event/meals-on-wheels/2024-03-01/
END:VEVENT
BEGIN:VEVENT
DTSTART;TZID=America/New_York:20240301T090000
DTEND;TZID=America/New_York:20240301T110000
DTSTAMP:20260425T091440
CREATED:20240105T180517Z
LAST-MODIFIED:20240105T180520Z
UID:10001229-1709283600-1709290800@westoverepiscopalchurch.org
SUMMARY:Meals on Wheels
DESCRIPTION:
URL:https://westoverepiscopalchurch.org/event/meals-on-wheels-3-2/2024-03-01/
END:VEVENT
BEGIN:VEVENT
DTSTART;TZID=America/New_York:20240303T100000
DTEND;TZID=America/New_York:20240303T110000
DTSTAMP:20260425T091440
CREATED:20240307T150324Z
LAST-MODIFIED:20240307T150324Z
UID:10001452-1709460000-1709463600@westoverepiscopalchurch.org
SUMMARY:Third Sunday in Lent Service
DESCRIPTION:
URL:https://westoverepiscopalchurch.org/event/third-sunday-in-lent-service/
LOCATION:Westover Episcopal Church\, 6401 John Tyler Hwy.\, Charles City\, VA\, 23030\, United States
END:VEVENT
BEGIN:VEVENT
DTSTART;TZID=America/New_York:20240304T090000
DTEND;TZID=America/New_York:20240304T110000
DTSTAMP:20260425T091440
CREATED:20230113T145846Z
LAST-MODIFIED:20230113T145846Z
UID:10002616-1709542800-1709550000@westoverepiscopalchurch.org
SUMMARY:Meals on Wheels
DESCRIPTION:Meals On Wheels (MOW) serves hot\, nutritious meals to the homebound elderly and/or disabled Monday through Friday.
URL:https://westoverepiscopalchurch.org/event/meals-on-wheels/2024-03-04/
END:VEVENT
BEGIN:VEVENT
DTSTART;TZID=America/New_York:20240304T090000
DTEND;TZID=America/New_York:20240304T110000
DTSTAMP:20260425T091440
CREATED:20240105T180517Z
LAST-MODIFIED:20240105T180520Z
UID:10001230-1709542800-1709550000@westoverepiscopalchurch.org
SUMMARY:Meals on Wheels
DESCRIPTION:
URL:https://westoverepiscopalchurch.org/event/meals-on-wheels-3-2/2024-03-04/
END:VEVENT
BEGIN:VEVENT
DTSTART;TZID=America/New_York:20240305T090000
DTEND;TZID=America/New_York:20240305T110000
DTSTAMP:20260425T091440
CREATED:20230113T145846Z
LAST-MODIFIED:20230113T145846Z
UID:10002617-1709629200-1709636400@westoverepiscopalchurch.org
SUMMARY:Meals on Wheels
DESCRIPTION:Meals On Wheels (MOW) serves hot\, nutritious meals to the homebound elderly and/or disabled Monday through Friday.
URL:https://westoverepiscopalchurch.org/event/meals-on-wheels/2024-03-05/
END:VEVENT
BEGIN:VEVENT
DTSTART;TZID=America/New_York:20240305T090000
DTEND;TZID=America/New_York:20240305T110000
DTSTAMP:20260425T091440
CREATED:20240105T180517Z
LAST-MODIFIED:20240105T180520Z
UID:10001231-1709629200-1709636400@westoverepiscopalchurch.org
SUMMARY:Meals on Wheels
DESCRIPTION:
URL:https://westoverepiscopalchurch.org/event/meals-on-wheels-3-2/2024-03-05/
END:VEVENT
BEGIN:VEVENT
DTSTART;TZID=America/New_York:20240306T090000
DTEND;TZID=America/New_York:20240306T110000
DTSTAMP:20260425T091440
CREATED:20230113T145846Z
LAST-MODIFIED:20230113T145846Z
UID:10002618-1709715600-1709722800@westoverepiscopalchurch.org
SUMMARY:Meals on Wheels
DESCRIPTION:Meals On Wheels (MOW) serves hot\, nutritious meals to the homebound elderly and/or disabled Monday through Friday.
URL:https://westoverepiscopalchurch.org/event/meals-on-wheels/2024-03-06/
END:VEVENT
BEGIN:VEVENT
DTSTART;TZID=America/New_York:20240306T090000
DTEND;TZID=America/New_York:20240306T110000
DTSTAMP:20260425T091440
CREATED:20240105T180517Z
LAST-MODIFIED:20240105T180520Z
UID:10001232-1709715600-1709722800@westoverepiscopalchurch.org
SUMMARY:Meals on Wheels
DESCRIPTION:
URL:https://westoverepiscopalchurch.org/event/meals-on-wheels-3-2/2024-03-06/
END:VEVENT
BEGIN:VEVENT
DTSTART;TZID=America/New_York:20240307T090000
DTEND;TZID=America/New_York:20240307T110000
DTSTAMP:20260425T091440
CREATED:20230113T145846Z
LAST-MODIFIED:20230113T145846Z
UID:10002619-1709802000-1709809200@westoverepiscopalchurch.org
SUMMARY:Meals on Wheels
DESCRIPTION:Meals On Wheels (MOW) serves hot\, nutritious meals to the homebound elderly and/or disabled Monday through Friday.
URL:https://westoverepiscopalchurch.org/event/meals-on-wheels/2024-03-07/
END:VEVENT
BEGIN:VEVENT
DTSTART;TZID=America/New_York:20240307T090000
DTEND;TZID=America/New_York:20240307T110000
DTSTAMP:20260425T091440
CREATED:20240105T180517Z
LAST-MODIFIED:20240105T180520Z
UID:10001233-1709802000-1709809200@westoverepiscopalchurch.org
SUMMARY:Meals on Wheels
DESCRIPTION:
URL:https://westoverepiscopalchurch.org/event/meals-on-wheels-3-2/2024-03-07/
END:VEVENT
END:VCALENDAR