BEGIN:VCALENDAR
VERSION:2.0
PRODID:-//Westover Episcopal Church - Charles City, VA - ECPv6.15.20//NONSGML v1.0//EN
CALSCALE:GREGORIAN
METHOD:PUBLISH
X-WR-CALNAME:Westover Episcopal Church - Charles City, VA
X-ORIGINAL-URL:https://westoverepiscopalchurch.org
X-WR-CALDESC:Events for Westover Episcopal Church - Charles City, VA
REFRESH-INTERVAL;VALUE=DURATION:PT1H
X-Robots-Tag:noindex
X-PUBLISHED-TTL:PT1H
BEGIN:VTIMEZONE
TZID:America/New_York
BEGIN:DAYLIGHT
TZOFFSETFROM:-0500
TZOFFSETTO:-0400
TZNAME:EDT
DTSTART:20270314T070000
END:DAYLIGHT
BEGIN:STANDARD
TZOFFSETFROM:-0400
TZOFFSETTO:-0500
TZNAME:EST
DTSTART:20271107T060000
END:STANDARD
BEGIN:DAYLIGHT
TZOFFSETFROM:-0500
TZOFFSETTO:-0400
TZNAME:EDT
DTSTART:20280312T070000
END:DAYLIGHT
BEGIN:STANDARD
TZOFFSETFROM:-0400
TZOFFSETTO:-0500
TZNAME:EST
DTSTART:20281105T060000
END:STANDARD
BEGIN:DAYLIGHT
TZOFFSETFROM:-0500
TZOFFSETTO:-0400
TZNAME:EDT
DTSTART:20290311T070000
END:DAYLIGHT
BEGIN:STANDARD
TZOFFSETFROM:-0400
TZOFFSETTO:-0500
TZNAME:EST
DTSTART:20291104T060000
END:STANDARD
BEGIN:DAYLIGHT
TZOFFSETFROM:-0500
TZOFFSETTO:-0400
TZNAME:EDT
DTSTART:20300310T070000
END:DAYLIGHT
BEGIN:STANDARD
TZOFFSETFROM:-0400
TZOFFSETTO:-0500
TZNAME:EST
DTSTART:20301103T060000
END:STANDARD
END:VTIMEZONE
BEGIN:VEVENT
DTSTART;TZID=America/New_York:20281226T090000
DTEND;TZID=America/New_York:20281226T110000
DTSTAMP:20260425T154232
CREATED:20230113T145846Z
LAST-MODIFIED:20230113T145846Z
UID:10003872-1861434000-1861441200@westoverepiscopalchurch.org
SUMMARY:Meals on Wheels
DESCRIPTION:Meals On Wheels (MOW) serves hot\, nutritious meals to the homebound elderly and/or disabled Monday through Friday.
URL:https://westoverepiscopalchurch.org/event/meals-on-wheels/2028-12-26/
END:VEVENT
BEGIN:VEVENT
DTSTART;TZID=America/New_York:20281227T090000
DTEND;TZID=America/New_York:20281227T110000
DTSTAMP:20260425T154232
CREATED:20230113T145846Z
LAST-MODIFIED:20230113T145846Z
UID:10003873-1861520400-1861527600@westoverepiscopalchurch.org
SUMMARY:Meals on Wheels
DESCRIPTION:Meals On Wheels (MOW) serves hot\, nutritious meals to the homebound elderly and/or disabled Monday through Friday.
URL:https://westoverepiscopalchurch.org/event/meals-on-wheels/2028-12-27/
END:VEVENT
BEGIN:VEVENT
DTSTART;TZID=America/New_York:20281228T090000
DTEND;TZID=America/New_York:20281228T110000
DTSTAMP:20260425T154232
CREATED:20230113T145846Z
LAST-MODIFIED:20230113T145846Z
UID:10003874-1861606800-1861614000@westoverepiscopalchurch.org
SUMMARY:Meals on Wheels
DESCRIPTION:Meals On Wheels (MOW) serves hot\, nutritious meals to the homebound elderly and/or disabled Monday through Friday.
URL:https://westoverepiscopalchurch.org/event/meals-on-wheels/2028-12-28/
END:VEVENT
BEGIN:VEVENT
DTSTART;TZID=America/New_York:20281229T090000
DTEND;TZID=America/New_York:20281229T110000
DTSTAMP:20260425T154232
CREATED:20230113T145846Z
LAST-MODIFIED:20230113T145846Z
UID:10003875-1861693200-1861700400@westoverepiscopalchurch.org
SUMMARY:Meals on Wheels
DESCRIPTION:Meals On Wheels (MOW) serves hot\, nutritious meals to the homebound elderly and/or disabled Monday through Friday.
URL:https://westoverepiscopalchurch.org/event/meals-on-wheels/2028-12-29/
END:VEVENT
BEGIN:VEVENT
DTSTART;TZID=America/New_York:20290101T090000
DTEND;TZID=America/New_York:20290101T110000
DTSTAMP:20260425T154232
CREATED:20230113T145846Z
LAST-MODIFIED:20230113T145846Z
UID:10003876-1861952400-1861959600@westoverepiscopalchurch.org
SUMMARY:Meals on Wheels
DESCRIPTION:Meals On Wheels (MOW) serves hot\, nutritious meals to the homebound elderly and/or disabled Monday through Friday.
URL:https://westoverepiscopalchurch.org/event/meals-on-wheels/2029-01-01/
END:VEVENT
BEGIN:VEVENT
DTSTART;TZID=America/New_York:20290102T090000
DTEND;TZID=America/New_York:20290102T110000
DTSTAMP:20260425T154232
CREATED:20230113T145846Z
LAST-MODIFIED:20230113T145846Z
UID:10003877-1862038800-1862046000@westoverepiscopalchurch.org
SUMMARY:Meals on Wheels
DESCRIPTION:Meals On Wheels (MOW) serves hot\, nutritious meals to the homebound elderly and/or disabled Monday through Friday.
URL:https://westoverepiscopalchurch.org/event/meals-on-wheels/2029-01-02/
END:VEVENT
BEGIN:VEVENT
DTSTART;TZID=America/New_York:20290103T090000
DTEND;TZID=America/New_York:20290103T110000
DTSTAMP:20260425T154232
CREATED:20230113T145846Z
LAST-MODIFIED:20230113T145846Z
UID:10003878-1862125200-1862132400@westoverepiscopalchurch.org
SUMMARY:Meals on Wheels
DESCRIPTION:Meals On Wheels (MOW) serves hot\, nutritious meals to the homebound elderly and/or disabled Monday through Friday.
URL:https://westoverepiscopalchurch.org/event/meals-on-wheels/2029-01-03/
END:VEVENT
BEGIN:VEVENT
DTSTART;TZID=America/New_York:20290104T090000
DTEND;TZID=America/New_York:20290104T110000
DTSTAMP:20260425T154232
CREATED:20230113T145846Z
LAST-MODIFIED:20230113T145846Z
UID:10003879-1862211600-1862218800@westoverepiscopalchurch.org
SUMMARY:Meals on Wheels
DESCRIPTION:Meals On Wheels (MOW) serves hot\, nutritious meals to the homebound elderly and/or disabled Monday through Friday.
URL:https://westoverepiscopalchurch.org/event/meals-on-wheels/2029-01-04/
END:VEVENT
BEGIN:VEVENT
DTSTART;TZID=America/New_York:20290105T090000
DTEND;TZID=America/New_York:20290105T110000
DTSTAMP:20260425T154232
CREATED:20230113T145846Z
LAST-MODIFIED:20230113T145846Z
UID:10003880-1862298000-1862305200@westoverepiscopalchurch.org
SUMMARY:Meals on Wheels
DESCRIPTION:Meals On Wheels (MOW) serves hot\, nutritious meals to the homebound elderly and/or disabled Monday through Friday.
URL:https://westoverepiscopalchurch.org/event/meals-on-wheels/2029-01-05/
END:VEVENT
BEGIN:VEVENT
DTSTART;TZID=America/New_York:20290108T090000
DTEND;TZID=America/New_York:20290108T110000
DTSTAMP:20260425T154232
CREATED:20230113T145846Z
LAST-MODIFIED:20230113T145846Z
UID:10003881-1862557200-1862564400@westoverepiscopalchurch.org
SUMMARY:Meals on Wheels
DESCRIPTION:Meals On Wheels (MOW) serves hot\, nutritious meals to the homebound elderly and/or disabled Monday through Friday.
URL:https://westoverepiscopalchurch.org/event/meals-on-wheels/2029-01-08/
END:VEVENT
BEGIN:VEVENT
DTSTART;TZID=America/New_York:20290109T090000
DTEND;TZID=America/New_York:20290109T110000
DTSTAMP:20260425T154232
CREATED:20230113T145846Z
LAST-MODIFIED:20230113T145846Z
UID:10003882-1862643600-1862650800@westoverepiscopalchurch.org
SUMMARY:Meals on Wheels
DESCRIPTION:Meals On Wheels (MOW) serves hot\, nutritious meals to the homebound elderly and/or disabled Monday through Friday.
URL:https://westoverepiscopalchurch.org/event/meals-on-wheels/2029-01-09/
END:VEVENT
BEGIN:VEVENT
DTSTART;TZID=America/New_York:20290110T090000
DTEND;TZID=America/New_York:20290110T110000
DTSTAMP:20260425T154232
CREATED:20230113T145846Z
LAST-MODIFIED:20230113T145846Z
UID:10003883-1862730000-1862737200@westoverepiscopalchurch.org
SUMMARY:Meals on Wheels
DESCRIPTION:Meals On Wheels (MOW) serves hot\, nutritious meals to the homebound elderly and/or disabled Monday through Friday.
URL:https://westoverepiscopalchurch.org/event/meals-on-wheels/2029-01-10/
END:VEVENT
BEGIN:VEVENT
DTSTART;TZID=America/New_York:20290111T090000
DTEND;TZID=America/New_York:20290111T110000
DTSTAMP:20260425T154232
CREATED:20230113T145846Z
LAST-MODIFIED:20230113T145846Z
UID:10003884-1862816400-1862823600@westoverepiscopalchurch.org
SUMMARY:Meals on Wheels
DESCRIPTION:Meals On Wheels (MOW) serves hot\, nutritious meals to the homebound elderly and/or disabled Monday through Friday.
URL:https://westoverepiscopalchurch.org/event/meals-on-wheels/2029-01-11/
END:VEVENT
BEGIN:VEVENT
DTSTART;TZID=America/New_York:20290112T090000
DTEND;TZID=America/New_York:20290112T110000
DTSTAMP:20260425T154232
CREATED:20230113T145846Z
LAST-MODIFIED:20230113T145846Z
UID:10003885-1862902800-1862910000@westoverepiscopalchurch.org
SUMMARY:Meals on Wheels
DESCRIPTION:Meals On Wheels (MOW) serves hot\, nutritious meals to the homebound elderly and/or disabled Monday through Friday.
URL:https://westoverepiscopalchurch.org/event/meals-on-wheels/2029-01-12/
END:VEVENT
BEGIN:VEVENT
DTSTART;TZID=America/New_York:20290115T090000
DTEND;TZID=America/New_York:20290115T110000
DTSTAMP:20260425T154232
CREATED:20230113T145846Z
LAST-MODIFIED:20230113T145846Z
UID:10003886-1863162000-1863169200@westoverepiscopalchurch.org
SUMMARY:Meals on Wheels
DESCRIPTION:Meals On Wheels (MOW) serves hot\, nutritious meals to the homebound elderly and/or disabled Monday through Friday.
URL:https://westoverepiscopalchurch.org/event/meals-on-wheels/2029-01-15/
END:VEVENT
BEGIN:VEVENT
DTSTART;TZID=America/New_York:20290116T090000
DTEND;TZID=America/New_York:20290116T110000
DTSTAMP:20260425T154232
CREATED:20230113T145846Z
LAST-MODIFIED:20230113T145846Z
UID:10003887-1863248400-1863255600@westoverepiscopalchurch.org
SUMMARY:Meals on Wheels
DESCRIPTION:Meals On Wheels (MOW) serves hot\, nutritious meals to the homebound elderly and/or disabled Monday through Friday.
URL:https://westoverepiscopalchurch.org/event/meals-on-wheels/2029-01-16/
END:VEVENT
BEGIN:VEVENT
DTSTART;TZID=America/New_York:20290117T090000
DTEND;TZID=America/New_York:20290117T110000
DTSTAMP:20260425T154232
CREATED:20230113T145846Z
LAST-MODIFIED:20230113T145846Z
UID:10003888-1863334800-1863342000@westoverepiscopalchurch.org
SUMMARY:Meals on Wheels
DESCRIPTION:Meals On Wheels (MOW) serves hot\, nutritious meals to the homebound elderly and/or disabled Monday through Friday.
URL:https://westoverepiscopalchurch.org/event/meals-on-wheels/2029-01-17/
END:VEVENT
BEGIN:VEVENT
DTSTART;TZID=America/New_York:20290118T090000
DTEND;TZID=America/New_York:20290118T110000
DTSTAMP:20260425T154232
CREATED:20230113T145846Z
LAST-MODIFIED:20230113T145846Z
UID:10003889-1863421200-1863428400@westoverepiscopalchurch.org
SUMMARY:Meals on Wheels
DESCRIPTION:Meals On Wheels (MOW) serves hot\, nutritious meals to the homebound elderly and/or disabled Monday through Friday.
URL:https://westoverepiscopalchurch.org/event/meals-on-wheels/2029-01-18/
END:VEVENT
BEGIN:VEVENT
DTSTART;TZID=America/New_York:20290119T090000
DTEND;TZID=America/New_York:20290119T110000
DTSTAMP:20260425T154232
CREATED:20230113T145846Z
LAST-MODIFIED:20230113T145846Z
UID:10003890-1863507600-1863514800@westoverepiscopalchurch.org
SUMMARY:Meals on Wheels
DESCRIPTION:Meals On Wheels (MOW) serves hot\, nutritious meals to the homebound elderly and/or disabled Monday through Friday.
URL:https://westoverepiscopalchurch.org/event/meals-on-wheels/2029-01-19/
END:VEVENT
BEGIN:VEVENT
DTSTART;TZID=America/New_York:20290122T090000
DTEND;TZID=America/New_York:20290122T110000
DTSTAMP:20260425T154232
CREATED:20230113T145846Z
LAST-MODIFIED:20230113T145846Z
UID:10003891-1863766800-1863774000@westoverepiscopalchurch.org
SUMMARY:Meals on Wheels
DESCRIPTION:Meals On Wheels (MOW) serves hot\, nutritious meals to the homebound elderly and/or disabled Monday through Friday.
URL:https://westoverepiscopalchurch.org/event/meals-on-wheels/2029-01-22/
END:VEVENT
BEGIN:VEVENT
DTSTART;TZID=America/New_York:20290123T090000
DTEND;TZID=America/New_York:20290123T110000
DTSTAMP:20260425T154232
CREATED:20230113T145846Z
LAST-MODIFIED:20230113T145846Z
UID:10003892-1863853200-1863860400@westoverepiscopalchurch.org
SUMMARY:Meals on Wheels
DESCRIPTION:Meals On Wheels (MOW) serves hot\, nutritious meals to the homebound elderly and/or disabled Monday through Friday.
URL:https://westoverepiscopalchurch.org/event/meals-on-wheels/2029-01-23/
END:VEVENT
BEGIN:VEVENT
DTSTART;TZID=America/New_York:20290124T090000
DTEND;TZID=America/New_York:20290124T110000
DTSTAMP:20260425T154232
CREATED:20230113T145846Z
LAST-MODIFIED:20230113T145846Z
UID:10003893-1863939600-1863946800@westoverepiscopalchurch.org
SUMMARY:Meals on Wheels
DESCRIPTION:Meals On Wheels (MOW) serves hot\, nutritious meals to the homebound elderly and/or disabled Monday through Friday.
URL:https://westoverepiscopalchurch.org/event/meals-on-wheels/2029-01-24/
END:VEVENT
BEGIN:VEVENT
DTSTART;TZID=America/New_York:20290125T090000
DTEND;TZID=America/New_York:20290125T110000
DTSTAMP:20260425T154232
CREATED:20230113T145846Z
LAST-MODIFIED:20230113T145846Z
UID:10003894-1864026000-1864033200@westoverepiscopalchurch.org
SUMMARY:Meals on Wheels
DESCRIPTION:Meals On Wheels (MOW) serves hot\, nutritious meals to the homebound elderly and/or disabled Monday through Friday.
URL:https://westoverepiscopalchurch.org/event/meals-on-wheels/2029-01-25/
END:VEVENT
BEGIN:VEVENT
DTSTART;TZID=America/New_York:20290126T090000
DTEND;TZID=America/New_York:20290126T110000
DTSTAMP:20260425T154232
CREATED:20230113T145846Z
LAST-MODIFIED:20230113T145846Z
UID:10003895-1864112400-1864119600@westoverepiscopalchurch.org
SUMMARY:Meals on Wheels
DESCRIPTION:Meals On Wheels (MOW) serves hot\, nutritious meals to the homebound elderly and/or disabled Monday through Friday.
URL:https://westoverepiscopalchurch.org/event/meals-on-wheels/2029-01-26/
END:VEVENT
BEGIN:VEVENT
DTSTART;TZID=America/New_York:20290129T090000
DTEND;TZID=America/New_York:20290129T110000
DTSTAMP:20260425T154232
CREATED:20230113T145846Z
LAST-MODIFIED:20230113T145846Z
UID:10003896-1864371600-1864378800@westoverepiscopalchurch.org
SUMMARY:Meals on Wheels
DESCRIPTION:Meals On Wheels (MOW) serves hot\, nutritious meals to the homebound elderly and/or disabled Monday through Friday.
URL:https://westoverepiscopalchurch.org/event/meals-on-wheels/2029-01-29/
END:VEVENT
BEGIN:VEVENT
DTSTART;TZID=America/New_York:20290130T090000
DTEND;TZID=America/New_York:20290130T110000
DTSTAMP:20260425T154232
CREATED:20230113T145846Z
LAST-MODIFIED:20230113T145846Z
UID:10003897-1864458000-1864465200@westoverepiscopalchurch.org
SUMMARY:Meals on Wheels
DESCRIPTION:Meals On Wheels (MOW) serves hot\, nutritious meals to the homebound elderly and/or disabled Monday through Friday.
URL:https://westoverepiscopalchurch.org/event/meals-on-wheels/2029-01-30/
END:VEVENT
BEGIN:VEVENT
DTSTART;TZID=America/New_York:20290131T090000
DTEND;TZID=America/New_York:20290131T110000
DTSTAMP:20260425T154232
CREATED:20230113T145846Z
LAST-MODIFIED:20230113T145846Z
UID:10003898-1864544400-1864551600@westoverepiscopalchurch.org
SUMMARY:Meals on Wheels
DESCRIPTION:Meals On Wheels (MOW) serves hot\, nutritious meals to the homebound elderly and/or disabled Monday through Friday.
URL:https://westoverepiscopalchurch.org/event/meals-on-wheels/2029-01-31/
END:VEVENT
BEGIN:VEVENT
DTSTART;TZID=America/New_York:20290201T090000
DTEND;TZID=America/New_York:20290201T110000
DTSTAMP:20260425T154232
CREATED:20230113T145846Z
LAST-MODIFIED:20230113T145846Z
UID:10003899-1864630800-1864638000@westoverepiscopalchurch.org
SUMMARY:Meals on Wheels
DESCRIPTION:Meals On Wheels (MOW) serves hot\, nutritious meals to the homebound elderly and/or disabled Monday through Friday.
URL:https://westoverepiscopalchurch.org/event/meals-on-wheels/2029-02-01/
END:VEVENT
BEGIN:VEVENT
DTSTART;TZID=America/New_York:20290202T090000
DTEND;TZID=America/New_York:20290202T110000
DTSTAMP:20260425T154232
CREATED:20230113T145846Z
LAST-MODIFIED:20230113T145846Z
UID:10003900-1864717200-1864724400@westoverepiscopalchurch.org
SUMMARY:Meals on Wheels
DESCRIPTION:Meals On Wheels (MOW) serves hot\, nutritious meals to the homebound elderly and/or disabled Monday through Friday.
URL:https://westoverepiscopalchurch.org/event/meals-on-wheels/2029-02-02/
END:VEVENT
BEGIN:VEVENT
DTSTART;TZID=America/New_York:20290205T090000
DTEND;TZID=America/New_York:20290205T110000
DTSTAMP:20260425T154232
CREATED:20230113T145846Z
LAST-MODIFIED:20230113T145846Z
UID:10003901-1864976400-1864983600@westoverepiscopalchurch.org
SUMMARY:Meals on Wheels
DESCRIPTION:Meals On Wheels (MOW) serves hot\, nutritious meals to the homebound elderly and/or disabled Monday through Friday.
URL:https://westoverepiscopalchurch.org/event/meals-on-wheels/2029-02-05/
END:VEVENT
END:VCALENDAR