BEGIN:VCALENDAR
VERSION:2.0
PRODID:-//Westover Episcopal Church - Charles City, VA - ECPv6.15.20//NONSGML v1.0//EN
CALSCALE:GREGORIAN
METHOD:PUBLISH
X-WR-CALNAME:Westover Episcopal Church - Charles City, VA
X-ORIGINAL-URL:https://westoverepiscopalchurch.org
X-WR-CALDESC:Events for Westover Episcopal Church - Charles City, VA
REFRESH-INTERVAL;VALUE=DURATION:PT1H
X-Robots-Tag:noindex
X-PUBLISHED-TTL:PT1H
BEGIN:VTIMEZONE
TZID:America/New_York
BEGIN:DAYLIGHT
TZOFFSETFROM:-0500
TZOFFSETTO:-0400
TZNAME:EDT
DTSTART:20280312T070000
END:DAYLIGHT
BEGIN:STANDARD
TZOFFSETFROM:-0400
TZOFFSETTO:-0500
TZNAME:EST
DTSTART:20281105T060000
END:STANDARD
BEGIN:DAYLIGHT
TZOFFSETFROM:-0500
TZOFFSETTO:-0400
TZNAME:EDT
DTSTART:20290311T070000
END:DAYLIGHT
BEGIN:STANDARD
TZOFFSETFROM:-0400
TZOFFSETTO:-0500
TZNAME:EST
DTSTART:20291104T060000
END:STANDARD
BEGIN:DAYLIGHT
TZOFFSETFROM:-0500
TZOFFSETTO:-0400
TZNAME:EDT
DTSTART:20300310T070000
END:DAYLIGHT
BEGIN:STANDARD
TZOFFSETFROM:-0400
TZOFFSETTO:-0500
TZNAME:EST
DTSTART:20301103T060000
END:STANDARD
END:VTIMEZONE
BEGIN:VEVENT
DTSTART;TZID=America/New_York:20290601T090000
DTEND;TZID=America/New_York:20290601T110000
DTSTAMP:20260425T212916
CREATED:20230113T145846Z
LAST-MODIFIED:20230113T145846Z
UID:10003985-1874998800-1875006000@westoverepiscopalchurch.org
SUMMARY:Meals on Wheels
DESCRIPTION:Meals On Wheels (MOW) serves hot\, nutritious meals to the homebound elderly and/or disabled Monday through Friday.
URL:https://westoverepiscopalchurch.org/event/meals-on-wheels/2029-06-01/
END:VEVENT
BEGIN:VEVENT
DTSTART;TZID=America/New_York:20290604T090000
DTEND;TZID=America/New_York:20290604T110000
DTSTAMP:20260425T212916
CREATED:20230113T145846Z
LAST-MODIFIED:20230113T145846Z
UID:10003986-1875258000-1875265200@westoverepiscopalchurch.org
SUMMARY:Meals on Wheels
DESCRIPTION:Meals On Wheels (MOW) serves hot\, nutritious meals to the homebound elderly and/or disabled Monday through Friday.
URL:https://westoverepiscopalchurch.org/event/meals-on-wheels/2029-06-04/
END:VEVENT
BEGIN:VEVENT
DTSTART;TZID=America/New_York:20290605T090000
DTEND;TZID=America/New_York:20290605T110000
DTSTAMP:20260425T212916
CREATED:20230113T145846Z
LAST-MODIFIED:20230113T145846Z
UID:10003987-1875344400-1875351600@westoverepiscopalchurch.org
SUMMARY:Meals on Wheels
DESCRIPTION:Meals On Wheels (MOW) serves hot\, nutritious meals to the homebound elderly and/or disabled Monday through Friday.
URL:https://westoverepiscopalchurch.org/event/meals-on-wheels/2029-06-05/
END:VEVENT
BEGIN:VEVENT
DTSTART;TZID=America/New_York:20290606T090000
DTEND;TZID=America/New_York:20290606T110000
DTSTAMP:20260425T212916
CREATED:20230113T145846Z
LAST-MODIFIED:20230113T145846Z
UID:10003988-1875430800-1875438000@westoverepiscopalchurch.org
SUMMARY:Meals on Wheels
DESCRIPTION:Meals On Wheels (MOW) serves hot\, nutritious meals to the homebound elderly and/or disabled Monday through Friday.
URL:https://westoverepiscopalchurch.org/event/meals-on-wheels/2029-06-06/
END:VEVENT
BEGIN:VEVENT
DTSTART;TZID=America/New_York:20290607T090000
DTEND;TZID=America/New_York:20290607T110000
DTSTAMP:20260425T212916
CREATED:20230113T145846Z
LAST-MODIFIED:20230113T145846Z
UID:10003989-1875517200-1875524400@westoverepiscopalchurch.org
SUMMARY:Meals on Wheels
DESCRIPTION:Meals On Wheels (MOW) serves hot\, nutritious meals to the homebound elderly and/or disabled Monday through Friday.
URL:https://westoverepiscopalchurch.org/event/meals-on-wheels/2029-06-07/
END:VEVENT
BEGIN:VEVENT
DTSTART;TZID=America/New_York:20290608T090000
DTEND;TZID=America/New_York:20290608T110000
DTSTAMP:20260425T212916
CREATED:20230113T145846Z
LAST-MODIFIED:20230113T145846Z
UID:10003990-1875603600-1875610800@westoverepiscopalchurch.org
SUMMARY:Meals on Wheels
DESCRIPTION:Meals On Wheels (MOW) serves hot\, nutritious meals to the homebound elderly and/or disabled Monday through Friday.
URL:https://westoverepiscopalchurch.org/event/meals-on-wheels/2029-06-08/
END:VEVENT
BEGIN:VEVENT
DTSTART;TZID=America/New_York:20290611T090000
DTEND;TZID=America/New_York:20290611T110000
DTSTAMP:20260425T212916
CREATED:20230113T145846Z
LAST-MODIFIED:20230113T145846Z
UID:10003991-1875862800-1875870000@westoverepiscopalchurch.org
SUMMARY:Meals on Wheels
DESCRIPTION:Meals On Wheels (MOW) serves hot\, nutritious meals to the homebound elderly and/or disabled Monday through Friday.
URL:https://westoverepiscopalchurch.org/event/meals-on-wheels/2029-06-11/
END:VEVENT
BEGIN:VEVENT
DTSTART;TZID=America/New_York:20290612T090000
DTEND;TZID=America/New_York:20290612T110000
DTSTAMP:20260425T212916
CREATED:20230113T145846Z
LAST-MODIFIED:20230113T145846Z
UID:10003992-1875949200-1875956400@westoverepiscopalchurch.org
SUMMARY:Meals on Wheels
DESCRIPTION:Meals On Wheels (MOW) serves hot\, nutritious meals to the homebound elderly and/or disabled Monday through Friday.
URL:https://westoverepiscopalchurch.org/event/meals-on-wheels/2029-06-12/
END:VEVENT
BEGIN:VEVENT
DTSTART;TZID=America/New_York:20290613T090000
DTEND;TZID=America/New_York:20290613T110000
DTSTAMP:20260425T212916
CREATED:20230113T145846Z
LAST-MODIFIED:20230113T145846Z
UID:10003993-1876035600-1876042800@westoverepiscopalchurch.org
SUMMARY:Meals on Wheels
DESCRIPTION:Meals On Wheels (MOW) serves hot\, nutritious meals to the homebound elderly and/or disabled Monday through Friday.
URL:https://westoverepiscopalchurch.org/event/meals-on-wheels/2029-06-13/
END:VEVENT
BEGIN:VEVENT
DTSTART;TZID=America/New_York:20290614T090000
DTEND;TZID=America/New_York:20290614T110000
DTSTAMP:20260425T212916
CREATED:20230113T145846Z
LAST-MODIFIED:20230113T145846Z
UID:10003994-1876122000-1876129200@westoverepiscopalchurch.org
SUMMARY:Meals on Wheels
DESCRIPTION:Meals On Wheels (MOW) serves hot\, nutritious meals to the homebound elderly and/or disabled Monday through Friday.
URL:https://westoverepiscopalchurch.org/event/meals-on-wheels/2029-06-14/
END:VEVENT
BEGIN:VEVENT
DTSTART;TZID=America/New_York:20290615T090000
DTEND;TZID=America/New_York:20290615T110000
DTSTAMP:20260425T212916
CREATED:20230113T145846Z
LAST-MODIFIED:20230113T145846Z
UID:10003995-1876208400-1876215600@westoverepiscopalchurch.org
SUMMARY:Meals on Wheels
DESCRIPTION:Meals On Wheels (MOW) serves hot\, nutritious meals to the homebound elderly and/or disabled Monday through Friday.
URL:https://westoverepiscopalchurch.org/event/meals-on-wheels/2029-06-15/
END:VEVENT
BEGIN:VEVENT
DTSTART;TZID=America/New_York:20290618T090000
DTEND;TZID=America/New_York:20290618T110000
DTSTAMP:20260425T212916
CREATED:20230113T145846Z
LAST-MODIFIED:20230113T145846Z
UID:10003996-1876467600-1876474800@westoverepiscopalchurch.org
SUMMARY:Meals on Wheels
DESCRIPTION:Meals On Wheels (MOW) serves hot\, nutritious meals to the homebound elderly and/or disabled Monday through Friday.
URL:https://westoverepiscopalchurch.org/event/meals-on-wheels/2029-06-18/
END:VEVENT
BEGIN:VEVENT
DTSTART;TZID=America/New_York:20290619T090000
DTEND;TZID=America/New_York:20290619T110000
DTSTAMP:20260425T212916
CREATED:20230113T145846Z
LAST-MODIFIED:20230113T145846Z
UID:10003997-1876554000-1876561200@westoverepiscopalchurch.org
SUMMARY:Meals on Wheels
DESCRIPTION:Meals On Wheels (MOW) serves hot\, nutritious meals to the homebound elderly and/or disabled Monday through Friday.
URL:https://westoverepiscopalchurch.org/event/meals-on-wheels/2029-06-19/
END:VEVENT
BEGIN:VEVENT
DTSTART;TZID=America/New_York:20290620T090000
DTEND;TZID=America/New_York:20290620T110000
DTSTAMP:20260425T212916
CREATED:20230113T145846Z
LAST-MODIFIED:20230113T145846Z
UID:10003998-1876640400-1876647600@westoverepiscopalchurch.org
SUMMARY:Meals on Wheels
DESCRIPTION:Meals On Wheels (MOW) serves hot\, nutritious meals to the homebound elderly and/or disabled Monday through Friday.
URL:https://westoverepiscopalchurch.org/event/meals-on-wheels/2029-06-20/
END:VEVENT
BEGIN:VEVENT
DTSTART;TZID=America/New_York:20290621T090000
DTEND;TZID=America/New_York:20290621T110000
DTSTAMP:20260425T212916
CREATED:20230113T145846Z
LAST-MODIFIED:20230113T145846Z
UID:10003999-1876726800-1876734000@westoverepiscopalchurch.org
SUMMARY:Meals on Wheels
DESCRIPTION:Meals On Wheels (MOW) serves hot\, nutritious meals to the homebound elderly and/or disabled Monday through Friday.
URL:https://westoverepiscopalchurch.org/event/meals-on-wheels/2029-06-21/
END:VEVENT
BEGIN:VEVENT
DTSTART;TZID=America/New_York:20290622T090000
DTEND;TZID=America/New_York:20290622T110000
DTSTAMP:20260425T212916
CREATED:20230113T145846Z
LAST-MODIFIED:20230113T145846Z
UID:10004000-1876813200-1876820400@westoverepiscopalchurch.org
SUMMARY:Meals on Wheels
DESCRIPTION:Meals On Wheels (MOW) serves hot\, nutritious meals to the homebound elderly and/or disabled Monday through Friday.
URL:https://westoverepiscopalchurch.org/event/meals-on-wheels/2029-06-22/
END:VEVENT
BEGIN:VEVENT
DTSTART;TZID=America/New_York:20290625T090000
DTEND;TZID=America/New_York:20290625T110000
DTSTAMP:20260425T212916
CREATED:20230113T145846Z
LAST-MODIFIED:20230113T145846Z
UID:10004001-1877072400-1877079600@westoverepiscopalchurch.org
SUMMARY:Meals on Wheels
DESCRIPTION:Meals On Wheels (MOW) serves hot\, nutritious meals to the homebound elderly and/or disabled Monday through Friday.
URL:https://westoverepiscopalchurch.org/event/meals-on-wheels/2029-06-25/
END:VEVENT
BEGIN:VEVENT
DTSTART;TZID=America/New_York:20290626T090000
DTEND;TZID=America/New_York:20290626T110000
DTSTAMP:20260425T212916
CREATED:20230113T145846Z
LAST-MODIFIED:20230113T145846Z
UID:10004002-1877158800-1877166000@westoverepiscopalchurch.org
SUMMARY:Meals on Wheels
DESCRIPTION:Meals On Wheels (MOW) serves hot\, nutritious meals to the homebound elderly and/or disabled Monday through Friday.
URL:https://westoverepiscopalchurch.org/event/meals-on-wheels/2029-06-26/
END:VEVENT
BEGIN:VEVENT
DTSTART;TZID=America/New_York:20290627T090000
DTEND;TZID=America/New_York:20290627T110000
DTSTAMP:20260425T212916
CREATED:20230113T145846Z
LAST-MODIFIED:20230113T145846Z
UID:10004003-1877245200-1877252400@westoverepiscopalchurch.org
SUMMARY:Meals on Wheels
DESCRIPTION:Meals On Wheels (MOW) serves hot\, nutritious meals to the homebound elderly and/or disabled Monday through Friday.
URL:https://westoverepiscopalchurch.org/event/meals-on-wheels/2029-06-27/
END:VEVENT
BEGIN:VEVENT
DTSTART;TZID=America/New_York:20290628T090000
DTEND;TZID=America/New_York:20290628T110000
DTSTAMP:20260425T212916
CREATED:20230113T145846Z
LAST-MODIFIED:20230113T145846Z
UID:10004004-1877331600-1877338800@westoverepiscopalchurch.org
SUMMARY:Meals on Wheels
DESCRIPTION:Meals On Wheels (MOW) serves hot\, nutritious meals to the homebound elderly and/or disabled Monday through Friday.
URL:https://westoverepiscopalchurch.org/event/meals-on-wheels/2029-06-28/
END:VEVENT
BEGIN:VEVENT
DTSTART;TZID=America/New_York:20290629T090000
DTEND;TZID=America/New_York:20290629T110000
DTSTAMP:20260425T212916
CREATED:20230113T145846Z
LAST-MODIFIED:20230113T145846Z
UID:10004005-1877418000-1877425200@westoverepiscopalchurch.org
SUMMARY:Meals on Wheels
DESCRIPTION:Meals On Wheels (MOW) serves hot\, nutritious meals to the homebound elderly and/or disabled Monday through Friday.
URL:https://westoverepiscopalchurch.org/event/meals-on-wheels/2029-06-29/
END:VEVENT
BEGIN:VEVENT
DTSTART;TZID=America/New_York:20290702T090000
DTEND;TZID=America/New_York:20290702T110000
DTSTAMP:20260425T212916
CREATED:20230113T145846Z
LAST-MODIFIED:20230113T145846Z
UID:10004006-1877677200-1877684400@westoverepiscopalchurch.org
SUMMARY:Meals on Wheels
DESCRIPTION:Meals On Wheels (MOW) serves hot\, nutritious meals to the homebound elderly and/or disabled Monday through Friday.
URL:https://westoverepiscopalchurch.org/event/meals-on-wheels/2029-07-02/
END:VEVENT
BEGIN:VEVENT
DTSTART;TZID=America/New_York:20290703T090000
DTEND;TZID=America/New_York:20290703T110000
DTSTAMP:20260425T212916
CREATED:20230113T145846Z
LAST-MODIFIED:20230113T145846Z
UID:10004007-1877763600-1877770800@westoverepiscopalchurch.org
SUMMARY:Meals on Wheels
DESCRIPTION:Meals On Wheels (MOW) serves hot\, nutritious meals to the homebound elderly and/or disabled Monday through Friday.
URL:https://westoverepiscopalchurch.org/event/meals-on-wheels/2029-07-03/
END:VEVENT
BEGIN:VEVENT
DTSTART;TZID=America/New_York:20290704T090000
DTEND;TZID=America/New_York:20290704T110000
DTSTAMP:20260425T212916
CREATED:20230113T145846Z
LAST-MODIFIED:20230113T145846Z
UID:10004008-1877850000-1877857200@westoverepiscopalchurch.org
SUMMARY:Meals on Wheels
DESCRIPTION:Meals On Wheels (MOW) serves hot\, nutritious meals to the homebound elderly and/or disabled Monday through Friday.
URL:https://westoverepiscopalchurch.org/event/meals-on-wheels/2029-07-04/
END:VEVENT
BEGIN:VEVENT
DTSTART;TZID=America/New_York:20290705T090000
DTEND;TZID=America/New_York:20290705T110000
DTSTAMP:20260425T212916
CREATED:20230113T145846Z
LAST-MODIFIED:20230113T145846Z
UID:10004009-1877936400-1877943600@westoverepiscopalchurch.org
SUMMARY:Meals on Wheels
DESCRIPTION:Meals On Wheels (MOW) serves hot\, nutritious meals to the homebound elderly and/or disabled Monday through Friday.
URL:https://westoverepiscopalchurch.org/event/meals-on-wheels/2029-07-05/
END:VEVENT
BEGIN:VEVENT
DTSTART;TZID=America/New_York:20290706T090000
DTEND;TZID=America/New_York:20290706T110000
DTSTAMP:20260425T212916
CREATED:20230113T145846Z
LAST-MODIFIED:20230113T145846Z
UID:10004010-1878022800-1878030000@westoverepiscopalchurch.org
SUMMARY:Meals on Wheels
DESCRIPTION:Meals On Wheels (MOW) serves hot\, nutritious meals to the homebound elderly and/or disabled Monday through Friday.
URL:https://westoverepiscopalchurch.org/event/meals-on-wheels/2029-07-06/
END:VEVENT
BEGIN:VEVENT
DTSTART;TZID=America/New_York:20290709T090000
DTEND;TZID=America/New_York:20290709T110000
DTSTAMP:20260425T212916
CREATED:20230113T145846Z
LAST-MODIFIED:20230113T145846Z
UID:10004011-1878282000-1878289200@westoverepiscopalchurch.org
SUMMARY:Meals on Wheels
DESCRIPTION:Meals On Wheels (MOW) serves hot\, nutritious meals to the homebound elderly and/or disabled Monday through Friday.
URL:https://westoverepiscopalchurch.org/event/meals-on-wheels/2029-07-09/
END:VEVENT
BEGIN:VEVENT
DTSTART;TZID=America/New_York:20290710T090000
DTEND;TZID=America/New_York:20290710T110000
DTSTAMP:20260425T212916
CREATED:20230113T145846Z
LAST-MODIFIED:20230113T145846Z
UID:10004012-1878368400-1878375600@westoverepiscopalchurch.org
SUMMARY:Meals on Wheels
DESCRIPTION:Meals On Wheels (MOW) serves hot\, nutritious meals to the homebound elderly and/or disabled Monday through Friday.
URL:https://westoverepiscopalchurch.org/event/meals-on-wheels/2029-07-10/
END:VEVENT
BEGIN:VEVENT
DTSTART;TZID=America/New_York:20290711T090000
DTEND;TZID=America/New_York:20290711T110000
DTSTAMP:20260425T212916
CREATED:20230113T145846Z
LAST-MODIFIED:20230113T145846Z
UID:10004013-1878454800-1878462000@westoverepiscopalchurch.org
SUMMARY:Meals on Wheels
DESCRIPTION:Meals On Wheels (MOW) serves hot\, nutritious meals to the homebound elderly and/or disabled Monday through Friday.
URL:https://westoverepiscopalchurch.org/event/meals-on-wheels/2029-07-11/
END:VEVENT
BEGIN:VEVENT
DTSTART;TZID=America/New_York:20290712T090000
DTEND;TZID=America/New_York:20290712T110000
DTSTAMP:20260425T212916
CREATED:20230113T145846Z
LAST-MODIFIED:20230113T145846Z
UID:10004014-1878541200-1878548400@westoverepiscopalchurch.org
SUMMARY:Meals on Wheels
DESCRIPTION:Meals On Wheels (MOW) serves hot\, nutritious meals to the homebound elderly and/or disabled Monday through Friday.
URL:https://westoverepiscopalchurch.org/event/meals-on-wheels/2029-07-12/
END:VEVENT
END:VCALENDAR