BEGIN:VCALENDAR
VERSION:2.0
PRODID:-//Westover Episcopal Church - Charles City, VA - ECPv6.15.20//NONSGML v1.0//EN
CALSCALE:GREGORIAN
METHOD:PUBLISH
X-WR-CALNAME:Westover Episcopal Church - Charles City, VA
X-ORIGINAL-URL:https://westoverepiscopalchurch.org
X-WR-CALDESC:Events for Westover Episcopal Church - Charles City, VA
REFRESH-INTERVAL;VALUE=DURATION:PT1H
X-Robots-Tag:noindex
X-PUBLISHED-TTL:PT1H
BEGIN:VTIMEZONE
TZID:America/New_York
BEGIN:DAYLIGHT
TZOFFSETFROM:-0500
TZOFFSETTO:-0400
TZNAME:EDT
DTSTART:20280312T070000
END:DAYLIGHT
BEGIN:STANDARD
TZOFFSETFROM:-0400
TZOFFSETTO:-0500
TZNAME:EST
DTSTART:20281105T060000
END:STANDARD
BEGIN:DAYLIGHT
TZOFFSETFROM:-0500
TZOFFSETTO:-0400
TZNAME:EDT
DTSTART:20290311T070000
END:DAYLIGHT
BEGIN:STANDARD
TZOFFSETFROM:-0400
TZOFFSETTO:-0500
TZNAME:EST
DTSTART:20291104T060000
END:STANDARD
BEGIN:DAYLIGHT
TZOFFSETFROM:-0500
TZOFFSETTO:-0400
TZNAME:EDT
DTSTART:20300310T070000
END:DAYLIGHT
BEGIN:STANDARD
TZOFFSETFROM:-0400
TZOFFSETTO:-0500
TZNAME:EST
DTSTART:20301103T060000
END:STANDARD
END:VTIMEZONE
BEGIN:VEVENT
DTSTART;TZID=America/New_York:20290716T090000
DTEND;TZID=America/New_York:20290716T110000
DTSTAMP:20260426T003731
CREATED:20230113T145846Z
LAST-MODIFIED:20230113T145846Z
UID:10004016-1878886800-1878894000@westoverepiscopalchurch.org
SUMMARY:Meals on Wheels
DESCRIPTION:Meals On Wheels (MOW) serves hot\, nutritious meals to the homebound elderly and/or disabled Monday through Friday.
URL:https://westoverepiscopalchurch.org/event/meals-on-wheels/2029-07-16/
END:VEVENT
BEGIN:VEVENT
DTSTART;TZID=America/New_York:20290717T090000
DTEND;TZID=America/New_York:20290717T110000
DTSTAMP:20260426T003731
CREATED:20230113T145846Z
LAST-MODIFIED:20230113T145846Z
UID:10004017-1878973200-1878980400@westoverepiscopalchurch.org
SUMMARY:Meals on Wheels
DESCRIPTION:Meals On Wheels (MOW) serves hot\, nutritious meals to the homebound elderly and/or disabled Monday through Friday.
URL:https://westoverepiscopalchurch.org/event/meals-on-wheels/2029-07-17/
END:VEVENT
BEGIN:VEVENT
DTSTART;TZID=America/New_York:20290718T090000
DTEND;TZID=America/New_York:20290718T110000
DTSTAMP:20260426T003731
CREATED:20230113T145846Z
LAST-MODIFIED:20230113T145846Z
UID:10004018-1879059600-1879066800@westoverepiscopalchurch.org
SUMMARY:Meals on Wheels
DESCRIPTION:Meals On Wheels (MOW) serves hot\, nutritious meals to the homebound elderly and/or disabled Monday through Friday.
URL:https://westoverepiscopalchurch.org/event/meals-on-wheels/2029-07-18/
END:VEVENT
BEGIN:VEVENT
DTSTART;TZID=America/New_York:20290719T090000
DTEND;TZID=America/New_York:20290719T110000
DTSTAMP:20260426T003731
CREATED:20230113T145846Z
LAST-MODIFIED:20230113T145846Z
UID:10004019-1879146000-1879153200@westoverepiscopalchurch.org
SUMMARY:Meals on Wheels
DESCRIPTION:Meals On Wheels (MOW) serves hot\, nutritious meals to the homebound elderly and/or disabled Monday through Friday.
URL:https://westoverepiscopalchurch.org/event/meals-on-wheels/2029-07-19/
END:VEVENT
BEGIN:VEVENT
DTSTART;TZID=America/New_York:20290720T090000
DTEND;TZID=America/New_York:20290720T110000
DTSTAMP:20260426T003731
CREATED:20230113T145846Z
LAST-MODIFIED:20230113T145846Z
UID:10004020-1879232400-1879239600@westoverepiscopalchurch.org
SUMMARY:Meals on Wheels
DESCRIPTION:Meals On Wheels (MOW) serves hot\, nutritious meals to the homebound elderly and/or disabled Monday through Friday.
URL:https://westoverepiscopalchurch.org/event/meals-on-wheels/2029-07-20/
END:VEVENT
BEGIN:VEVENT
DTSTART;TZID=America/New_York:20290723T090000
DTEND;TZID=America/New_York:20290723T110000
DTSTAMP:20260426T003731
CREATED:20230113T145846Z
LAST-MODIFIED:20230113T145846Z
UID:10004021-1879491600-1879498800@westoverepiscopalchurch.org
SUMMARY:Meals on Wheels
DESCRIPTION:Meals On Wheels (MOW) serves hot\, nutritious meals to the homebound elderly and/or disabled Monday through Friday.
URL:https://westoverepiscopalchurch.org/event/meals-on-wheels/2029-07-23/
END:VEVENT
BEGIN:VEVENT
DTSTART;TZID=America/New_York:20290724T090000
DTEND;TZID=America/New_York:20290724T110000
DTSTAMP:20260426T003731
CREATED:20230113T145846Z
LAST-MODIFIED:20230113T145846Z
UID:10004022-1879578000-1879585200@westoverepiscopalchurch.org
SUMMARY:Meals on Wheels
DESCRIPTION:Meals On Wheels (MOW) serves hot\, nutritious meals to the homebound elderly and/or disabled Monday through Friday.
URL:https://westoverepiscopalchurch.org/event/meals-on-wheels/2029-07-24/
END:VEVENT
BEGIN:VEVENT
DTSTART;TZID=America/New_York:20290725T090000
DTEND;TZID=America/New_York:20290725T110000
DTSTAMP:20260426T003731
CREATED:20230113T145846Z
LAST-MODIFIED:20230113T145846Z
UID:10004023-1879664400-1879671600@westoverepiscopalchurch.org
SUMMARY:Meals on Wheels
DESCRIPTION:Meals On Wheels (MOW) serves hot\, nutritious meals to the homebound elderly and/or disabled Monday through Friday.
URL:https://westoverepiscopalchurch.org/event/meals-on-wheels/2029-07-25/
END:VEVENT
BEGIN:VEVENT
DTSTART;TZID=America/New_York:20290726T090000
DTEND;TZID=America/New_York:20290726T110000
DTSTAMP:20260426T003731
CREATED:20230113T145846Z
LAST-MODIFIED:20230113T145846Z
UID:10004024-1879750800-1879758000@westoverepiscopalchurch.org
SUMMARY:Meals on Wheels
DESCRIPTION:Meals On Wheels (MOW) serves hot\, nutritious meals to the homebound elderly and/or disabled Monday through Friday.
URL:https://westoverepiscopalchurch.org/event/meals-on-wheels/2029-07-26/
END:VEVENT
BEGIN:VEVENT
DTSTART;TZID=America/New_York:20290727T090000
DTEND;TZID=America/New_York:20290727T110000
DTSTAMP:20260426T003731
CREATED:20230113T145846Z
LAST-MODIFIED:20230113T145846Z
UID:10004025-1879837200-1879844400@westoverepiscopalchurch.org
SUMMARY:Meals on Wheels
DESCRIPTION:Meals On Wheels (MOW) serves hot\, nutritious meals to the homebound elderly and/or disabled Monday through Friday.
URL:https://westoverepiscopalchurch.org/event/meals-on-wheels/2029-07-27/
END:VEVENT
BEGIN:VEVENT
DTSTART;TZID=America/New_York:20290730T090000
DTEND;TZID=America/New_York:20290730T110000
DTSTAMP:20260426T003731
CREATED:20230113T145846Z
LAST-MODIFIED:20230113T145846Z
UID:10004026-1880096400-1880103600@westoverepiscopalchurch.org
SUMMARY:Meals on Wheels
DESCRIPTION:Meals On Wheels (MOW) serves hot\, nutritious meals to the homebound elderly and/or disabled Monday through Friday.
URL:https://westoverepiscopalchurch.org/event/meals-on-wheels/2029-07-30/
END:VEVENT
BEGIN:VEVENT
DTSTART;TZID=America/New_York:20290731T090000
DTEND;TZID=America/New_York:20290731T110000
DTSTAMP:20260426T003731
CREATED:20230113T145846Z
LAST-MODIFIED:20230113T145846Z
UID:10004027-1880182800-1880190000@westoverepiscopalchurch.org
SUMMARY:Meals on Wheels
DESCRIPTION:Meals On Wheels (MOW) serves hot\, nutritious meals to the homebound elderly and/or disabled Monday through Friday.
URL:https://westoverepiscopalchurch.org/event/meals-on-wheels/2029-07-31/
END:VEVENT
BEGIN:VEVENT
DTSTART;TZID=America/New_York:20290801T090000
DTEND;TZID=America/New_York:20290801T110000
DTSTAMP:20260426T003731
CREATED:20230113T145846Z
LAST-MODIFIED:20230113T145846Z
UID:10004028-1880269200-1880276400@westoverepiscopalchurch.org
SUMMARY:Meals on Wheels
DESCRIPTION:Meals On Wheels (MOW) serves hot\, nutritious meals to the homebound elderly and/or disabled Monday through Friday.
URL:https://westoverepiscopalchurch.org/event/meals-on-wheels/2029-08-01/
END:VEVENT
BEGIN:VEVENT
DTSTART;TZID=America/New_York:20290802T090000
DTEND;TZID=America/New_York:20290802T110000
DTSTAMP:20260426T003731
CREATED:20230113T145846Z
LAST-MODIFIED:20230113T145846Z
UID:10004029-1880355600-1880362800@westoverepiscopalchurch.org
SUMMARY:Meals on Wheels
DESCRIPTION:Meals On Wheels (MOW) serves hot\, nutritious meals to the homebound elderly and/or disabled Monday through Friday.
URL:https://westoverepiscopalchurch.org/event/meals-on-wheels/2029-08-02/
END:VEVENT
BEGIN:VEVENT
DTSTART;TZID=America/New_York:20290803T090000
DTEND;TZID=America/New_York:20290803T110000
DTSTAMP:20260426T003731
CREATED:20230113T145846Z
LAST-MODIFIED:20230113T145846Z
UID:10004030-1880442000-1880449200@westoverepiscopalchurch.org
SUMMARY:Meals on Wheels
DESCRIPTION:Meals On Wheels (MOW) serves hot\, nutritious meals to the homebound elderly and/or disabled Monday through Friday.
URL:https://westoverepiscopalchurch.org/event/meals-on-wheels/2029-08-03/
END:VEVENT
BEGIN:VEVENT
DTSTART;TZID=America/New_York:20290806T090000
DTEND;TZID=America/New_York:20290806T110000
DTSTAMP:20260426T003731
CREATED:20230113T145846Z
LAST-MODIFIED:20230113T145846Z
UID:10004031-1880701200-1880708400@westoverepiscopalchurch.org
SUMMARY:Meals on Wheels
DESCRIPTION:Meals On Wheels (MOW) serves hot\, nutritious meals to the homebound elderly and/or disabled Monday through Friday.
URL:https://westoverepiscopalchurch.org/event/meals-on-wheels/2029-08-06/
END:VEVENT
BEGIN:VEVENT
DTSTART;TZID=America/New_York:20290807T090000
DTEND;TZID=America/New_York:20290807T110000
DTSTAMP:20260426T003731
CREATED:20230113T145846Z
LAST-MODIFIED:20230113T145846Z
UID:10004032-1880787600-1880794800@westoverepiscopalchurch.org
SUMMARY:Meals on Wheels
DESCRIPTION:Meals On Wheels (MOW) serves hot\, nutritious meals to the homebound elderly and/or disabled Monday through Friday.
URL:https://westoverepiscopalchurch.org/event/meals-on-wheels/2029-08-07/
END:VEVENT
BEGIN:VEVENT
DTSTART;TZID=America/New_York:20290808T090000
DTEND;TZID=America/New_York:20290808T110000
DTSTAMP:20260426T003731
CREATED:20230113T145846Z
LAST-MODIFIED:20230113T145846Z
UID:10004033-1880874000-1880881200@westoverepiscopalchurch.org
SUMMARY:Meals on Wheels
DESCRIPTION:Meals On Wheels (MOW) serves hot\, nutritious meals to the homebound elderly and/or disabled Monday through Friday.
URL:https://westoverepiscopalchurch.org/event/meals-on-wheels/2029-08-08/
END:VEVENT
BEGIN:VEVENT
DTSTART;TZID=America/New_York:20290809T090000
DTEND;TZID=America/New_York:20290809T110000
DTSTAMP:20260426T003731
CREATED:20230113T145846Z
LAST-MODIFIED:20230113T145846Z
UID:10004034-1880960400-1880967600@westoverepiscopalchurch.org
SUMMARY:Meals on Wheels
DESCRIPTION:Meals On Wheels (MOW) serves hot\, nutritious meals to the homebound elderly and/or disabled Monday through Friday.
URL:https://westoverepiscopalchurch.org/event/meals-on-wheels/2029-08-09/
END:VEVENT
BEGIN:VEVENT
DTSTART;TZID=America/New_York:20290810T090000
DTEND;TZID=America/New_York:20290810T110000
DTSTAMP:20260426T003731
CREATED:20230113T145846Z
LAST-MODIFIED:20230113T145846Z
UID:10004035-1881046800-1881054000@westoverepiscopalchurch.org
SUMMARY:Meals on Wheels
DESCRIPTION:Meals On Wheels (MOW) serves hot\, nutritious meals to the homebound elderly and/or disabled Monday through Friday.
URL:https://westoverepiscopalchurch.org/event/meals-on-wheels/2029-08-10/
END:VEVENT
BEGIN:VEVENT
DTSTART;TZID=America/New_York:20290813T090000
DTEND;TZID=America/New_York:20290813T110000
DTSTAMP:20260426T003731
CREATED:20230113T145846Z
LAST-MODIFIED:20230113T145846Z
UID:10004036-1881306000-1881313200@westoverepiscopalchurch.org
SUMMARY:Meals on Wheels
DESCRIPTION:Meals On Wheels (MOW) serves hot\, nutritious meals to the homebound elderly and/or disabled Monday through Friday.
URL:https://westoverepiscopalchurch.org/event/meals-on-wheels/2029-08-13/
END:VEVENT
BEGIN:VEVENT
DTSTART;TZID=America/New_York:20290814T090000
DTEND;TZID=America/New_York:20290814T110000
DTSTAMP:20260426T003731
CREATED:20230113T145846Z
LAST-MODIFIED:20230113T145846Z
UID:10004037-1881392400-1881399600@westoverepiscopalchurch.org
SUMMARY:Meals on Wheels
DESCRIPTION:Meals On Wheels (MOW) serves hot\, nutritious meals to the homebound elderly and/or disabled Monday through Friday.
URL:https://westoverepiscopalchurch.org/event/meals-on-wheels/2029-08-14/
END:VEVENT
BEGIN:VEVENT
DTSTART;TZID=America/New_York:20290815T090000
DTEND;TZID=America/New_York:20290815T110000
DTSTAMP:20260426T003731
CREATED:20230113T145846Z
LAST-MODIFIED:20230113T145846Z
UID:10004038-1881478800-1881486000@westoverepiscopalchurch.org
SUMMARY:Meals on Wheels
DESCRIPTION:Meals On Wheels (MOW) serves hot\, nutritious meals to the homebound elderly and/or disabled Monday through Friday.
URL:https://westoverepiscopalchurch.org/event/meals-on-wheels/2029-08-15/
END:VEVENT
BEGIN:VEVENT
DTSTART;TZID=America/New_York:20290816T090000
DTEND;TZID=America/New_York:20290816T110000
DTSTAMP:20260426T003731
CREATED:20230113T145846Z
LAST-MODIFIED:20230113T145846Z
UID:10004039-1881565200-1881572400@westoverepiscopalchurch.org
SUMMARY:Meals on Wheels
DESCRIPTION:Meals On Wheels (MOW) serves hot\, nutritious meals to the homebound elderly and/or disabled Monday through Friday.
URL:https://westoverepiscopalchurch.org/event/meals-on-wheels/2029-08-16/
END:VEVENT
BEGIN:VEVENT
DTSTART;TZID=America/New_York:20290817T090000
DTEND;TZID=America/New_York:20290817T110000
DTSTAMP:20260426T003731
CREATED:20230113T145846Z
LAST-MODIFIED:20230113T145846Z
UID:10004040-1881651600-1881658800@westoverepiscopalchurch.org
SUMMARY:Meals on Wheels
DESCRIPTION:Meals On Wheels (MOW) serves hot\, nutritious meals to the homebound elderly and/or disabled Monday through Friday.
URL:https://westoverepiscopalchurch.org/event/meals-on-wheels/2029-08-17/
END:VEVENT
BEGIN:VEVENT
DTSTART;TZID=America/New_York:20290820T090000
DTEND;TZID=America/New_York:20290820T110000
DTSTAMP:20260426T003731
CREATED:20230113T145846Z
LAST-MODIFIED:20230113T145846Z
UID:10004041-1881910800-1881918000@westoverepiscopalchurch.org
SUMMARY:Meals on Wheels
DESCRIPTION:Meals On Wheels (MOW) serves hot\, nutritious meals to the homebound elderly and/or disabled Monday through Friday.
URL:https://westoverepiscopalchurch.org/event/meals-on-wheels/2029-08-20/
END:VEVENT
BEGIN:VEVENT
DTSTART;TZID=America/New_York:20290821T090000
DTEND;TZID=America/New_York:20290821T110000
DTSTAMP:20260426T003731
CREATED:20230113T145846Z
LAST-MODIFIED:20230113T145846Z
UID:10004042-1881997200-1882004400@westoverepiscopalchurch.org
SUMMARY:Meals on Wheels
DESCRIPTION:Meals On Wheels (MOW) serves hot\, nutritious meals to the homebound elderly and/or disabled Monday through Friday.
URL:https://westoverepiscopalchurch.org/event/meals-on-wheels/2029-08-21/
END:VEVENT
BEGIN:VEVENT
DTSTART;TZID=America/New_York:20290822T090000
DTEND;TZID=America/New_York:20290822T110000
DTSTAMP:20260426T003731
CREATED:20230113T145846Z
LAST-MODIFIED:20230113T145846Z
UID:10004043-1882083600-1882090800@westoverepiscopalchurch.org
SUMMARY:Meals on Wheels
DESCRIPTION:Meals On Wheels (MOW) serves hot\, nutritious meals to the homebound elderly and/or disabled Monday through Friday.
URL:https://westoverepiscopalchurch.org/event/meals-on-wheels/2029-08-22/
END:VEVENT
BEGIN:VEVENT
DTSTART;TZID=America/New_York:20290823T090000
DTEND;TZID=America/New_York:20290823T110000
DTSTAMP:20260426T003731
CREATED:20230113T145846Z
LAST-MODIFIED:20230113T145846Z
UID:10004044-1882170000-1882177200@westoverepiscopalchurch.org
SUMMARY:Meals on Wheels
DESCRIPTION:Meals On Wheels (MOW) serves hot\, nutritious meals to the homebound elderly and/or disabled Monday through Friday.
URL:https://westoverepiscopalchurch.org/event/meals-on-wheels/2029-08-23/
END:VEVENT
BEGIN:VEVENT
DTSTART;TZID=America/New_York:20290824T090000
DTEND;TZID=America/New_York:20290824T110000
DTSTAMP:20260426T003731
CREATED:20230113T145846Z
LAST-MODIFIED:20230113T145846Z
UID:10004045-1882256400-1882263600@westoverepiscopalchurch.org
SUMMARY:Meals on Wheels
DESCRIPTION:Meals On Wheels (MOW) serves hot\, nutritious meals to the homebound elderly and/or disabled Monday through Friday.
URL:https://westoverepiscopalchurch.org/event/meals-on-wheels/2029-08-24/
END:VEVENT
END:VCALENDAR