BEGIN:VCALENDAR
VERSION:2.0
PRODID:-//Westover Episcopal Church - Charles City, VA - ECPv6.15.20//NONSGML v1.0//EN
CALSCALE:GREGORIAN
METHOD:PUBLISH
X-ORIGINAL-URL:https://westoverepiscopalchurch.org
X-WR-CALDESC:Events for Westover Episcopal Church - Charles City, VA
REFRESH-INTERVAL;VALUE=DURATION:PT1H
X-Robots-Tag:noindex
X-PUBLISHED-TTL:PT1H
BEGIN:VTIMEZONE
TZID:America/New_York
BEGIN:DAYLIGHT
TZOFFSETFROM:-0500
TZOFFSETTO:-0400
TZNAME:EDT
DTSTART:20270314T070000
END:DAYLIGHT
BEGIN:STANDARD
TZOFFSETFROM:-0400
TZOFFSETTO:-0500
TZNAME:EST
DTSTART:20271107T060000
END:STANDARD
BEGIN:DAYLIGHT
TZOFFSETFROM:-0500
TZOFFSETTO:-0400
TZNAME:EDT
DTSTART:20280312T070000
END:DAYLIGHT
BEGIN:STANDARD
TZOFFSETFROM:-0400
TZOFFSETTO:-0500
TZNAME:EST
DTSTART:20281105T060000
END:STANDARD
BEGIN:DAYLIGHT
TZOFFSETFROM:-0500
TZOFFSETTO:-0400
TZNAME:EDT
DTSTART:20290311T070000
END:DAYLIGHT
BEGIN:STANDARD
TZOFFSETFROM:-0400
TZOFFSETTO:-0500
TZNAME:EST
DTSTART:20291104T060000
END:STANDARD
END:VTIMEZONE
BEGIN:VEVENT
DTSTART;TZID=America/New_York:20280612T090000
DTEND;TZID=America/New_York:20280612T110000
DTSTAMP:20260425T070744
CREATED:20230113T145846Z
LAST-MODIFIED:20230113T145846Z
UID:10003731-1844413200-1844420400@westoverepiscopalchurch.org
SUMMARY:Meals on Wheels
DESCRIPTION:Meals On Wheels (MOW) serves hot\, nutritious meals to the homebound elderly and/or disabled Monday through Friday.
URL:https://westoverepiscopalchurch.org/event/meals-on-wheels/2028-06-12/
END:VEVENT
BEGIN:VEVENT
DTSTART;TZID=America/New_York:20280613T090000
DTEND;TZID=America/New_York:20280613T110000
DTSTAMP:20260425T070744
CREATED:20230113T145846Z
LAST-MODIFIED:20230113T145846Z
UID:10003732-1844499600-1844506800@westoverepiscopalchurch.org
SUMMARY:Meals on Wheels
DESCRIPTION:Meals On Wheels (MOW) serves hot\, nutritious meals to the homebound elderly and/or disabled Monday through Friday.
URL:https://westoverepiscopalchurch.org/event/meals-on-wheels/2028-06-13/
END:VEVENT
BEGIN:VEVENT
DTSTART;TZID=America/New_York:20280614T090000
DTEND;TZID=America/New_York:20280614T110000
DTSTAMP:20260425T070744
CREATED:20230113T145846Z
LAST-MODIFIED:20230113T145846Z
UID:10003733-1844586000-1844593200@westoverepiscopalchurch.org
SUMMARY:Meals on Wheels
DESCRIPTION:Meals On Wheels (MOW) serves hot\, nutritious meals to the homebound elderly and/or disabled Monday through Friday.
URL:https://westoverepiscopalchurch.org/event/meals-on-wheels/2028-06-14/
END:VEVENT
BEGIN:VEVENT
DTSTART;TZID=America/New_York:20280615T090000
DTEND;TZID=America/New_York:20280615T110000
DTSTAMP:20260425T070744
CREATED:20230113T145846Z
LAST-MODIFIED:20230113T145846Z
UID:10003734-1844672400-1844679600@westoverepiscopalchurch.org
SUMMARY:Meals on Wheels
DESCRIPTION:Meals On Wheels (MOW) serves hot\, nutritious meals to the homebound elderly and/or disabled Monday through Friday.
URL:https://westoverepiscopalchurch.org/event/meals-on-wheels/2028-06-15/
END:VEVENT
BEGIN:VEVENT
DTSTART;TZID=America/New_York:20280616T090000
DTEND;TZID=America/New_York:20280616T110000
DTSTAMP:20260425T070744
CREATED:20230113T145846Z
LAST-MODIFIED:20230113T145846Z
UID:10003735-1844758800-1844766000@westoverepiscopalchurch.org
SUMMARY:Meals on Wheels
DESCRIPTION:Meals On Wheels (MOW) serves hot\, nutritious meals to the homebound elderly and/or disabled Monday through Friday.
URL:https://westoverepiscopalchurch.org/event/meals-on-wheels/2028-06-16/
END:VEVENT
BEGIN:VEVENT
DTSTART;TZID=America/New_York:20280619T090000
DTEND;TZID=America/New_York:20280619T110000
DTSTAMP:20260425T070744
CREATED:20230113T145846Z
LAST-MODIFIED:20230113T145846Z
UID:10003736-1845018000-1845025200@westoverepiscopalchurch.org
SUMMARY:Meals on Wheels
DESCRIPTION:Meals On Wheels (MOW) serves hot\, nutritious meals to the homebound elderly and/or disabled Monday through Friday.
URL:https://westoverepiscopalchurch.org/event/meals-on-wheels/2028-06-19/
END:VEVENT
BEGIN:VEVENT
DTSTART;TZID=America/New_York:20280620T090000
DTEND;TZID=America/New_York:20280620T110000
DTSTAMP:20260425T070744
CREATED:20230113T145846Z
LAST-MODIFIED:20230113T145846Z
UID:10003737-1845104400-1845111600@westoverepiscopalchurch.org
SUMMARY:Meals on Wheels
DESCRIPTION:Meals On Wheels (MOW) serves hot\, nutritious meals to the homebound elderly and/or disabled Monday through Friday.
URL:https://westoverepiscopalchurch.org/event/meals-on-wheels/2028-06-20/
END:VEVENT
BEGIN:VEVENT
DTSTART;TZID=America/New_York:20280621T090000
DTEND;TZID=America/New_York:20280621T110000
DTSTAMP:20260425T070744
CREATED:20230113T145846Z
LAST-MODIFIED:20230113T145846Z
UID:10003738-1845190800-1845198000@westoverepiscopalchurch.org
SUMMARY:Meals on Wheels
DESCRIPTION:Meals On Wheels (MOW) serves hot\, nutritious meals to the homebound elderly and/or disabled Monday through Friday.
URL:https://westoverepiscopalchurch.org/event/meals-on-wheels/2028-06-21/
END:VEVENT
BEGIN:VEVENT
DTSTART;TZID=America/New_York:20280622T090000
DTEND;TZID=America/New_York:20280622T110000
DTSTAMP:20260425T070744
CREATED:20230113T145846Z
LAST-MODIFIED:20230113T145846Z
UID:10003739-1845277200-1845284400@westoverepiscopalchurch.org
SUMMARY:Meals on Wheels
DESCRIPTION:Meals On Wheels (MOW) serves hot\, nutritious meals to the homebound elderly and/or disabled Monday through Friday.
URL:https://westoverepiscopalchurch.org/event/meals-on-wheels/2028-06-22/
END:VEVENT
BEGIN:VEVENT
DTSTART;TZID=America/New_York:20280623T090000
DTEND;TZID=America/New_York:20280623T110000
DTSTAMP:20260425T070744
CREATED:20230113T145846Z
LAST-MODIFIED:20230113T145846Z
UID:10003740-1845363600-1845370800@westoverepiscopalchurch.org
SUMMARY:Meals on Wheels
DESCRIPTION:Meals On Wheels (MOW) serves hot\, nutritious meals to the homebound elderly and/or disabled Monday through Friday.
URL:https://westoverepiscopalchurch.org/event/meals-on-wheels/2028-06-23/
END:VEVENT
BEGIN:VEVENT
DTSTART;TZID=America/New_York:20280626T090000
DTEND;TZID=America/New_York:20280626T110000
DTSTAMP:20260425T070744
CREATED:20230113T145846Z
LAST-MODIFIED:20230113T145846Z
UID:10003741-1845622800-1845630000@westoverepiscopalchurch.org
SUMMARY:Meals on Wheels
DESCRIPTION:Meals On Wheels (MOW) serves hot\, nutritious meals to the homebound elderly and/or disabled Monday through Friday.
URL:https://westoverepiscopalchurch.org/event/meals-on-wheels/2028-06-26/
END:VEVENT
BEGIN:VEVENT
DTSTART;TZID=America/New_York:20280627T090000
DTEND;TZID=America/New_York:20280627T110000
DTSTAMP:20260425T070744
CREATED:20230113T145846Z
LAST-MODIFIED:20230113T145846Z
UID:10003742-1845709200-1845716400@westoverepiscopalchurch.org
SUMMARY:Meals on Wheels
DESCRIPTION:Meals On Wheels (MOW) serves hot\, nutritious meals to the homebound elderly and/or disabled Monday through Friday.
URL:https://westoverepiscopalchurch.org/event/meals-on-wheels/2028-06-27/
END:VEVENT
BEGIN:VEVENT
DTSTART;TZID=America/New_York:20280628T090000
DTEND;TZID=America/New_York:20280628T110000
DTSTAMP:20260425T070744
CREATED:20230113T145846Z
LAST-MODIFIED:20230113T145846Z
UID:10003743-1845795600-1845802800@westoverepiscopalchurch.org
SUMMARY:Meals on Wheels
DESCRIPTION:Meals On Wheels (MOW) serves hot\, nutritious meals to the homebound elderly and/or disabled Monday through Friday.
URL:https://westoverepiscopalchurch.org/event/meals-on-wheels/2028-06-28/
END:VEVENT
BEGIN:VEVENT
DTSTART;TZID=America/New_York:20280629T090000
DTEND;TZID=America/New_York:20280629T110000
DTSTAMP:20260425T070744
CREATED:20230113T145846Z
LAST-MODIFIED:20230113T145846Z
UID:10003744-1845882000-1845889200@westoverepiscopalchurch.org
SUMMARY:Meals on Wheels
DESCRIPTION:Meals On Wheels (MOW) serves hot\, nutritious meals to the homebound elderly and/or disabled Monday through Friday.
URL:https://westoverepiscopalchurch.org/event/meals-on-wheels/2028-06-29/
END:VEVENT
BEGIN:VEVENT
DTSTART;TZID=America/New_York:20280630T090000
DTEND;TZID=America/New_York:20280630T110000
DTSTAMP:20260425T070744
CREATED:20230113T145846Z
LAST-MODIFIED:20230113T145846Z
UID:10003745-1845968400-1845975600@westoverepiscopalchurch.org
SUMMARY:Meals on Wheels
DESCRIPTION:Meals On Wheels (MOW) serves hot\, nutritious meals to the homebound elderly and/or disabled Monday through Friday.
URL:https://westoverepiscopalchurch.org/event/meals-on-wheels/2028-06-30/
END:VEVENT
BEGIN:VEVENT
DTSTART;TZID=America/New_York:20280703T090000
DTEND;TZID=America/New_York:20280703T110000
DTSTAMP:20260425T070744
CREATED:20230113T145846Z
LAST-MODIFIED:20230113T145846Z
UID:10003746-1846227600-1846234800@westoverepiscopalchurch.org
SUMMARY:Meals on Wheels
DESCRIPTION:Meals On Wheels (MOW) serves hot\, nutritious meals to the homebound elderly and/or disabled Monday through Friday.
URL:https://westoverepiscopalchurch.org/event/meals-on-wheels/2028-07-03/
END:VEVENT
BEGIN:VEVENT
DTSTART;TZID=America/New_York:20280704T090000
DTEND;TZID=America/New_York:20280704T110000
DTSTAMP:20260425T070744
CREATED:20230113T145846Z
LAST-MODIFIED:20230113T145846Z
UID:10003747-1846314000-1846321200@westoverepiscopalchurch.org
SUMMARY:Meals on Wheels
DESCRIPTION:Meals On Wheels (MOW) serves hot\, nutritious meals to the homebound elderly and/or disabled Monday through Friday.
URL:https://westoverepiscopalchurch.org/event/meals-on-wheels/2028-07-04/
END:VEVENT
BEGIN:VEVENT
DTSTART;TZID=America/New_York:20280705T090000
DTEND;TZID=America/New_York:20280705T110000
DTSTAMP:20260425T070744
CREATED:20230113T145846Z
LAST-MODIFIED:20230113T145846Z
UID:10003748-1846400400-1846407600@westoverepiscopalchurch.org
SUMMARY:Meals on Wheels
DESCRIPTION:Meals On Wheels (MOW) serves hot\, nutritious meals to the homebound elderly and/or disabled Monday through Friday.
URL:https://westoverepiscopalchurch.org/event/meals-on-wheels/2028-07-05/
END:VEVENT
BEGIN:VEVENT
DTSTART;TZID=America/New_York:20280706T090000
DTEND;TZID=America/New_York:20280706T110000
DTSTAMP:20260425T070744
CREATED:20230113T145846Z
LAST-MODIFIED:20230113T145846Z
UID:10003749-1846486800-1846494000@westoverepiscopalchurch.org
SUMMARY:Meals on Wheels
DESCRIPTION:Meals On Wheels (MOW) serves hot\, nutritious meals to the homebound elderly and/or disabled Monday through Friday.
URL:https://westoverepiscopalchurch.org/event/meals-on-wheels/2028-07-06/
END:VEVENT
BEGIN:VEVENT
DTSTART;TZID=America/New_York:20280707T090000
DTEND;TZID=America/New_York:20280707T110000
DTSTAMP:20260425T070744
CREATED:20230113T145846Z
LAST-MODIFIED:20230113T145846Z
UID:10003750-1846573200-1846580400@westoverepiscopalchurch.org
SUMMARY:Meals on Wheels
DESCRIPTION:Meals On Wheels (MOW) serves hot\, nutritious meals to the homebound elderly and/or disabled Monday through Friday.
URL:https://westoverepiscopalchurch.org/event/meals-on-wheels/2028-07-07/
END:VEVENT
BEGIN:VEVENT
DTSTART;TZID=America/New_York:20280710T090000
DTEND;TZID=America/New_York:20280710T110000
DTSTAMP:20260425T070744
CREATED:20230113T145846Z
LAST-MODIFIED:20230113T145846Z
UID:10003751-1846832400-1846839600@westoverepiscopalchurch.org
SUMMARY:Meals on Wheels
DESCRIPTION:Meals On Wheels (MOW) serves hot\, nutritious meals to the homebound elderly and/or disabled Monday through Friday.
URL:https://westoverepiscopalchurch.org/event/meals-on-wheels/2028-07-10/
END:VEVENT
BEGIN:VEVENT
DTSTART;TZID=America/New_York:20280711T090000
DTEND;TZID=America/New_York:20280711T110000
DTSTAMP:20260425T070744
CREATED:20230113T145846Z
LAST-MODIFIED:20230113T145846Z
UID:10003752-1846918800-1846926000@westoverepiscopalchurch.org
SUMMARY:Meals on Wheels
DESCRIPTION:Meals On Wheels (MOW) serves hot\, nutritious meals to the homebound elderly and/or disabled Monday through Friday.
URL:https://westoverepiscopalchurch.org/event/meals-on-wheels/2028-07-11/
END:VEVENT
BEGIN:VEVENT
DTSTART;TZID=America/New_York:20280712T090000
DTEND;TZID=America/New_York:20280712T110000
DTSTAMP:20260425T070744
CREATED:20230113T145846Z
LAST-MODIFIED:20230113T145846Z
UID:10003753-1847005200-1847012400@westoverepiscopalchurch.org
SUMMARY:Meals on Wheels
DESCRIPTION:Meals On Wheels (MOW) serves hot\, nutritious meals to the homebound elderly and/or disabled Monday through Friday.
URL:https://westoverepiscopalchurch.org/event/meals-on-wheels/2028-07-12/
END:VEVENT
BEGIN:VEVENT
DTSTART;TZID=America/New_York:20280713T090000
DTEND;TZID=America/New_York:20280713T110000
DTSTAMP:20260425T070744
CREATED:20230113T145846Z
LAST-MODIFIED:20230113T145846Z
UID:10003754-1847091600-1847098800@westoverepiscopalchurch.org
SUMMARY:Meals on Wheels
DESCRIPTION:Meals On Wheels (MOW) serves hot\, nutritious meals to the homebound elderly and/or disabled Monday through Friday.
URL:https://westoverepiscopalchurch.org/event/meals-on-wheels/2028-07-13/
END:VEVENT
BEGIN:VEVENT
DTSTART;TZID=America/New_York:20280714T090000
DTEND;TZID=America/New_York:20280714T110000
DTSTAMP:20260425T070744
CREATED:20230113T145846Z
LAST-MODIFIED:20230113T145846Z
UID:10003755-1847178000-1847185200@westoverepiscopalchurch.org
SUMMARY:Meals on Wheels
DESCRIPTION:Meals On Wheels (MOW) serves hot\, nutritious meals to the homebound elderly and/or disabled Monday through Friday.
URL:https://westoverepiscopalchurch.org/event/meals-on-wheels/2028-07-14/
END:VEVENT
BEGIN:VEVENT
DTSTART;TZID=America/New_York:20280717T090000
DTEND;TZID=America/New_York:20280717T110000
DTSTAMP:20260425T070744
CREATED:20230113T145846Z
LAST-MODIFIED:20230113T145846Z
UID:10003756-1847437200-1847444400@westoverepiscopalchurch.org
SUMMARY:Meals on Wheels
DESCRIPTION:Meals On Wheels (MOW) serves hot\, nutritious meals to the homebound elderly and/or disabled Monday through Friday.
URL:https://westoverepiscopalchurch.org/event/meals-on-wheels/2028-07-17/
END:VEVENT
BEGIN:VEVENT
DTSTART;TZID=America/New_York:20280718T090000
DTEND;TZID=America/New_York:20280718T110000
DTSTAMP:20260425T070744
CREATED:20230113T145846Z
LAST-MODIFIED:20230113T145846Z
UID:10003757-1847523600-1847530800@westoverepiscopalchurch.org
SUMMARY:Meals on Wheels
DESCRIPTION:Meals On Wheels (MOW) serves hot\, nutritious meals to the homebound elderly and/or disabled Monday through Friday.
URL:https://westoverepiscopalchurch.org/event/meals-on-wheels/2028-07-18/
END:VEVENT
BEGIN:VEVENT
DTSTART;TZID=America/New_York:20280719T090000
DTEND;TZID=America/New_York:20280719T110000
DTSTAMP:20260425T070744
CREATED:20230113T145846Z
LAST-MODIFIED:20230113T145846Z
UID:10003758-1847610000-1847617200@westoverepiscopalchurch.org
SUMMARY:Meals on Wheels
DESCRIPTION:Meals On Wheels (MOW) serves hot\, nutritious meals to the homebound elderly and/or disabled Monday through Friday.
URL:https://westoverepiscopalchurch.org/event/meals-on-wheels/2028-07-19/
END:VEVENT
BEGIN:VEVENT
DTSTART;TZID=America/New_York:20280720T090000
DTEND;TZID=America/New_York:20280720T110000
DTSTAMP:20260425T070744
CREATED:20230113T145846Z
LAST-MODIFIED:20230113T145846Z
UID:10003759-1847696400-1847703600@westoverepiscopalchurch.org
SUMMARY:Meals on Wheels
DESCRIPTION:Meals On Wheels (MOW) serves hot\, nutritious meals to the homebound elderly and/or disabled Monday through Friday.
URL:https://westoverepiscopalchurch.org/event/meals-on-wheels/2028-07-20/
END:VEVENT
BEGIN:VEVENT
DTSTART;TZID=America/New_York:20280721T090000
DTEND;TZID=America/New_York:20280721T110000
DTSTAMP:20260425T070744
CREATED:20230113T145846Z
LAST-MODIFIED:20230113T145846Z
UID:10003760-1847782800-1847790000@westoverepiscopalchurch.org
SUMMARY:Meals on Wheels
DESCRIPTION:Meals On Wheels (MOW) serves hot\, nutritious meals to the homebound elderly and/or disabled Monday through Friday.
URL:https://westoverepiscopalchurch.org/event/meals-on-wheels/2028-07-21/
END:VEVENT
END:VCALENDAR