BEGIN:VCALENDAR
VERSION:2.0
PRODID:-//Westover Episcopal Church - Charles City, VA - ECPv6.15.20//NONSGML v1.0//EN
CALSCALE:GREGORIAN
METHOD:PUBLISH
X-ORIGINAL-URL:https://westoverepiscopalchurch.org
X-WR-CALDESC:Events for Westover Episcopal Church - Charles City, VA
REFRESH-INTERVAL;VALUE=DURATION:PT1H
X-Robots-Tag:noindex
X-PUBLISHED-TTL:PT1H
BEGIN:VTIMEZONE
TZID:America/New_York
BEGIN:DAYLIGHT
TZOFFSETFROM:-0500
TZOFFSETTO:-0400
TZNAME:EDT
DTSTART:20270314T070000
END:DAYLIGHT
BEGIN:STANDARD
TZOFFSETFROM:-0400
TZOFFSETTO:-0500
TZNAME:EST
DTSTART:20271107T060000
END:STANDARD
BEGIN:DAYLIGHT
TZOFFSETFROM:-0500
TZOFFSETTO:-0400
TZNAME:EDT
DTSTART:20280312T070000
END:DAYLIGHT
BEGIN:STANDARD
TZOFFSETFROM:-0400
TZOFFSETTO:-0500
TZNAME:EST
DTSTART:20281105T060000
END:STANDARD
BEGIN:DAYLIGHT
TZOFFSETFROM:-0500
TZOFFSETTO:-0400
TZNAME:EDT
DTSTART:20290311T070000
END:DAYLIGHT
BEGIN:STANDARD
TZOFFSETFROM:-0400
TZOFFSETTO:-0500
TZNAME:EST
DTSTART:20291104T060000
END:STANDARD
END:VTIMEZONE
BEGIN:VEVENT
DTSTART;TZID=America/New_York:20281009T090000
DTEND;TZID=America/New_York:20281009T110000
DTSTAMP:20260425T125447
CREATED:20230113T145846Z
LAST-MODIFIED:20230113T145846Z
UID:10003816-1854694800-1854702000@westoverepiscopalchurch.org
SUMMARY:Meals on Wheels
DESCRIPTION:Meals On Wheels (MOW) serves hot\, nutritious meals to the homebound elderly and/or disabled Monday through Friday.
URL:https://westoverepiscopalchurch.org/event/meals-on-wheels/2028-10-09/
END:VEVENT
BEGIN:VEVENT
DTSTART;TZID=America/New_York:20281010T090000
DTEND;TZID=America/New_York:20281010T110000
DTSTAMP:20260425T125447
CREATED:20230113T145846Z
LAST-MODIFIED:20230113T145846Z
UID:10003817-1854781200-1854788400@westoverepiscopalchurch.org
SUMMARY:Meals on Wheels
DESCRIPTION:Meals On Wheels (MOW) serves hot\, nutritious meals to the homebound elderly and/or disabled Monday through Friday.
URL:https://westoverepiscopalchurch.org/event/meals-on-wheels/2028-10-10/
END:VEVENT
BEGIN:VEVENT
DTSTART;TZID=America/New_York:20281011T090000
DTEND;TZID=America/New_York:20281011T110000
DTSTAMP:20260425T125447
CREATED:20230113T145846Z
LAST-MODIFIED:20230113T145846Z
UID:10003818-1854867600-1854874800@westoverepiscopalchurch.org
SUMMARY:Meals on Wheels
DESCRIPTION:Meals On Wheels (MOW) serves hot\, nutritious meals to the homebound elderly and/or disabled Monday through Friday.
URL:https://westoverepiscopalchurch.org/event/meals-on-wheels/2028-10-11/
END:VEVENT
BEGIN:VEVENT
DTSTART;TZID=America/New_York:20281012T090000
DTEND;TZID=America/New_York:20281012T110000
DTSTAMP:20260425T125447
CREATED:20230113T145846Z
LAST-MODIFIED:20230113T145846Z
UID:10003819-1854954000-1854961200@westoverepiscopalchurch.org
SUMMARY:Meals on Wheels
DESCRIPTION:Meals On Wheels (MOW) serves hot\, nutritious meals to the homebound elderly and/or disabled Monday through Friday.
URL:https://westoverepiscopalchurch.org/event/meals-on-wheels/2028-10-12/
END:VEVENT
BEGIN:VEVENT
DTSTART;TZID=America/New_York:20281013T090000
DTEND;TZID=America/New_York:20281013T110000
DTSTAMP:20260425T125447
CREATED:20230113T145846Z
LAST-MODIFIED:20230113T145846Z
UID:10003820-1855040400-1855047600@westoverepiscopalchurch.org
SUMMARY:Meals on Wheels
DESCRIPTION:Meals On Wheels (MOW) serves hot\, nutritious meals to the homebound elderly and/or disabled Monday through Friday.
URL:https://westoverepiscopalchurch.org/event/meals-on-wheels/2028-10-13/
END:VEVENT
BEGIN:VEVENT
DTSTART;TZID=America/New_York:20281016T090000
DTEND;TZID=America/New_York:20281016T110000
DTSTAMP:20260425T125447
CREATED:20230113T145846Z
LAST-MODIFIED:20230113T145846Z
UID:10003821-1855299600-1855306800@westoverepiscopalchurch.org
SUMMARY:Meals on Wheels
DESCRIPTION:Meals On Wheels (MOW) serves hot\, nutritious meals to the homebound elderly and/or disabled Monday through Friday.
URL:https://westoverepiscopalchurch.org/event/meals-on-wheels/2028-10-16/
END:VEVENT
BEGIN:VEVENT
DTSTART;TZID=America/New_York:20281017T090000
DTEND;TZID=America/New_York:20281017T110000
DTSTAMP:20260425T125447
CREATED:20230113T145846Z
LAST-MODIFIED:20230113T145846Z
UID:10003822-1855386000-1855393200@westoverepiscopalchurch.org
SUMMARY:Meals on Wheels
DESCRIPTION:Meals On Wheels (MOW) serves hot\, nutritious meals to the homebound elderly and/or disabled Monday through Friday.
URL:https://westoverepiscopalchurch.org/event/meals-on-wheels/2028-10-17/
END:VEVENT
BEGIN:VEVENT
DTSTART;TZID=America/New_York:20281018T090000
DTEND;TZID=America/New_York:20281018T110000
DTSTAMP:20260425T125447
CREATED:20230113T145846Z
LAST-MODIFIED:20230113T145846Z
UID:10003823-1855472400-1855479600@westoverepiscopalchurch.org
SUMMARY:Meals on Wheels
DESCRIPTION:Meals On Wheels (MOW) serves hot\, nutritious meals to the homebound elderly and/or disabled Monday through Friday.
URL:https://westoverepiscopalchurch.org/event/meals-on-wheels/2028-10-18/
END:VEVENT
BEGIN:VEVENT
DTSTART;TZID=America/New_York:20281019T090000
DTEND;TZID=America/New_York:20281019T110000
DTSTAMP:20260425T125447
CREATED:20230113T145846Z
LAST-MODIFIED:20230113T145846Z
UID:10003824-1855558800-1855566000@westoverepiscopalchurch.org
SUMMARY:Meals on Wheels
DESCRIPTION:Meals On Wheels (MOW) serves hot\, nutritious meals to the homebound elderly and/or disabled Monday through Friday.
URL:https://westoverepiscopalchurch.org/event/meals-on-wheels/2028-10-19/
END:VEVENT
BEGIN:VEVENT
DTSTART;TZID=America/New_York:20281020T090000
DTEND;TZID=America/New_York:20281020T110000
DTSTAMP:20260425T125447
CREATED:20230113T145846Z
LAST-MODIFIED:20230113T145846Z
UID:10003825-1855645200-1855652400@westoverepiscopalchurch.org
SUMMARY:Meals on Wheels
DESCRIPTION:Meals On Wheels (MOW) serves hot\, nutritious meals to the homebound elderly and/or disabled Monday through Friday.
URL:https://westoverepiscopalchurch.org/event/meals-on-wheels/2028-10-20/
END:VEVENT
BEGIN:VEVENT
DTSTART;TZID=America/New_York:20281023T090000
DTEND;TZID=America/New_York:20281023T110000
DTSTAMP:20260425T125447
CREATED:20230113T145846Z
LAST-MODIFIED:20230113T145846Z
UID:10003826-1855904400-1855911600@westoverepiscopalchurch.org
SUMMARY:Meals on Wheels
DESCRIPTION:Meals On Wheels (MOW) serves hot\, nutritious meals to the homebound elderly and/or disabled Monday through Friday.
URL:https://westoverepiscopalchurch.org/event/meals-on-wheels/2028-10-23/
END:VEVENT
BEGIN:VEVENT
DTSTART;TZID=America/New_York:20281024T090000
DTEND;TZID=America/New_York:20281024T110000
DTSTAMP:20260425T125447
CREATED:20230113T145846Z
LAST-MODIFIED:20230113T145846Z
UID:10003827-1855990800-1855998000@westoverepiscopalchurch.org
SUMMARY:Meals on Wheels
DESCRIPTION:Meals On Wheels (MOW) serves hot\, nutritious meals to the homebound elderly and/or disabled Monday through Friday.
URL:https://westoverepiscopalchurch.org/event/meals-on-wheels/2028-10-24/
END:VEVENT
BEGIN:VEVENT
DTSTART;TZID=America/New_York:20281025T090000
DTEND;TZID=America/New_York:20281025T110000
DTSTAMP:20260425T125447
CREATED:20230113T145846Z
LAST-MODIFIED:20230113T145846Z
UID:10003828-1856077200-1856084400@westoverepiscopalchurch.org
SUMMARY:Meals on Wheels
DESCRIPTION:Meals On Wheels (MOW) serves hot\, nutritious meals to the homebound elderly and/or disabled Monday through Friday.
URL:https://westoverepiscopalchurch.org/event/meals-on-wheels/2028-10-25/
END:VEVENT
BEGIN:VEVENT
DTSTART;TZID=America/New_York:20281026T090000
DTEND;TZID=America/New_York:20281026T110000
DTSTAMP:20260425T125447
CREATED:20230113T145846Z
LAST-MODIFIED:20230113T145846Z
UID:10003829-1856163600-1856170800@westoverepiscopalchurch.org
SUMMARY:Meals on Wheels
DESCRIPTION:Meals On Wheels (MOW) serves hot\, nutritious meals to the homebound elderly and/or disabled Monday through Friday.
URL:https://westoverepiscopalchurch.org/event/meals-on-wheels/2028-10-26/
END:VEVENT
BEGIN:VEVENT
DTSTART;TZID=America/New_York:20281027T090000
DTEND;TZID=America/New_York:20281027T110000
DTSTAMP:20260425T125447
CREATED:20230113T145846Z
LAST-MODIFIED:20230113T145846Z
UID:10003830-1856250000-1856257200@westoverepiscopalchurch.org
SUMMARY:Meals on Wheels
DESCRIPTION:Meals On Wheels (MOW) serves hot\, nutritious meals to the homebound elderly and/or disabled Monday through Friday.
URL:https://westoverepiscopalchurch.org/event/meals-on-wheels/2028-10-27/
END:VEVENT
BEGIN:VEVENT
DTSTART;TZID=America/New_York:20281030T090000
DTEND;TZID=America/New_York:20281030T110000
DTSTAMP:20260425T125447
CREATED:20230113T145846Z
LAST-MODIFIED:20230113T145846Z
UID:10003831-1856509200-1856516400@westoverepiscopalchurch.org
SUMMARY:Meals on Wheels
DESCRIPTION:Meals On Wheels (MOW) serves hot\, nutritious meals to the homebound elderly and/or disabled Monday through Friday.
URL:https://westoverepiscopalchurch.org/event/meals-on-wheels/2028-10-30/
END:VEVENT
BEGIN:VEVENT
DTSTART;TZID=America/New_York:20281031T090000
DTEND;TZID=America/New_York:20281031T110000
DTSTAMP:20260425T125447
CREATED:20230113T145846Z
LAST-MODIFIED:20230113T145846Z
UID:10003832-1856595600-1856602800@westoverepiscopalchurch.org
SUMMARY:Meals on Wheels
DESCRIPTION:Meals On Wheels (MOW) serves hot\, nutritious meals to the homebound elderly and/or disabled Monday through Friday.
URL:https://westoverepiscopalchurch.org/event/meals-on-wheels/2028-10-31/
END:VEVENT
BEGIN:VEVENT
DTSTART;TZID=America/New_York:20281101T090000
DTEND;TZID=America/New_York:20281101T110000
DTSTAMP:20260425T125447
CREATED:20230113T145846Z
LAST-MODIFIED:20230113T145846Z
UID:10003833-1856682000-1856689200@westoverepiscopalchurch.org
SUMMARY:Meals on Wheels
DESCRIPTION:Meals On Wheels (MOW) serves hot\, nutritious meals to the homebound elderly and/or disabled Monday through Friday.
URL:https://westoverepiscopalchurch.org/event/meals-on-wheels/2028-11-01/
END:VEVENT
BEGIN:VEVENT
DTSTART;TZID=America/New_York:20281102T090000
DTEND;TZID=America/New_York:20281102T110000
DTSTAMP:20260425T125447
CREATED:20230113T145846Z
LAST-MODIFIED:20230113T145846Z
UID:10003834-1856768400-1856775600@westoverepiscopalchurch.org
SUMMARY:Meals on Wheels
DESCRIPTION:Meals On Wheels (MOW) serves hot\, nutritious meals to the homebound elderly and/or disabled Monday through Friday.
URL:https://westoverepiscopalchurch.org/event/meals-on-wheels/2028-11-02/
END:VEVENT
BEGIN:VEVENT
DTSTART;TZID=America/New_York:20281103T090000
DTEND;TZID=America/New_York:20281103T110000
DTSTAMP:20260425T125447
CREATED:20230113T145846Z
LAST-MODIFIED:20230113T145846Z
UID:10003835-1856854800-1856862000@westoverepiscopalchurch.org
SUMMARY:Meals on Wheels
DESCRIPTION:Meals On Wheels (MOW) serves hot\, nutritious meals to the homebound elderly and/or disabled Monday through Friday.
URL:https://westoverepiscopalchurch.org/event/meals-on-wheels/2028-11-03/
END:VEVENT
BEGIN:VEVENT
DTSTART;TZID=America/New_York:20281106T090000
DTEND;TZID=America/New_York:20281106T110000
DTSTAMP:20260425T125447
CREATED:20230113T145846Z
LAST-MODIFIED:20230113T145846Z
UID:10003836-1857114000-1857121200@westoverepiscopalchurch.org
SUMMARY:Meals on Wheels
DESCRIPTION:Meals On Wheels (MOW) serves hot\, nutritious meals to the homebound elderly and/or disabled Monday through Friday.
URL:https://westoverepiscopalchurch.org/event/meals-on-wheels/2028-11-06/
END:VEVENT
BEGIN:VEVENT
DTSTART;TZID=America/New_York:20281107T090000
DTEND;TZID=America/New_York:20281107T110000
DTSTAMP:20260425T125447
CREATED:20230113T145846Z
LAST-MODIFIED:20230113T145846Z
UID:10003837-1857200400-1857207600@westoverepiscopalchurch.org
SUMMARY:Meals on Wheels
DESCRIPTION:Meals On Wheels (MOW) serves hot\, nutritious meals to the homebound elderly and/or disabled Monday through Friday.
URL:https://westoverepiscopalchurch.org/event/meals-on-wheels/2028-11-07/
END:VEVENT
BEGIN:VEVENT
DTSTART;TZID=America/New_York:20281108T090000
DTEND;TZID=America/New_York:20281108T110000
DTSTAMP:20260425T125447
CREATED:20230113T145846Z
LAST-MODIFIED:20230113T145846Z
UID:10003838-1857286800-1857294000@westoverepiscopalchurch.org
SUMMARY:Meals on Wheels
DESCRIPTION:Meals On Wheels (MOW) serves hot\, nutritious meals to the homebound elderly and/or disabled Monday through Friday.
URL:https://westoverepiscopalchurch.org/event/meals-on-wheels/2028-11-08/
END:VEVENT
BEGIN:VEVENT
DTSTART;TZID=America/New_York:20281109T090000
DTEND;TZID=America/New_York:20281109T110000
DTSTAMP:20260425T125447
CREATED:20230113T145846Z
LAST-MODIFIED:20230113T145846Z
UID:10003839-1857373200-1857380400@westoverepiscopalchurch.org
SUMMARY:Meals on Wheels
DESCRIPTION:Meals On Wheels (MOW) serves hot\, nutritious meals to the homebound elderly and/or disabled Monday through Friday.
URL:https://westoverepiscopalchurch.org/event/meals-on-wheels/2028-11-09/
END:VEVENT
BEGIN:VEVENT
DTSTART;TZID=America/New_York:20281110T090000
DTEND;TZID=America/New_York:20281110T110000
DTSTAMP:20260425T125447
CREATED:20230113T145846Z
LAST-MODIFIED:20230113T145846Z
UID:10003840-1857459600-1857466800@westoverepiscopalchurch.org
SUMMARY:Meals on Wheels
DESCRIPTION:Meals On Wheels (MOW) serves hot\, nutritious meals to the homebound elderly and/or disabled Monday through Friday.
URL:https://westoverepiscopalchurch.org/event/meals-on-wheels/2028-11-10/
END:VEVENT
BEGIN:VEVENT
DTSTART;TZID=America/New_York:20281113T090000
DTEND;TZID=America/New_York:20281113T110000
DTSTAMP:20260425T125447
CREATED:20230113T145846Z
LAST-MODIFIED:20230113T145846Z
UID:10003841-1857718800-1857726000@westoverepiscopalchurch.org
SUMMARY:Meals on Wheels
DESCRIPTION:Meals On Wheels (MOW) serves hot\, nutritious meals to the homebound elderly and/or disabled Monday through Friday.
URL:https://westoverepiscopalchurch.org/event/meals-on-wheels/2028-11-13/
END:VEVENT
BEGIN:VEVENT
DTSTART;TZID=America/New_York:20281114T090000
DTEND;TZID=America/New_York:20281114T110000
DTSTAMP:20260425T125447
CREATED:20230113T145846Z
LAST-MODIFIED:20230113T145846Z
UID:10003842-1857805200-1857812400@westoverepiscopalchurch.org
SUMMARY:Meals on Wheels
DESCRIPTION:Meals On Wheels (MOW) serves hot\, nutritious meals to the homebound elderly and/or disabled Monday through Friday.
URL:https://westoverepiscopalchurch.org/event/meals-on-wheels/2028-11-14/
END:VEVENT
BEGIN:VEVENT
DTSTART;TZID=America/New_York:20281115T090000
DTEND;TZID=America/New_York:20281115T110000
DTSTAMP:20260425T125447
CREATED:20230113T145846Z
LAST-MODIFIED:20230113T145846Z
UID:10003843-1857891600-1857898800@westoverepiscopalchurch.org
SUMMARY:Meals on Wheels
DESCRIPTION:Meals On Wheels (MOW) serves hot\, nutritious meals to the homebound elderly and/or disabled Monday through Friday.
URL:https://westoverepiscopalchurch.org/event/meals-on-wheels/2028-11-15/
END:VEVENT
BEGIN:VEVENT
DTSTART;TZID=America/New_York:20281116T090000
DTEND;TZID=America/New_York:20281116T110000
DTSTAMP:20260425T125447
CREATED:20230113T145846Z
LAST-MODIFIED:20230113T145846Z
UID:10003844-1857978000-1857985200@westoverepiscopalchurch.org
SUMMARY:Meals on Wheels
DESCRIPTION:Meals On Wheels (MOW) serves hot\, nutritious meals to the homebound elderly and/or disabled Monday through Friday.
URL:https://westoverepiscopalchurch.org/event/meals-on-wheels/2028-11-16/
END:VEVENT
BEGIN:VEVENT
DTSTART;TZID=America/New_York:20281117T090000
DTEND;TZID=America/New_York:20281117T110000
DTSTAMP:20260425T125447
CREATED:20230113T145846Z
LAST-MODIFIED:20230113T145846Z
UID:10003845-1858064400-1858071600@westoverepiscopalchurch.org
SUMMARY:Meals on Wheels
DESCRIPTION:Meals On Wheels (MOW) serves hot\, nutritious meals to the homebound elderly and/or disabled Monday through Friday.
URL:https://westoverepiscopalchurch.org/event/meals-on-wheels/2028-11-17/
END:VEVENT
END:VCALENDAR