BEGIN:VCALENDAR
VERSION:2.0
PRODID:-//Westover Episcopal Church - Charles City, VA - ECPv6.15.20//NONSGML v1.0//EN
CALSCALE:GREGORIAN
METHOD:PUBLISH
X-ORIGINAL-URL:https://westoverepiscopalchurch.org
X-WR-CALDESC:Events for Westover Episcopal Church - Charles City, VA
REFRESH-INTERVAL;VALUE=DURATION:PT1H
X-Robots-Tag:noindex
X-PUBLISHED-TTL:PT1H
BEGIN:VTIMEZONE
TZID:America/New_York
BEGIN:DAYLIGHT
TZOFFSETFROM:-0500
TZOFFSETTO:-0400
TZNAME:EDT
DTSTART:20230312T070000
END:DAYLIGHT
BEGIN:STANDARD
TZOFFSETFROM:-0400
TZOFFSETTO:-0500
TZNAME:EST
DTSTART:20231105T060000
END:STANDARD
BEGIN:DAYLIGHT
TZOFFSETFROM:-0500
TZOFFSETTO:-0400
TZNAME:EDT
DTSTART:20240310T070000
END:DAYLIGHT
BEGIN:STANDARD
TZOFFSETFROM:-0400
TZOFFSETTO:-0500
TZNAME:EST
DTSTART:20241103T060000
END:STANDARD
BEGIN:DAYLIGHT
TZOFFSETFROM:-0500
TZOFFSETTO:-0400
TZNAME:EDT
DTSTART:20250309T070000
END:DAYLIGHT
BEGIN:STANDARD
TZOFFSETFROM:-0400
TZOFFSETTO:-0500
TZNAME:EST
DTSTART:20251102T060000
END:STANDARD
BEGIN:DAYLIGHT
TZOFFSETFROM:-0500
TZOFFSETTO:-0400
TZNAME:EDT
DTSTART:20260308T070000
END:DAYLIGHT
BEGIN:STANDARD
TZOFFSETFROM:-0400
TZOFFSETTO:-0500
TZNAME:EST
DTSTART:20261101T060000
END:STANDARD
END:VTIMEZONE
BEGIN:VEVENT
DTSTART;TZID=America/New_York:20241217T090000
DTEND;TZID=America/New_York:20241217T110000
DTSTAMP:20260425T084258
CREATED:20240105T180517Z
LAST-MODIFIED:20240105T180520Z
UID:10001436-1734426000-1734433200@westoverepiscopalchurch.org
SUMMARY:Meals on Wheels
DESCRIPTION:
URL:https://westoverepiscopalchurch.org/event/meals-on-wheels-3-2/2024-12-17/
END:VEVENT
BEGIN:VEVENT
DTSTART;TZID=America/New_York:20241218T090000
DTEND;TZID=America/New_York:20241218T110000
DTSTAMP:20260425T084258
CREATED:20230113T145846Z
LAST-MODIFIED:20230113T145846Z
UID:10002823-1734512400-1734519600@westoverepiscopalchurch.org
SUMMARY:Meals on Wheels
DESCRIPTION:Meals On Wheels (MOW) serves hot\, nutritious meals to the homebound elderly and/or disabled Monday through Friday.
URL:https://westoverepiscopalchurch.org/event/meals-on-wheels/2024-12-18/
END:VEVENT
BEGIN:VEVENT
DTSTART;TZID=America/New_York:20241218T090000
DTEND;TZID=America/New_York:20241218T110000
DTSTAMP:20260425T084258
CREATED:20240105T180517Z
LAST-MODIFIED:20240105T180520Z
UID:10001437-1734512400-1734519600@westoverepiscopalchurch.org
SUMMARY:Meals on Wheels
DESCRIPTION:
URL:https://westoverepiscopalchurch.org/event/meals-on-wheels-3-2/2024-12-18/
END:VEVENT
BEGIN:VEVENT
DTSTART;TZID=America/New_York:20241219T090000
DTEND;TZID=America/New_York:20241219T110000
DTSTAMP:20260425T084258
CREATED:20230113T145846Z
LAST-MODIFIED:20230113T145846Z
UID:10002824-1734598800-1734606000@westoverepiscopalchurch.org
SUMMARY:Meals on Wheels
DESCRIPTION:Meals On Wheels (MOW) serves hot\, nutritious meals to the homebound elderly and/or disabled Monday through Friday.
URL:https://westoverepiscopalchurch.org/event/meals-on-wheels/2024-12-19/
END:VEVENT
BEGIN:VEVENT
DTSTART;TZID=America/New_York:20241219T090000
DTEND;TZID=America/New_York:20241219T110000
DTSTAMP:20260425T084258
CREATED:20240105T180517Z
LAST-MODIFIED:20240105T180520Z
UID:10001438-1734598800-1734606000@westoverepiscopalchurch.org
SUMMARY:Meals on Wheels
DESCRIPTION:
URL:https://westoverepiscopalchurch.org/event/meals-on-wheels-3-2/2024-12-19/
END:VEVENT
BEGIN:VEVENT
DTSTART;TZID=America/New_York:20241219T100000
DTEND;TZID=America/New_York:20241219T110000
DTSTAMP:20260425T084258
CREATED:20241203T183648Z
LAST-MODIFIED:20241203T183648Z
UID:10001514-1734602400-1734606000@westoverepiscopalchurch.org
SUMMARY:Gentle Yoga with Rev. Becky
DESCRIPTION:
URL:https://westoverepiscopalchurch.org/event/gentle-yoga-with-rev-becky-5/2024-12-19/
END:VEVENT
BEGIN:VEVENT
DTSTART;TZID=America/New_York:20241220T090000
DTEND;TZID=America/New_York:20241220T110000
DTSTAMP:20260425T084258
CREATED:20230113T145846Z
LAST-MODIFIED:20230113T145846Z
UID:10002825-1734685200-1734692400@westoverepiscopalchurch.org
SUMMARY:Meals on Wheels
DESCRIPTION:Meals On Wheels (MOW) serves hot\, nutritious meals to the homebound elderly and/or disabled Monday through Friday.
URL:https://westoverepiscopalchurch.org/event/meals-on-wheels/2024-12-20/
END:VEVENT
BEGIN:VEVENT
DTSTART;TZID=America/New_York:20241220T090000
DTEND;TZID=America/New_York:20241220T110000
DTSTAMP:20260425T084258
CREATED:20240105T180517Z
LAST-MODIFIED:20240105T180520Z
UID:10001439-1734685200-1734692400@westoverepiscopalchurch.org
SUMMARY:Meals on Wheels
DESCRIPTION:
URL:https://westoverepiscopalchurch.org/event/meals-on-wheels-3-2/2024-12-20/
END:VEVENT
BEGIN:VEVENT
DTSTART;TZID=America/New_York:20241222T100000
DTEND;TZID=America/New_York:20241222T110000
DTSTAMP:20260425T084258
CREATED:20240924T175107Z
LAST-MODIFIED:20240924T175107Z
UID:10001500-1734861600-1734865200@westoverepiscopalchurch.org
SUMMARY:Fourth Sunday of Advent Service
DESCRIPTION:
URL:https://westoverepiscopalchurch.org/event/fourth-sunday-of-advent-service/
END:VEVENT
BEGIN:VEVENT
DTSTART;TZID=America/New_York:20241223T090000
DTEND;TZID=America/New_York:20241223T110000
DTSTAMP:20260425T084258
CREATED:20230113T145846Z
LAST-MODIFIED:20230113T145846Z
UID:10002826-1734944400-1734951600@westoverepiscopalchurch.org
SUMMARY:Meals on Wheels
DESCRIPTION:Meals On Wheels (MOW) serves hot\, nutritious meals to the homebound elderly and/or disabled Monday through Friday.
URL:https://westoverepiscopalchurch.org/event/meals-on-wheels/2024-12-23/
END:VEVENT
BEGIN:VEVENT
DTSTART;TZID=America/New_York:20241223T090000
DTEND;TZID=America/New_York:20241223T110000
DTSTAMP:20260425T084258
CREATED:20240105T180517Z
LAST-MODIFIED:20240105T180520Z
UID:10001440-1734944400-1734951600@westoverepiscopalchurch.org
SUMMARY:Meals on Wheels
DESCRIPTION:
URL:https://westoverepiscopalchurch.org/event/meals-on-wheels-3-2/2024-12-23/
END:VEVENT
BEGIN:VEVENT
DTSTART;TZID=America/New_York:20241224T090000
DTEND;TZID=America/New_York:20241224T110000
DTSTAMP:20260425T084258
CREATED:20230113T145846Z
LAST-MODIFIED:20230113T145846Z
UID:10002827-1735030800-1735038000@westoverepiscopalchurch.org
SUMMARY:Meals on Wheels
DESCRIPTION:Meals On Wheels (MOW) serves hot\, nutritious meals to the homebound elderly and/or disabled Monday through Friday.
URL:https://westoverepiscopalchurch.org/event/meals-on-wheels/2024-12-24/
END:VEVENT
BEGIN:VEVENT
DTSTART;TZID=America/New_York:20241224T090000
DTEND;TZID=America/New_York:20241224T110000
DTSTAMP:20260425T084258
CREATED:20240105T180517Z
LAST-MODIFIED:20240105T180520Z
UID:10001441-1735030800-1735038000@westoverepiscopalchurch.org
SUMMARY:Meals on Wheels
DESCRIPTION:
URL:https://westoverepiscopalchurch.org/event/meals-on-wheels-3-2/2024-12-24/
END:VEVENT
BEGIN:VEVENT
DTSTART;TZID=America/New_York:20241224T173000
DTEND;TZID=America/New_York:20241224T183000
DTSTAMP:20260425T084258
CREATED:20240924T175307Z
LAST-MODIFIED:20240924T175307Z
UID:10001501-1735061400-1735065000@westoverepiscopalchurch.org
SUMMARY:Christmas Eve Service
DESCRIPTION:
URL:https://westoverepiscopalchurch.org/event/christmas-eve-service-3/
END:VEVENT
BEGIN:VEVENT
DTSTART;TZID=America/New_York:20241225T090000
DTEND;TZID=America/New_York:20241225T110000
DTSTAMP:20260425T084258
CREATED:20230113T145846Z
LAST-MODIFIED:20230113T145846Z
UID:10002828-1735117200-1735124400@westoverepiscopalchurch.org
SUMMARY:Meals on Wheels
DESCRIPTION:Meals On Wheels (MOW) serves hot\, nutritious meals to the homebound elderly and/or disabled Monday through Friday.
URL:https://westoverepiscopalchurch.org/event/meals-on-wheels/2024-12-25/
END:VEVENT
BEGIN:VEVENT
DTSTART;TZID=America/New_York:20241225T090000
DTEND;TZID=America/New_York:20241225T110000
DTSTAMP:20260425T084258
CREATED:20240105T180517Z
LAST-MODIFIED:20240105T180520Z
UID:10001442-1735117200-1735124400@westoverepiscopalchurch.org
SUMMARY:Meals on Wheels
DESCRIPTION:
URL:https://westoverepiscopalchurch.org/event/meals-on-wheels-3-2/2024-12-25/
END:VEVENT
BEGIN:VEVENT
DTSTART;TZID=America/New_York:20241226T090000
DTEND;TZID=America/New_York:20241226T110000
DTSTAMP:20260425T084258
CREATED:20230113T145846Z
LAST-MODIFIED:20230113T145846Z
UID:10002829-1735203600-1735210800@westoverepiscopalchurch.org
SUMMARY:Meals on Wheels
DESCRIPTION:Meals On Wheels (MOW) serves hot\, nutritious meals to the homebound elderly and/or disabled Monday through Friday.
URL:https://westoverepiscopalchurch.org/event/meals-on-wheels/2024-12-26/
END:VEVENT
BEGIN:VEVENT
DTSTART;TZID=America/New_York:20241226T090000
DTEND;TZID=America/New_York:20241226T110000
DTSTAMP:20260425T084258
CREATED:20240105T180517Z
LAST-MODIFIED:20240105T180520Z
UID:10001443-1735203600-1735210800@westoverepiscopalchurch.org
SUMMARY:Meals on Wheels
DESCRIPTION:
URL:https://westoverepiscopalchurch.org/event/meals-on-wheels-3-2/2024-12-26/
END:VEVENT
BEGIN:VEVENT
DTSTART;TZID=America/New_York:20241226T100000
DTEND;TZID=America/New_York:20241226T110000
DTSTAMP:20260425T084258
CREATED:20241220T200211Z
LAST-MODIFIED:20241220T200211Z
UID:10001631-1735207200-1735210800@westoverepiscopalchurch.org
SUMMARY:No Yoga Today
DESCRIPTION:
URL:https://westoverepiscopalchurch.org/event/no-yoga-today-3/2024-12-26/
END:VEVENT
BEGIN:VEVENT
DTSTART;TZID=America/New_York:20241227T090000
DTEND;TZID=America/New_York:20241227T110000
DTSTAMP:20260425T084258
CREATED:20230113T145846Z
LAST-MODIFIED:20230113T145846Z
UID:10002830-1735290000-1735297200@westoverepiscopalchurch.org
SUMMARY:Meals on Wheels
DESCRIPTION:Meals On Wheels (MOW) serves hot\, nutritious meals to the homebound elderly and/or disabled Monday through Friday.
URL:https://westoverepiscopalchurch.org/event/meals-on-wheels/2024-12-27/
END:VEVENT
BEGIN:VEVENT
DTSTART;TZID=America/New_York:20241227T090000
DTEND;TZID=America/New_York:20241227T110000
DTSTAMP:20260425T084258
CREATED:20240105T180517Z
LAST-MODIFIED:20240105T180520Z
UID:10001444-1735290000-1735297200@westoverepiscopalchurch.org
SUMMARY:Meals on Wheels
DESCRIPTION:
URL:https://westoverepiscopalchurch.org/event/meals-on-wheels-3-2/2024-12-27/
END:VEVENT
BEGIN:VEVENT
DTSTART;TZID=America/New_York:20241229T100000
DTEND;TZID=America/New_York:20241229T110000
DTSTAMP:20260425T084258
CREATED:20240924T175353Z
LAST-MODIFIED:20240924T175353Z
UID:10001502-1735466400-1735470000@westoverepiscopalchurch.org
SUMMARY:Christmas Lessons and Carols Service
DESCRIPTION:
URL:https://westoverepiscopalchurch.org/event/christmas-lessons-and-carols-service/
END:VEVENT
BEGIN:VEVENT
DTSTART;TZID=America/New_York:20241230T090000
DTEND;TZID=America/New_York:20241230T110000
DTSTAMP:20260425T084258
CREATED:20230113T145846Z
LAST-MODIFIED:20230113T145846Z
UID:10002831-1735549200-1735556400@westoverepiscopalchurch.org
SUMMARY:Meals on Wheels
DESCRIPTION:Meals On Wheels (MOW) serves hot\, nutritious meals to the homebound elderly and/or disabled Monday through Friday.
URL:https://westoverepiscopalchurch.org/event/meals-on-wheels/2024-12-30/
END:VEVENT
BEGIN:VEVENT
DTSTART;TZID=America/New_York:20241230T090000
DTEND;TZID=America/New_York:20241230T110000
DTSTAMP:20260425T084258
CREATED:20240105T180517Z
LAST-MODIFIED:20240105T180520Z
UID:10001445-1735549200-1735556400@westoverepiscopalchurch.org
SUMMARY:Meals on Wheels
DESCRIPTION:
URL:https://westoverepiscopalchurch.org/event/meals-on-wheels-3-2/2024-12-30/
END:VEVENT
BEGIN:VEVENT
DTSTART;TZID=America/New_York:20241231T090000
DTEND;TZID=America/New_York:20241231T110000
DTSTAMP:20260425T084258
CREATED:20230113T145846Z
LAST-MODIFIED:20230113T145846Z
UID:10002832-1735635600-1735642800@westoverepiscopalchurch.org
SUMMARY:Meals on Wheels
DESCRIPTION:Meals On Wheels (MOW) serves hot\, nutritious meals to the homebound elderly and/or disabled Monday through Friday.
URL:https://westoverepiscopalchurch.org/event/meals-on-wheels/2024-12-31/
END:VEVENT
BEGIN:VEVENT
DTSTART;TZID=America/New_York:20241231T090000
DTEND;TZID=America/New_York:20241231T110000
DTSTAMP:20260425T084258
CREATED:20240105T180517Z
LAST-MODIFIED:20240105T180520Z
UID:10001446-1735635600-1735642800@westoverepiscopalchurch.org
SUMMARY:Meals on Wheels
DESCRIPTION:
URL:https://westoverepiscopalchurch.org/event/meals-on-wheels-3-2/2024-12-31/
END:VEVENT
BEGIN:VEVENT
DTSTART;TZID=America/New_York:20250101T090000
DTEND;TZID=America/New_York:20250101T110000
DTSTAMP:20260425T084258
CREATED:20230113T145846Z
LAST-MODIFIED:20230113T145846Z
UID:10002833-1735722000-1735729200@westoverepiscopalchurch.org
SUMMARY:Meals on Wheels
DESCRIPTION:Meals On Wheels (MOW) serves hot\, nutritious meals to the homebound elderly and/or disabled Monday through Friday.
URL:https://westoverepiscopalchurch.org/event/meals-on-wheels/2025-01-01/
END:VEVENT
BEGIN:VEVENT
DTSTART;TZID=America/New_York:20250101T090000
DTEND;TZID=America/New_York:20250101T110000
DTSTAMP:20260425T084258
CREATED:20240105T180517Z
LAST-MODIFIED:20240105T180520Z
UID:10001447-1735722000-1735729200@westoverepiscopalchurch.org
SUMMARY:Meals on Wheels
DESCRIPTION:
URL:https://westoverepiscopalchurch.org/event/meals-on-wheels-3-2/2025-01-01/
END:VEVENT
BEGIN:VEVENT
DTSTART;TZID=America/New_York:20250102T090000
DTEND;TZID=America/New_York:20250102T110000
DTSTAMP:20260425T084258
CREATED:20230113T145846Z
LAST-MODIFIED:20230113T145846Z
UID:10002834-1735808400-1735815600@westoverepiscopalchurch.org
SUMMARY:Meals on Wheels
DESCRIPTION:Meals On Wheels (MOW) serves hot\, nutritious meals to the homebound elderly and/or disabled Monday through Friday.
URL:https://westoverepiscopalchurch.org/event/meals-on-wheels/2025-01-02/
END:VEVENT
BEGIN:VEVENT
DTSTART;TZID=America/New_York:20250102T090000
DTEND;TZID=America/New_York:20250102T110000
DTSTAMP:20260425T084258
CREATED:20240105T180517Z
LAST-MODIFIED:20240105T180520Z
UID:10001448-1735808400-1735815600@westoverepiscopalchurch.org
SUMMARY:Meals on Wheels
DESCRIPTION:
URL:https://westoverepiscopalchurch.org/event/meals-on-wheels-3-2/2025-01-02/
END:VEVENT
END:VCALENDAR