BEGIN:VCALENDAR
VERSION:2.0
PRODID:-//Westover Episcopal Church - Charles City, VA - ECPv6.15.20//NONSGML v1.0//EN
CALSCALE:GREGORIAN
METHOD:PUBLISH
X-ORIGINAL-URL:https://westoverepiscopalchurch.org
X-WR-CALDESC:Events for Westover Episcopal Church - Charles City, VA
REFRESH-INTERVAL;VALUE=DURATION:PT1H
X-Robots-Tag:noindex
X-PUBLISHED-TTL:PT1H
BEGIN:VTIMEZONE
TZID:America/New_York
BEGIN:DAYLIGHT
TZOFFSETFROM:-0500
TZOFFSETTO:-0400
TZNAME:EDT
DTSTART:20270314T070000
END:DAYLIGHT
BEGIN:STANDARD
TZOFFSETFROM:-0400
TZOFFSETTO:-0500
TZNAME:EST
DTSTART:20271107T060000
END:STANDARD
BEGIN:DAYLIGHT
TZOFFSETFROM:-0500
TZOFFSETTO:-0400
TZNAME:EDT
DTSTART:20280312T070000
END:DAYLIGHT
BEGIN:STANDARD
TZOFFSETFROM:-0400
TZOFFSETTO:-0500
TZNAME:EST
DTSTART:20281105T060000
END:STANDARD
BEGIN:DAYLIGHT
TZOFFSETFROM:-0500
TZOFFSETTO:-0400
TZNAME:EDT
DTSTART:20290311T070000
END:DAYLIGHT
BEGIN:STANDARD
TZOFFSETFROM:-0400
TZOFFSETTO:-0500
TZNAME:EST
DTSTART:20291104T060000
END:STANDARD
END:VTIMEZONE
BEGIN:VEVENT
DTSTART;TZID=America/New_York:20280117T090000
DTEND;TZID=America/New_York:20280117T110000
DTSTAMP:20260425T063509
CREATED:20230113T145846Z
LAST-MODIFIED:20230113T145846Z
UID:10003626-1831712400-1831719600@westoverepiscopalchurch.org
SUMMARY:Meals on Wheels
DESCRIPTION:Meals On Wheels (MOW) serves hot\, nutritious meals to the homebound elderly and/or disabled Monday through Friday.
URL:https://westoverepiscopalchurch.org/event/meals-on-wheels/2028-01-17/
END:VEVENT
BEGIN:VEVENT
DTSTART;TZID=America/New_York:20280118T090000
DTEND;TZID=America/New_York:20280118T110000
DTSTAMP:20260425T063509
CREATED:20230113T145846Z
LAST-MODIFIED:20230113T145846Z
UID:10003627-1831798800-1831806000@westoverepiscopalchurch.org
SUMMARY:Meals on Wheels
DESCRIPTION:Meals On Wheels (MOW) serves hot\, nutritious meals to the homebound elderly and/or disabled Monday through Friday.
URL:https://westoverepiscopalchurch.org/event/meals-on-wheels/2028-01-18/
END:VEVENT
BEGIN:VEVENT
DTSTART;TZID=America/New_York:20280119T090000
DTEND;TZID=America/New_York:20280119T110000
DTSTAMP:20260425T063509
CREATED:20230113T145846Z
LAST-MODIFIED:20230113T145846Z
UID:10003628-1831885200-1831892400@westoverepiscopalchurch.org
SUMMARY:Meals on Wheels
DESCRIPTION:Meals On Wheels (MOW) serves hot\, nutritious meals to the homebound elderly and/or disabled Monday through Friday.
URL:https://westoverepiscopalchurch.org/event/meals-on-wheels/2028-01-19/
END:VEVENT
BEGIN:VEVENT
DTSTART;TZID=America/New_York:20280120T090000
DTEND;TZID=America/New_York:20280120T110000
DTSTAMP:20260425T063509
CREATED:20230113T145846Z
LAST-MODIFIED:20230113T145846Z
UID:10003629-1831971600-1831978800@westoverepiscopalchurch.org
SUMMARY:Meals on Wheels
DESCRIPTION:Meals On Wheels (MOW) serves hot\, nutritious meals to the homebound elderly and/or disabled Monday through Friday.
URL:https://westoverepiscopalchurch.org/event/meals-on-wheels/2028-01-20/
END:VEVENT
BEGIN:VEVENT
DTSTART;TZID=America/New_York:20280121T090000
DTEND;TZID=America/New_York:20280121T110000
DTSTAMP:20260425T063509
CREATED:20230113T145846Z
LAST-MODIFIED:20230113T145846Z
UID:10003630-1832058000-1832065200@westoverepiscopalchurch.org
SUMMARY:Meals on Wheels
DESCRIPTION:Meals On Wheels (MOW) serves hot\, nutritious meals to the homebound elderly and/or disabled Monday through Friday.
URL:https://westoverepiscopalchurch.org/event/meals-on-wheels/2028-01-21/
END:VEVENT
BEGIN:VEVENT
DTSTART;TZID=America/New_York:20280124T090000
DTEND;TZID=America/New_York:20280124T110000
DTSTAMP:20260425T063509
CREATED:20230113T145846Z
LAST-MODIFIED:20230113T145846Z
UID:10003631-1832317200-1832324400@westoverepiscopalchurch.org
SUMMARY:Meals on Wheels
DESCRIPTION:Meals On Wheels (MOW) serves hot\, nutritious meals to the homebound elderly and/or disabled Monday through Friday.
URL:https://westoverepiscopalchurch.org/event/meals-on-wheels/2028-01-24/
END:VEVENT
BEGIN:VEVENT
DTSTART;TZID=America/New_York:20280125T090000
DTEND;TZID=America/New_York:20280125T110000
DTSTAMP:20260425T063509
CREATED:20230113T145846Z
LAST-MODIFIED:20230113T145846Z
UID:10003632-1832403600-1832410800@westoverepiscopalchurch.org
SUMMARY:Meals on Wheels
DESCRIPTION:Meals On Wheels (MOW) serves hot\, nutritious meals to the homebound elderly and/or disabled Monday through Friday.
URL:https://westoverepiscopalchurch.org/event/meals-on-wheels/2028-01-25/
END:VEVENT
BEGIN:VEVENT
DTSTART;TZID=America/New_York:20280126T090000
DTEND;TZID=America/New_York:20280126T110000
DTSTAMP:20260425T063509
CREATED:20230113T145846Z
LAST-MODIFIED:20230113T145846Z
UID:10003633-1832490000-1832497200@westoverepiscopalchurch.org
SUMMARY:Meals on Wheels
DESCRIPTION:Meals On Wheels (MOW) serves hot\, nutritious meals to the homebound elderly and/or disabled Monday through Friday.
URL:https://westoverepiscopalchurch.org/event/meals-on-wheels/2028-01-26/
END:VEVENT
BEGIN:VEVENT
DTSTART;TZID=America/New_York:20280127T090000
DTEND;TZID=America/New_York:20280127T110000
DTSTAMP:20260425T063509
CREATED:20230113T145846Z
LAST-MODIFIED:20230113T145846Z
UID:10003634-1832576400-1832583600@westoverepiscopalchurch.org
SUMMARY:Meals on Wheels
DESCRIPTION:Meals On Wheels (MOW) serves hot\, nutritious meals to the homebound elderly and/or disabled Monday through Friday.
URL:https://westoverepiscopalchurch.org/event/meals-on-wheels/2028-01-27/
END:VEVENT
BEGIN:VEVENT
DTSTART;TZID=America/New_York:20280128T090000
DTEND;TZID=America/New_York:20280128T110000
DTSTAMP:20260425T063509
CREATED:20230113T145846Z
LAST-MODIFIED:20230113T145846Z
UID:10003635-1832662800-1832670000@westoverepiscopalchurch.org
SUMMARY:Meals on Wheels
DESCRIPTION:Meals On Wheels (MOW) serves hot\, nutritious meals to the homebound elderly and/or disabled Monday through Friday.
URL:https://westoverepiscopalchurch.org/event/meals-on-wheels/2028-01-28/
END:VEVENT
BEGIN:VEVENT
DTSTART;TZID=America/New_York:20280131T090000
DTEND;TZID=America/New_York:20280131T110000
DTSTAMP:20260425T063509
CREATED:20230113T145846Z
LAST-MODIFIED:20230113T145846Z
UID:10003636-1832922000-1832929200@westoverepiscopalchurch.org
SUMMARY:Meals on Wheels
DESCRIPTION:Meals On Wheels (MOW) serves hot\, nutritious meals to the homebound elderly and/or disabled Monday through Friday.
URL:https://westoverepiscopalchurch.org/event/meals-on-wheels/2028-01-31/
END:VEVENT
BEGIN:VEVENT
DTSTART;TZID=America/New_York:20280201T090000
DTEND;TZID=America/New_York:20280201T110000
DTSTAMP:20260425T063509
CREATED:20230113T145846Z
LAST-MODIFIED:20230113T145846Z
UID:10003637-1833008400-1833015600@westoverepiscopalchurch.org
SUMMARY:Meals on Wheels
DESCRIPTION:Meals On Wheels (MOW) serves hot\, nutritious meals to the homebound elderly and/or disabled Monday through Friday.
URL:https://westoverepiscopalchurch.org/event/meals-on-wheels/2028-02-01/
END:VEVENT
BEGIN:VEVENT
DTSTART;TZID=America/New_York:20280202T090000
DTEND;TZID=America/New_York:20280202T110000
DTSTAMP:20260425T063509
CREATED:20230113T145846Z
LAST-MODIFIED:20230113T145846Z
UID:10003638-1833094800-1833102000@westoverepiscopalchurch.org
SUMMARY:Meals on Wheels
DESCRIPTION:Meals On Wheels (MOW) serves hot\, nutritious meals to the homebound elderly and/or disabled Monday through Friday.
URL:https://westoverepiscopalchurch.org/event/meals-on-wheels/2028-02-02/
END:VEVENT
BEGIN:VEVENT
DTSTART;TZID=America/New_York:20280203T090000
DTEND;TZID=America/New_York:20280203T110000
DTSTAMP:20260425T063509
CREATED:20230113T145846Z
LAST-MODIFIED:20230113T145846Z
UID:10003639-1833181200-1833188400@westoverepiscopalchurch.org
SUMMARY:Meals on Wheels
DESCRIPTION:Meals On Wheels (MOW) serves hot\, nutritious meals to the homebound elderly and/or disabled Monday through Friday.
URL:https://westoverepiscopalchurch.org/event/meals-on-wheels/2028-02-03/
END:VEVENT
BEGIN:VEVENT
DTSTART;TZID=America/New_York:20280204T090000
DTEND;TZID=America/New_York:20280204T110000
DTSTAMP:20260425T063509
CREATED:20230113T145846Z
LAST-MODIFIED:20230113T145846Z
UID:10003640-1833267600-1833274800@westoverepiscopalchurch.org
SUMMARY:Meals on Wheels
DESCRIPTION:Meals On Wheels (MOW) serves hot\, nutritious meals to the homebound elderly and/or disabled Monday through Friday.
URL:https://westoverepiscopalchurch.org/event/meals-on-wheels/2028-02-04/
END:VEVENT
BEGIN:VEVENT
DTSTART;TZID=America/New_York:20280207T090000
DTEND;TZID=America/New_York:20280207T110000
DTSTAMP:20260425T063509
CREATED:20230113T145846Z
LAST-MODIFIED:20230113T145846Z
UID:10003641-1833526800-1833534000@westoverepiscopalchurch.org
SUMMARY:Meals on Wheels
DESCRIPTION:Meals On Wheels (MOW) serves hot\, nutritious meals to the homebound elderly and/or disabled Monday through Friday.
URL:https://westoverepiscopalchurch.org/event/meals-on-wheels/2028-02-07/
END:VEVENT
BEGIN:VEVENT
DTSTART;TZID=America/New_York:20280208T090000
DTEND;TZID=America/New_York:20280208T110000
DTSTAMP:20260425T063509
CREATED:20230113T145846Z
LAST-MODIFIED:20230113T145846Z
UID:10003642-1833613200-1833620400@westoverepiscopalchurch.org
SUMMARY:Meals on Wheels
DESCRIPTION:Meals On Wheels (MOW) serves hot\, nutritious meals to the homebound elderly and/or disabled Monday through Friday.
URL:https://westoverepiscopalchurch.org/event/meals-on-wheels/2028-02-08/
END:VEVENT
BEGIN:VEVENT
DTSTART;TZID=America/New_York:20280209T090000
DTEND;TZID=America/New_York:20280209T110000
DTSTAMP:20260425T063509
CREATED:20230113T145846Z
LAST-MODIFIED:20230113T145846Z
UID:10003643-1833699600-1833706800@westoverepiscopalchurch.org
SUMMARY:Meals on Wheels
DESCRIPTION:Meals On Wheels (MOW) serves hot\, nutritious meals to the homebound elderly and/or disabled Monday through Friday.
URL:https://westoverepiscopalchurch.org/event/meals-on-wheels/2028-02-09/
END:VEVENT
BEGIN:VEVENT
DTSTART;TZID=America/New_York:20280210T090000
DTEND;TZID=America/New_York:20280210T110000
DTSTAMP:20260425T063509
CREATED:20230113T145846Z
LAST-MODIFIED:20230113T145846Z
UID:10003644-1833786000-1833793200@westoverepiscopalchurch.org
SUMMARY:Meals on Wheels
DESCRIPTION:Meals On Wheels (MOW) serves hot\, nutritious meals to the homebound elderly and/or disabled Monday through Friday.
URL:https://westoverepiscopalchurch.org/event/meals-on-wheels/2028-02-10/
END:VEVENT
BEGIN:VEVENT
DTSTART;TZID=America/New_York:20280211T090000
DTEND;TZID=America/New_York:20280211T110000
DTSTAMP:20260425T063509
CREATED:20230113T145846Z
LAST-MODIFIED:20230113T145846Z
UID:10003645-1833872400-1833879600@westoverepiscopalchurch.org
SUMMARY:Meals on Wheels
DESCRIPTION:Meals On Wheels (MOW) serves hot\, nutritious meals to the homebound elderly and/or disabled Monday through Friday.
URL:https://westoverepiscopalchurch.org/event/meals-on-wheels/2028-02-11/
END:VEVENT
BEGIN:VEVENT
DTSTART;TZID=America/New_York:20280214T090000
DTEND;TZID=America/New_York:20280214T110000
DTSTAMP:20260425T063509
CREATED:20230113T145846Z
LAST-MODIFIED:20230113T145846Z
UID:10003646-1834131600-1834138800@westoverepiscopalchurch.org
SUMMARY:Meals on Wheels
DESCRIPTION:Meals On Wheels (MOW) serves hot\, nutritious meals to the homebound elderly and/or disabled Monday through Friday.
URL:https://westoverepiscopalchurch.org/event/meals-on-wheels/2028-02-14/
END:VEVENT
BEGIN:VEVENT
DTSTART;TZID=America/New_York:20280215T090000
DTEND;TZID=America/New_York:20280215T110000
DTSTAMP:20260425T063509
CREATED:20230113T145846Z
LAST-MODIFIED:20230113T145846Z
UID:10003647-1834218000-1834225200@westoverepiscopalchurch.org
SUMMARY:Meals on Wheels
DESCRIPTION:Meals On Wheels (MOW) serves hot\, nutritious meals to the homebound elderly and/or disabled Monday through Friday.
URL:https://westoverepiscopalchurch.org/event/meals-on-wheels/2028-02-15/
END:VEVENT
BEGIN:VEVENT
DTSTART;TZID=America/New_York:20280216T090000
DTEND;TZID=America/New_York:20280216T110000
DTSTAMP:20260425T063509
CREATED:20230113T145846Z
LAST-MODIFIED:20230113T145846Z
UID:10003648-1834304400-1834311600@westoverepiscopalchurch.org
SUMMARY:Meals on Wheels
DESCRIPTION:Meals On Wheels (MOW) serves hot\, nutritious meals to the homebound elderly and/or disabled Monday through Friday.
URL:https://westoverepiscopalchurch.org/event/meals-on-wheels/2028-02-16/
END:VEVENT
BEGIN:VEVENT
DTSTART;TZID=America/New_York:20280217T090000
DTEND;TZID=America/New_York:20280217T110000
DTSTAMP:20260425T063509
CREATED:20230113T145846Z
LAST-MODIFIED:20230113T145846Z
UID:10003649-1834390800-1834398000@westoverepiscopalchurch.org
SUMMARY:Meals on Wheels
DESCRIPTION:Meals On Wheels (MOW) serves hot\, nutritious meals to the homebound elderly and/or disabled Monday through Friday.
URL:https://westoverepiscopalchurch.org/event/meals-on-wheels/2028-02-17/
END:VEVENT
BEGIN:VEVENT
DTSTART;TZID=America/New_York:20280218T090000
DTEND;TZID=America/New_York:20280218T110000
DTSTAMP:20260425T063509
CREATED:20230113T145846Z
LAST-MODIFIED:20230113T145846Z
UID:10003650-1834477200-1834484400@westoverepiscopalchurch.org
SUMMARY:Meals on Wheels
DESCRIPTION:Meals On Wheels (MOW) serves hot\, nutritious meals to the homebound elderly and/or disabled Monday through Friday.
URL:https://westoverepiscopalchurch.org/event/meals-on-wheels/2028-02-18/
END:VEVENT
BEGIN:VEVENT
DTSTART;TZID=America/New_York:20280221T090000
DTEND;TZID=America/New_York:20280221T110000
DTSTAMP:20260425T063509
CREATED:20230113T145846Z
LAST-MODIFIED:20230113T145846Z
UID:10003651-1834736400-1834743600@westoverepiscopalchurch.org
SUMMARY:Meals on Wheels
DESCRIPTION:Meals On Wheels (MOW) serves hot\, nutritious meals to the homebound elderly and/or disabled Monday through Friday.
URL:https://westoverepiscopalchurch.org/event/meals-on-wheels/2028-02-21/
END:VEVENT
BEGIN:VEVENT
DTSTART;TZID=America/New_York:20280222T090000
DTEND;TZID=America/New_York:20280222T110000
DTSTAMP:20260425T063509
CREATED:20230113T145846Z
LAST-MODIFIED:20230113T145846Z
UID:10003652-1834822800-1834830000@westoverepiscopalchurch.org
SUMMARY:Meals on Wheels
DESCRIPTION:Meals On Wheels (MOW) serves hot\, nutritious meals to the homebound elderly and/or disabled Monday through Friday.
URL:https://westoverepiscopalchurch.org/event/meals-on-wheels/2028-02-22/
END:VEVENT
BEGIN:VEVENT
DTSTART;TZID=America/New_York:20280223T090000
DTEND;TZID=America/New_York:20280223T110000
DTSTAMP:20260425T063509
CREATED:20230113T145846Z
LAST-MODIFIED:20230113T145846Z
UID:10003653-1834909200-1834916400@westoverepiscopalchurch.org
SUMMARY:Meals on Wheels
DESCRIPTION:Meals On Wheels (MOW) serves hot\, nutritious meals to the homebound elderly and/or disabled Monday through Friday.
URL:https://westoverepiscopalchurch.org/event/meals-on-wheels/2028-02-23/
END:VEVENT
BEGIN:VEVENT
DTSTART;TZID=America/New_York:20280224T090000
DTEND;TZID=America/New_York:20280224T110000
DTSTAMP:20260425T063509
CREATED:20230113T145846Z
LAST-MODIFIED:20230113T145846Z
UID:10003654-1834995600-1835002800@westoverepiscopalchurch.org
SUMMARY:Meals on Wheels
DESCRIPTION:Meals On Wheels (MOW) serves hot\, nutritious meals to the homebound elderly and/or disabled Monday through Friday.
URL:https://westoverepiscopalchurch.org/event/meals-on-wheels/2028-02-24/
END:VEVENT
BEGIN:VEVENT
DTSTART;TZID=America/New_York:20280225T090000
DTEND;TZID=America/New_York:20280225T110000
DTSTAMP:20260425T063509
CREATED:20230113T145846Z
LAST-MODIFIED:20230113T145846Z
UID:10003655-1835082000-1835089200@westoverepiscopalchurch.org
SUMMARY:Meals on Wheels
DESCRIPTION:Meals On Wheels (MOW) serves hot\, nutritious meals to the homebound elderly and/or disabled Monday through Friday.
URL:https://westoverepiscopalchurch.org/event/meals-on-wheels/2028-02-25/
END:VEVENT
END:VCALENDAR