BEGIN:VCALENDAR
VERSION:2.0
PRODID:-//Westover Episcopal Church - Charles City, VA - ECPv6.15.20//NONSGML v1.0//EN
CALSCALE:GREGORIAN
METHOD:PUBLISH
X-WR-CALNAME:Westover Episcopal Church - Charles City, VA
X-ORIGINAL-URL:https://westoverepiscopalchurch.org
X-WR-CALDESC:Events for Westover Episcopal Church - Charles City, VA
REFRESH-INTERVAL;VALUE=DURATION:PT1H
X-Robots-Tag:noindex
X-PUBLISHED-TTL:PT1H
BEGIN:VTIMEZONE
TZID:America/New_York
BEGIN:DAYLIGHT
TZOFFSETFROM:-0500
TZOFFSETTO:-0400
TZNAME:EDT
DTSTART:20260308T070000
END:DAYLIGHT
BEGIN:STANDARD
TZOFFSETFROM:-0400
TZOFFSETTO:-0500
TZNAME:EST
DTSTART:20261101T060000
END:STANDARD
BEGIN:DAYLIGHT
TZOFFSETFROM:-0500
TZOFFSETTO:-0400
TZNAME:EDT
DTSTART:20270314T070000
END:DAYLIGHT
BEGIN:STANDARD
TZOFFSETFROM:-0400
TZOFFSETTO:-0500
TZNAME:EST
DTSTART:20271107T060000
END:STANDARD
BEGIN:DAYLIGHT
TZOFFSETFROM:-0500
TZOFFSETTO:-0400
TZNAME:EDT
DTSTART:20280312T070000
END:DAYLIGHT
BEGIN:STANDARD
TZOFFSETFROM:-0400
TZOFFSETTO:-0500
TZNAME:EST
DTSTART:20281105T060000
END:STANDARD
END:VTIMEZONE
BEGIN:VEVENT
DTSTART;TZID=America/New_York:20270521T090000
DTEND;TZID=America/New_York:20270521T110000
DTSTAMP:20260425T122744
CREATED:20230113T145846Z
LAST-MODIFIED:20230113T145846Z
UID:10003455-1810890000-1810897200@westoverepiscopalchurch.org
SUMMARY:Meals on Wheels
DESCRIPTION:Meals On Wheels (MOW) serves hot\, nutritious meals to the homebound elderly and/or disabled Monday through Friday.
URL:https://westoverepiscopalchurch.org/event/meals-on-wheels/2027-05-21/
END:VEVENT
BEGIN:VEVENT
DTSTART;TZID=America/New_York:20270520T090000
DTEND;TZID=America/New_York:20270520T110000
DTSTAMP:20260425T122744
CREATED:20230113T145846Z
LAST-MODIFIED:20230113T145846Z
UID:10003454-1810803600-1810810800@westoverepiscopalchurch.org
SUMMARY:Meals on Wheels
DESCRIPTION:Meals On Wheels (MOW) serves hot\, nutritious meals to the homebound elderly and/or disabled Monday through Friday.
URL:https://westoverepiscopalchurch.org/event/meals-on-wheels/2027-05-20/
END:VEVENT
BEGIN:VEVENT
DTSTART;TZID=America/New_York:20270519T090000
DTEND;TZID=America/New_York:20270519T110000
DTSTAMP:20260425T122744
CREATED:20230113T145846Z
LAST-MODIFIED:20230113T145846Z
UID:10003453-1810717200-1810724400@westoverepiscopalchurch.org
SUMMARY:Meals on Wheels
DESCRIPTION:Meals On Wheels (MOW) serves hot\, nutritious meals to the homebound elderly and/or disabled Monday through Friday.
URL:https://westoverepiscopalchurch.org/event/meals-on-wheels/2027-05-19/
END:VEVENT
BEGIN:VEVENT
DTSTART;TZID=America/New_York:20270518T090000
DTEND;TZID=America/New_York:20270518T110000
DTSTAMP:20260425T122744
CREATED:20230113T145846Z
LAST-MODIFIED:20230113T145846Z
UID:10003452-1810630800-1810638000@westoverepiscopalchurch.org
SUMMARY:Meals on Wheels
DESCRIPTION:Meals On Wheels (MOW) serves hot\, nutritious meals to the homebound elderly and/or disabled Monday through Friday.
URL:https://westoverepiscopalchurch.org/event/meals-on-wheels/2027-05-18/
END:VEVENT
BEGIN:VEVENT
DTSTART;TZID=America/New_York:20270517T090000
DTEND;TZID=America/New_York:20270517T110000
DTSTAMP:20260425T122744
CREATED:20230113T145846Z
LAST-MODIFIED:20230113T145846Z
UID:10003451-1810544400-1810551600@westoverepiscopalchurch.org
SUMMARY:Meals on Wheels
DESCRIPTION:Meals On Wheels (MOW) serves hot\, nutritious meals to the homebound elderly and/or disabled Monday through Friday.
URL:https://westoverepiscopalchurch.org/event/meals-on-wheels/2027-05-17/
END:VEVENT
BEGIN:VEVENT
DTSTART;TZID=America/New_York:20270514T090000
DTEND;TZID=America/New_York:20270514T110000
DTSTAMP:20260425T122744
CREATED:20230113T145846Z
LAST-MODIFIED:20230113T145846Z
UID:10003450-1810285200-1810292400@westoverepiscopalchurch.org
SUMMARY:Meals on Wheels
DESCRIPTION:Meals On Wheels (MOW) serves hot\, nutritious meals to the homebound elderly and/or disabled Monday through Friday.
URL:https://westoverepiscopalchurch.org/event/meals-on-wheels/2027-05-14/
END:VEVENT
BEGIN:VEVENT
DTSTART;TZID=America/New_York:20270513T090000
DTEND;TZID=America/New_York:20270513T110000
DTSTAMP:20260425T122744
CREATED:20230113T145846Z
LAST-MODIFIED:20230113T145846Z
UID:10003449-1810198800-1810206000@westoverepiscopalchurch.org
SUMMARY:Meals on Wheels
DESCRIPTION:Meals On Wheels (MOW) serves hot\, nutritious meals to the homebound elderly and/or disabled Monday through Friday.
URL:https://westoverepiscopalchurch.org/event/meals-on-wheels/2027-05-13/
END:VEVENT
BEGIN:VEVENT
DTSTART;TZID=America/New_York:20270512T090000
DTEND;TZID=America/New_York:20270512T110000
DTSTAMP:20260425T122744
CREATED:20230113T145846Z
LAST-MODIFIED:20230113T145846Z
UID:10003448-1810112400-1810119600@westoverepiscopalchurch.org
SUMMARY:Meals on Wheels
DESCRIPTION:Meals On Wheels (MOW) serves hot\, nutritious meals to the homebound elderly and/or disabled Monday through Friday.
URL:https://westoverepiscopalchurch.org/event/meals-on-wheels/2027-05-12/
END:VEVENT
BEGIN:VEVENT
DTSTART;TZID=America/New_York:20270511T090000
DTEND;TZID=America/New_York:20270511T110000
DTSTAMP:20260425T122744
CREATED:20230113T145846Z
LAST-MODIFIED:20230113T145846Z
UID:10003447-1810026000-1810033200@westoverepiscopalchurch.org
SUMMARY:Meals on Wheels
DESCRIPTION:Meals On Wheels (MOW) serves hot\, nutritious meals to the homebound elderly and/or disabled Monday through Friday.
URL:https://westoverepiscopalchurch.org/event/meals-on-wheels/2027-05-11/
END:VEVENT
BEGIN:VEVENT
DTSTART;TZID=America/New_York:20270510T090000
DTEND;TZID=America/New_York:20270510T110000
DTSTAMP:20260425T122744
CREATED:20230113T145846Z
LAST-MODIFIED:20230113T145846Z
UID:10003446-1809939600-1809946800@westoverepiscopalchurch.org
SUMMARY:Meals on Wheels
DESCRIPTION:Meals On Wheels (MOW) serves hot\, nutritious meals to the homebound elderly and/or disabled Monday through Friday.
URL:https://westoverepiscopalchurch.org/event/meals-on-wheels/2027-05-10/
END:VEVENT
BEGIN:VEVENT
DTSTART;TZID=America/New_York:20270507T090000
DTEND;TZID=America/New_York:20270507T110000
DTSTAMP:20260425T122744
CREATED:20230113T145846Z
LAST-MODIFIED:20230113T145846Z
UID:10003445-1809680400-1809687600@westoverepiscopalchurch.org
SUMMARY:Meals on Wheels
DESCRIPTION:Meals On Wheels (MOW) serves hot\, nutritious meals to the homebound elderly and/or disabled Monday through Friday.
URL:https://westoverepiscopalchurch.org/event/meals-on-wheels/2027-05-07/
END:VEVENT
BEGIN:VEVENT
DTSTART;TZID=America/New_York:20270506T090000
DTEND;TZID=America/New_York:20270506T110000
DTSTAMP:20260425T122744
CREATED:20230113T145846Z
LAST-MODIFIED:20230113T145846Z
UID:10003444-1809594000-1809601200@westoverepiscopalchurch.org
SUMMARY:Meals on Wheels
DESCRIPTION:Meals On Wheels (MOW) serves hot\, nutritious meals to the homebound elderly and/or disabled Monday through Friday.
URL:https://westoverepiscopalchurch.org/event/meals-on-wheels/2027-05-06/
END:VEVENT
BEGIN:VEVENT
DTSTART;TZID=America/New_York:20270505T090000
DTEND;TZID=America/New_York:20270505T110000
DTSTAMP:20260425T122744
CREATED:20230113T145846Z
LAST-MODIFIED:20230113T145846Z
UID:10003443-1809507600-1809514800@westoverepiscopalchurch.org
SUMMARY:Meals on Wheels
DESCRIPTION:Meals On Wheels (MOW) serves hot\, nutritious meals to the homebound elderly and/or disabled Monday through Friday.
URL:https://westoverepiscopalchurch.org/event/meals-on-wheels/2027-05-05/
END:VEVENT
BEGIN:VEVENT
DTSTART;TZID=America/New_York:20270504T090000
DTEND;TZID=America/New_York:20270504T110000
DTSTAMP:20260425T122744
CREATED:20230113T145846Z
LAST-MODIFIED:20230113T145846Z
UID:10003442-1809421200-1809428400@westoverepiscopalchurch.org
SUMMARY:Meals on Wheels
DESCRIPTION:Meals On Wheels (MOW) serves hot\, nutritious meals to the homebound elderly and/or disabled Monday through Friday.
URL:https://westoverepiscopalchurch.org/event/meals-on-wheels/2027-05-04/
END:VEVENT
BEGIN:VEVENT
DTSTART;TZID=America/New_York:20270503T090000
DTEND;TZID=America/New_York:20270503T110000
DTSTAMP:20260425T122744
CREATED:20230113T145846Z
LAST-MODIFIED:20230113T145846Z
UID:10003441-1809334800-1809342000@westoverepiscopalchurch.org
SUMMARY:Meals on Wheels
DESCRIPTION:Meals On Wheels (MOW) serves hot\, nutritious meals to the homebound elderly and/or disabled Monday through Friday.
URL:https://westoverepiscopalchurch.org/event/meals-on-wheels/2027-05-03/
END:VEVENT
BEGIN:VEVENT
DTSTART;TZID=America/New_York:20270430T090000
DTEND;TZID=America/New_York:20270430T110000
DTSTAMP:20260425T122744
CREATED:20230113T145846Z
LAST-MODIFIED:20230113T145846Z
UID:10003440-1809075600-1809082800@westoverepiscopalchurch.org
SUMMARY:Meals on Wheels
DESCRIPTION:Meals On Wheels (MOW) serves hot\, nutritious meals to the homebound elderly and/or disabled Monday through Friday.
URL:https://westoverepiscopalchurch.org/event/meals-on-wheels/2027-04-30/
END:VEVENT
BEGIN:VEVENT
DTSTART;TZID=America/New_York:20270429T090000
DTEND;TZID=America/New_York:20270429T110000
DTSTAMP:20260425T122744
CREATED:20230113T145846Z
LAST-MODIFIED:20230113T145846Z
UID:10003439-1808989200-1808996400@westoverepiscopalchurch.org
SUMMARY:Meals on Wheels
DESCRIPTION:Meals On Wheels (MOW) serves hot\, nutritious meals to the homebound elderly and/or disabled Monday through Friday.
URL:https://westoverepiscopalchurch.org/event/meals-on-wheels/2027-04-29/
END:VEVENT
BEGIN:VEVENT
DTSTART;TZID=America/New_York:20270428T090000
DTEND;TZID=America/New_York:20270428T110000
DTSTAMP:20260425T122744
CREATED:20230113T145846Z
LAST-MODIFIED:20230113T145846Z
UID:10003438-1808902800-1808910000@westoverepiscopalchurch.org
SUMMARY:Meals on Wheels
DESCRIPTION:Meals On Wheels (MOW) serves hot\, nutritious meals to the homebound elderly and/or disabled Monday through Friday.
URL:https://westoverepiscopalchurch.org/event/meals-on-wheels/2027-04-28/
END:VEVENT
BEGIN:VEVENT
DTSTART;TZID=America/New_York:20270427T090000
DTEND;TZID=America/New_York:20270427T110000
DTSTAMP:20260425T122744
CREATED:20230113T145846Z
LAST-MODIFIED:20230113T145846Z
UID:10003437-1808816400-1808823600@westoverepiscopalchurch.org
SUMMARY:Meals on Wheels
DESCRIPTION:Meals On Wheels (MOW) serves hot\, nutritious meals to the homebound elderly and/or disabled Monday through Friday.
URL:https://westoverepiscopalchurch.org/event/meals-on-wheels/2027-04-27/
END:VEVENT
BEGIN:VEVENT
DTSTART;TZID=America/New_York:20270426T090000
DTEND;TZID=America/New_York:20270426T110000
DTSTAMP:20260425T122744
CREATED:20230113T145846Z
LAST-MODIFIED:20230113T145846Z
UID:10003436-1808730000-1808737200@westoverepiscopalchurch.org
SUMMARY:Meals on Wheels
DESCRIPTION:Meals On Wheels (MOW) serves hot\, nutritious meals to the homebound elderly and/or disabled Monday through Friday.
URL:https://westoverepiscopalchurch.org/event/meals-on-wheels/2027-04-26/
END:VEVENT
BEGIN:VEVENT
DTSTART;TZID=America/New_York:20270423T090000
DTEND;TZID=America/New_York:20270423T110000
DTSTAMP:20260425T122744
CREATED:20230113T145846Z
LAST-MODIFIED:20230113T145846Z
UID:10003435-1808470800-1808478000@westoverepiscopalchurch.org
SUMMARY:Meals on Wheels
DESCRIPTION:Meals On Wheels (MOW) serves hot\, nutritious meals to the homebound elderly and/or disabled Monday through Friday.
URL:https://westoverepiscopalchurch.org/event/meals-on-wheels/2027-04-23/
END:VEVENT
BEGIN:VEVENT
DTSTART;TZID=America/New_York:20270422T090000
DTEND;TZID=America/New_York:20270422T110000
DTSTAMP:20260425T122744
CREATED:20230113T145846Z
LAST-MODIFIED:20230113T145846Z
UID:10003434-1808384400-1808391600@westoverepiscopalchurch.org
SUMMARY:Meals on Wheels
DESCRIPTION:Meals On Wheels (MOW) serves hot\, nutritious meals to the homebound elderly and/or disabled Monday through Friday.
URL:https://westoverepiscopalchurch.org/event/meals-on-wheels/2027-04-22/
END:VEVENT
BEGIN:VEVENT
DTSTART;TZID=America/New_York:20270421T090000
DTEND;TZID=America/New_York:20270421T110000
DTSTAMP:20260425T122744
CREATED:20230113T145846Z
LAST-MODIFIED:20230113T145846Z
UID:10003433-1808298000-1808305200@westoverepiscopalchurch.org
SUMMARY:Meals on Wheels
DESCRIPTION:Meals On Wheels (MOW) serves hot\, nutritious meals to the homebound elderly and/or disabled Monday through Friday.
URL:https://westoverepiscopalchurch.org/event/meals-on-wheels/2027-04-21/
END:VEVENT
BEGIN:VEVENT
DTSTART;TZID=America/New_York:20270420T090000
DTEND;TZID=America/New_York:20270420T110000
DTSTAMP:20260425T122744
CREATED:20230113T145846Z
LAST-MODIFIED:20230113T145846Z
UID:10003432-1808211600-1808218800@westoverepiscopalchurch.org
SUMMARY:Meals on Wheels
DESCRIPTION:Meals On Wheels (MOW) serves hot\, nutritious meals to the homebound elderly and/or disabled Monday through Friday.
URL:https://westoverepiscopalchurch.org/event/meals-on-wheels/2027-04-20/
END:VEVENT
BEGIN:VEVENT
DTSTART;TZID=America/New_York:20270419T090000
DTEND;TZID=America/New_York:20270419T110000
DTSTAMP:20260425T122744
CREATED:20230113T145846Z
LAST-MODIFIED:20230113T145846Z
UID:10003431-1808125200-1808132400@westoverepiscopalchurch.org
SUMMARY:Meals on Wheels
DESCRIPTION:Meals On Wheels (MOW) serves hot\, nutritious meals to the homebound elderly and/or disabled Monday through Friday.
URL:https://westoverepiscopalchurch.org/event/meals-on-wheels/2027-04-19/
END:VEVENT
BEGIN:VEVENT
DTSTART;TZID=America/New_York:20270416T090000
DTEND;TZID=America/New_York:20270416T110000
DTSTAMP:20260425T122744
CREATED:20230113T145846Z
LAST-MODIFIED:20230113T145846Z
UID:10003430-1807866000-1807873200@westoverepiscopalchurch.org
SUMMARY:Meals on Wheels
DESCRIPTION:Meals On Wheels (MOW) serves hot\, nutritious meals to the homebound elderly and/or disabled Monday through Friday.
URL:https://westoverepiscopalchurch.org/event/meals-on-wheels/2027-04-16/
END:VEVENT
BEGIN:VEVENT
DTSTART;TZID=America/New_York:20270415T090000
DTEND;TZID=America/New_York:20270415T110000
DTSTAMP:20260425T122744
CREATED:20230113T145846Z
LAST-MODIFIED:20230113T145846Z
UID:10003429-1807779600-1807786800@westoverepiscopalchurch.org
SUMMARY:Meals on Wheels
DESCRIPTION:Meals On Wheels (MOW) serves hot\, nutritious meals to the homebound elderly and/or disabled Monday through Friday.
URL:https://westoverepiscopalchurch.org/event/meals-on-wheels/2027-04-15/
END:VEVENT
BEGIN:VEVENT
DTSTART;TZID=America/New_York:20270414T090000
DTEND;TZID=America/New_York:20270414T110000
DTSTAMP:20260425T122744
CREATED:20230113T145846Z
LAST-MODIFIED:20230113T145846Z
UID:10003428-1807693200-1807700400@westoverepiscopalchurch.org
SUMMARY:Meals on Wheels
DESCRIPTION:Meals On Wheels (MOW) serves hot\, nutritious meals to the homebound elderly and/or disabled Monday through Friday.
URL:https://westoverepiscopalchurch.org/event/meals-on-wheels/2027-04-14/
END:VEVENT
BEGIN:VEVENT
DTSTART;TZID=America/New_York:20270413T090000
DTEND;TZID=America/New_York:20270413T110000
DTSTAMP:20260425T122744
CREATED:20230113T145846Z
LAST-MODIFIED:20230113T145846Z
UID:10003427-1807606800-1807614000@westoverepiscopalchurch.org
SUMMARY:Meals on Wheels
DESCRIPTION:Meals On Wheels (MOW) serves hot\, nutritious meals to the homebound elderly and/or disabled Monday through Friday.
URL:https://westoverepiscopalchurch.org/event/meals-on-wheels/2027-04-13/
END:VEVENT
BEGIN:VEVENT
DTSTART;TZID=America/New_York:20270412T090000
DTEND;TZID=America/New_York:20270412T110000
DTSTAMP:20260425T122744
CREATED:20230113T145846Z
LAST-MODIFIED:20230113T145846Z
UID:10003426-1807520400-1807527600@westoverepiscopalchurch.org
SUMMARY:Meals on Wheels
DESCRIPTION:Meals On Wheels (MOW) serves hot\, nutritious meals to the homebound elderly and/or disabled Monday through Friday.
URL:https://westoverepiscopalchurch.org/event/meals-on-wheels/2027-04-12/
END:VEVENT
END:VCALENDAR