BEGIN:VCALENDAR
VERSION:2.0
PRODID:-//Westover Episcopal Church - Charles City, VA - ECPv6.15.20//NONSGML v1.0//EN
CALSCALE:GREGORIAN
METHOD:PUBLISH
X-WR-CALNAME:Westover Episcopal Church - Charles City, VA
X-ORIGINAL-URL:https://westoverepiscopalchurch.org
X-WR-CALDESC:Events for Westover Episcopal Church - Charles City, VA
REFRESH-INTERVAL;VALUE=DURATION:PT1H
X-Robots-Tag:noindex
X-PUBLISHED-TTL:PT1H
BEGIN:VTIMEZONE
TZID:America/New_York
BEGIN:DAYLIGHT
TZOFFSETFROM:-0500
TZOFFSETTO:-0400
TZNAME:EDT
DTSTART:20230312T070000
END:DAYLIGHT
BEGIN:STANDARD
TZOFFSETFROM:-0400
TZOFFSETTO:-0500
TZNAME:EST
DTSTART:20231105T060000
END:STANDARD
BEGIN:DAYLIGHT
TZOFFSETFROM:-0500
TZOFFSETTO:-0400
TZNAME:EDT
DTSTART:20240310T070000
END:DAYLIGHT
BEGIN:STANDARD
TZOFFSETFROM:-0400
TZOFFSETTO:-0500
TZNAME:EST
DTSTART:20241103T060000
END:STANDARD
BEGIN:DAYLIGHT
TZOFFSETFROM:-0500
TZOFFSETTO:-0400
TZNAME:EDT
DTSTART:20250309T070000
END:DAYLIGHT
BEGIN:STANDARD
TZOFFSETFROM:-0400
TZOFFSETTO:-0500
TZNAME:EST
DTSTART:20251102T060000
END:STANDARD
END:VTIMEZONE
BEGIN:VEVENT
DTSTART;TZID=America/New_York:20241023T090000
DTEND;TZID=America/New_York:20241023T110000
DTSTAMP:20260425T101745
CREATED:20230113T145846Z
LAST-MODIFIED:20230113T145846Z
UID:10002783-1729674000-1729681200@westoverepiscopalchurch.org
SUMMARY:Meals on Wheels
DESCRIPTION:Meals On Wheels (MOW) serves hot\, nutritious meals to the homebound elderly and/or disabled Monday through Friday.
URL:https://westoverepiscopalchurch.org/event/meals-on-wheels/2024-10-23/
END:VEVENT
BEGIN:VEVENT
DTSTART;TZID=America/New_York:20241022T090000
DTEND;TZID=America/New_York:20241022T110000
DTSTAMP:20260425T101745
CREATED:20240105T180517Z
LAST-MODIFIED:20240105T180520Z
UID:10001396-1729587600-1729594800@westoverepiscopalchurch.org
SUMMARY:Meals on Wheels
DESCRIPTION:
URL:https://westoverepiscopalchurch.org/event/meals-on-wheels-3-2/2024-10-22/
END:VEVENT
BEGIN:VEVENT
DTSTART;TZID=America/New_York:20241022T090000
DTEND;TZID=America/New_York:20241022T110000
DTSTAMP:20260425T101745
CREATED:20230113T145846Z
LAST-MODIFIED:20230113T145846Z
UID:10002782-1729587600-1729594800@westoverepiscopalchurch.org
SUMMARY:Meals on Wheels
DESCRIPTION:Meals On Wheels (MOW) serves hot\, nutritious meals to the homebound elderly and/or disabled Monday through Friday.
URL:https://westoverepiscopalchurch.org/event/meals-on-wheels/2024-10-22/
END:VEVENT
BEGIN:VEVENT
DTSTART;TZID=America/New_York:20241021T090000
DTEND;TZID=America/New_York:20241021T110000
DTSTAMP:20260425T101745
CREATED:20240105T180517Z
LAST-MODIFIED:20240105T180520Z
UID:10001395-1729501200-1729508400@westoverepiscopalchurch.org
SUMMARY:Meals on Wheels
DESCRIPTION:
URL:https://westoverepiscopalchurch.org/event/meals-on-wheels-3-2/2024-10-21/
END:VEVENT
BEGIN:VEVENT
DTSTART;TZID=America/New_York:20241021T090000
DTEND;TZID=America/New_York:20241021T110000
DTSTAMP:20260425T101745
CREATED:20230113T145846Z
LAST-MODIFIED:20230113T145846Z
UID:10002781-1729501200-1729508400@westoverepiscopalchurch.org
SUMMARY:Meals on Wheels
DESCRIPTION:Meals On Wheels (MOW) serves hot\, nutritious meals to the homebound elderly and/or disabled Monday through Friday.
URL:https://westoverepiscopalchurch.org/event/meals-on-wheels/2024-10-21/
END:VEVENT
BEGIN:VEVENT
DTSTART;TZID=America/New_York:20241020T100000
DTEND;TZID=America/New_York:20241020T110000
DTSTAMP:20260425T101745
CREATED:20240924T174128Z
LAST-MODIFIED:20240924T174128Z
UID:10001490-1729418400-1729422000@westoverepiscopalchurch.org
SUMMARY:Twenty-second Sunday after Pentecost Service
DESCRIPTION:
URL:https://westoverepiscopalchurch.org/event/twenty-second-sunday-after-pentecost-service-2/
END:VEVENT
BEGIN:VEVENT
DTSTART;TZID=America/New_York:20241018T090000
DTEND;TZID=America/New_York:20241018T110000
DTSTAMP:20260425T101745
CREATED:20240105T180517Z
LAST-MODIFIED:20240105T180520Z
UID:10001394-1729242000-1729249200@westoverepiscopalchurch.org
SUMMARY:Meals on Wheels
DESCRIPTION:
URL:https://westoverepiscopalchurch.org/event/meals-on-wheels-3-2/2024-10-18/
END:VEVENT
BEGIN:VEVENT
DTSTART;TZID=America/New_York:20241018T090000
DTEND;TZID=America/New_York:20241018T110000
DTSTAMP:20260425T101745
CREATED:20230113T145846Z
LAST-MODIFIED:20230113T145846Z
UID:10002780-1729242000-1729249200@westoverepiscopalchurch.org
SUMMARY:Meals on Wheels
DESCRIPTION:Meals On Wheels (MOW) serves hot\, nutritious meals to the homebound elderly and/or disabled Monday through Friday.
URL:https://westoverepiscopalchurch.org/event/meals-on-wheels/2024-10-18/
END:VEVENT
BEGIN:VEVENT
DTSTART;TZID=America/New_York:20241017T100000
DTEND;TZID=America/New_York:20241017T110000
DTSTAMP:20260425T101745
CREATED:20240924T175803Z
LAST-MODIFIED:20240924T175803Z
UID:10001505-1729159200-1729162800@westoverepiscopalchurch.org
SUMMARY:Gentle Yoga with Rev. Becky
DESCRIPTION:
URL:https://westoverepiscopalchurch.org/event/gentle-yoga-with-rev-becky-4/2024-10-17/
END:VEVENT
BEGIN:VEVENT
DTSTART;TZID=America/New_York:20241017T090000
DTEND;TZID=America/New_York:20241017T110000
DTSTAMP:20260425T101745
CREATED:20240105T180517Z
LAST-MODIFIED:20240105T180520Z
UID:10001393-1729155600-1729162800@westoverepiscopalchurch.org
SUMMARY:Meals on Wheels
DESCRIPTION:
URL:https://westoverepiscopalchurch.org/event/meals-on-wheels-3-2/2024-10-17/
END:VEVENT
BEGIN:VEVENT
DTSTART;TZID=America/New_York:20241017T090000
DTEND;TZID=America/New_York:20241017T110000
DTSTAMP:20260425T101745
CREATED:20230113T145846Z
LAST-MODIFIED:20230113T145846Z
UID:10002779-1729155600-1729162800@westoverepiscopalchurch.org
SUMMARY:Meals on Wheels
DESCRIPTION:Meals On Wheels (MOW) serves hot\, nutritious meals to the homebound elderly and/or disabled Monday through Friday.
URL:https://westoverepiscopalchurch.org/event/meals-on-wheels/2024-10-17/
END:VEVENT
BEGIN:VEVENT
DTSTART;TZID=America/New_York:20241016T090000
DTEND;TZID=America/New_York:20241016T110000
DTSTAMP:20260425T101745
CREATED:20240105T180517Z
LAST-MODIFIED:20240105T180520Z
UID:10001392-1729069200-1729076400@westoverepiscopalchurch.org
SUMMARY:Meals on Wheels
DESCRIPTION:
URL:https://westoverepiscopalchurch.org/event/meals-on-wheels-3-2/2024-10-16/
END:VEVENT
BEGIN:VEVENT
DTSTART;TZID=America/New_York:20241016T090000
DTEND;TZID=America/New_York:20241016T110000
DTSTAMP:20260425T101745
CREATED:20230113T145846Z
LAST-MODIFIED:20230113T145846Z
UID:10002778-1729069200-1729076400@westoverepiscopalchurch.org
SUMMARY:Meals on Wheels
DESCRIPTION:Meals On Wheels (MOW) serves hot\, nutritious meals to the homebound elderly and/or disabled Monday through Friday.
URL:https://westoverepiscopalchurch.org/event/meals-on-wheels/2024-10-16/
END:VEVENT
BEGIN:VEVENT
DTSTART;TZID=America/New_York:20241015T090000
DTEND;TZID=America/New_York:20241015T110000
DTSTAMP:20260425T101745
CREATED:20240105T180517Z
LAST-MODIFIED:20240105T180520Z
UID:10001391-1728982800-1728990000@westoverepiscopalchurch.org
SUMMARY:Meals on Wheels
DESCRIPTION:
URL:https://westoverepiscopalchurch.org/event/meals-on-wheels-3-2/2024-10-15/
END:VEVENT
BEGIN:VEVENT
DTSTART;TZID=America/New_York:20241015T090000
DTEND;TZID=America/New_York:20241015T110000
DTSTAMP:20260425T101745
CREATED:20230113T145846Z
LAST-MODIFIED:20230113T145846Z
UID:10002777-1728982800-1728990000@westoverepiscopalchurch.org
SUMMARY:Meals on Wheels
DESCRIPTION:Meals On Wheels (MOW) serves hot\, nutritious meals to the homebound elderly and/or disabled Monday through Friday.
URL:https://westoverepiscopalchurch.org/event/meals-on-wheels/2024-10-15/
END:VEVENT
BEGIN:VEVENT
DTSTART;TZID=America/New_York:20241014T090000
DTEND;TZID=America/New_York:20241014T110000
DTSTAMP:20260425T101745
CREATED:20240105T180517Z
LAST-MODIFIED:20240105T180520Z
UID:10001390-1728896400-1728903600@westoverepiscopalchurch.org
SUMMARY:Meals on Wheels
DESCRIPTION:
URL:https://westoverepiscopalchurch.org/event/meals-on-wheels-3-2/2024-10-14/
END:VEVENT
BEGIN:VEVENT
DTSTART;TZID=America/New_York:20241014T090000
DTEND;TZID=America/New_York:20241014T110000
DTSTAMP:20260425T101745
CREATED:20230113T145846Z
LAST-MODIFIED:20230113T145846Z
UID:10002776-1728896400-1728903600@westoverepiscopalchurch.org
SUMMARY:Meals on Wheels
DESCRIPTION:Meals On Wheels (MOW) serves hot\, nutritious meals to the homebound elderly and/or disabled Monday through Friday.
URL:https://westoverepiscopalchurch.org/event/meals-on-wheels/2024-10-14/
END:VEVENT
BEGIN:VEVENT
DTSTART;TZID=America/New_York:20241013T100000
DTEND;TZID=America/New_York:20241013T110000
DTSTAMP:20260425T101745
CREATED:20240924T174047Z
LAST-MODIFIED:20240924T174047Z
UID:10001489-1728813600-1728817200@westoverepiscopalchurch.org
SUMMARY:Twenty-first Sunday after Pentecost Service
DESCRIPTION:
URL:https://westoverepiscopalchurch.org/event/twenty-first-sunday-after-pentecost-service-2/
END:VEVENT
BEGIN:VEVENT
DTSTART;TZID=America/New_York:20241011T090000
DTEND;TZID=America/New_York:20241011T110000
DTSTAMP:20260425T101745
CREATED:20240105T180517Z
LAST-MODIFIED:20240105T180520Z
UID:10001389-1728637200-1728644400@westoverepiscopalchurch.org
SUMMARY:Meals on Wheels
DESCRIPTION:
URL:https://westoverepiscopalchurch.org/event/meals-on-wheels-3-2/2024-10-11/
END:VEVENT
BEGIN:VEVENT
DTSTART;TZID=America/New_York:20241011T090000
DTEND;TZID=America/New_York:20241011T110000
DTSTAMP:20260425T101745
CREATED:20230113T145846Z
LAST-MODIFIED:20230113T145846Z
UID:10002775-1728637200-1728644400@westoverepiscopalchurch.org
SUMMARY:Meals on Wheels
DESCRIPTION:Meals On Wheels (MOW) serves hot\, nutritious meals to the homebound elderly and/or disabled Monday through Friday.
URL:https://westoverepiscopalchurch.org/event/meals-on-wheels/2024-10-11/
END:VEVENT
BEGIN:VEVENT
DTSTART;TZID=America/New_York:20241010T100000
DTEND;TZID=America/New_York:20241010T110000
DTSTAMP:20260425T101745
CREATED:20240924T175803Z
LAST-MODIFIED:20240924T175803Z
UID:10001504-1728554400-1728558000@westoverepiscopalchurch.org
SUMMARY:Gentle Yoga with Rev. Becky
DESCRIPTION:
URL:https://westoverepiscopalchurch.org/event/gentle-yoga-with-rev-becky-4/2024-10-10/
END:VEVENT
BEGIN:VEVENT
DTSTART;TZID=America/New_York:20241010T090000
DTEND;TZID=America/New_York:20241010T110000
DTSTAMP:20260425T101745
CREATED:20240105T180517Z
LAST-MODIFIED:20240105T180520Z
UID:10001388-1728550800-1728558000@westoverepiscopalchurch.org
SUMMARY:Meals on Wheels
DESCRIPTION:
URL:https://westoverepiscopalchurch.org/event/meals-on-wheels-3-2/2024-10-10/
END:VEVENT
BEGIN:VEVENT
DTSTART;TZID=America/New_York:20241010T090000
DTEND;TZID=America/New_York:20241010T110000
DTSTAMP:20260425T101745
CREATED:20230113T145846Z
LAST-MODIFIED:20230113T145846Z
UID:10002774-1728550800-1728558000@westoverepiscopalchurch.org
SUMMARY:Meals on Wheels
DESCRIPTION:Meals On Wheels (MOW) serves hot\, nutritious meals to the homebound elderly and/or disabled Monday through Friday.
URL:https://westoverepiscopalchurch.org/event/meals-on-wheels/2024-10-10/
END:VEVENT
BEGIN:VEVENT
DTSTART;TZID=America/New_York:20241009T090000
DTEND;TZID=America/New_York:20241009T110000
DTSTAMP:20260425T101745
CREATED:20240105T180517Z
LAST-MODIFIED:20240105T180520Z
UID:10001387-1728464400-1728471600@westoverepiscopalchurch.org
SUMMARY:Meals on Wheels
DESCRIPTION:
URL:https://westoverepiscopalchurch.org/event/meals-on-wheels-3-2/2024-10-09/
END:VEVENT
BEGIN:VEVENT
DTSTART;TZID=America/New_York:20241009T090000
DTEND;TZID=America/New_York:20241009T110000
DTSTAMP:20260425T101745
CREATED:20230113T145846Z
LAST-MODIFIED:20230113T145846Z
UID:10002773-1728464400-1728471600@westoverepiscopalchurch.org
SUMMARY:Meals on Wheels
DESCRIPTION:Meals On Wheels (MOW) serves hot\, nutritious meals to the homebound elderly and/or disabled Monday through Friday.
URL:https://westoverepiscopalchurch.org/event/meals-on-wheels/2024-10-09/
END:VEVENT
BEGIN:VEVENT
DTSTART;TZID=America/New_York:20241008T090000
DTEND;TZID=America/New_York:20241008T110000
DTSTAMP:20260425T101745
CREATED:20240105T180517Z
LAST-MODIFIED:20240105T180520Z
UID:10001386-1728378000-1728385200@westoverepiscopalchurch.org
SUMMARY:Meals on Wheels
DESCRIPTION:
URL:https://westoverepiscopalchurch.org/event/meals-on-wheels-3-2/2024-10-08/
END:VEVENT
BEGIN:VEVENT
DTSTART;TZID=America/New_York:20241008T090000
DTEND;TZID=America/New_York:20241008T110000
DTSTAMP:20260425T101745
CREATED:20230113T145846Z
LAST-MODIFIED:20230113T145846Z
UID:10002772-1728378000-1728385200@westoverepiscopalchurch.org
SUMMARY:Meals on Wheels
DESCRIPTION:Meals On Wheels (MOW) serves hot\, nutritious meals to the homebound elderly and/or disabled Monday through Friday.
URL:https://westoverepiscopalchurch.org/event/meals-on-wheels/2024-10-08/
END:VEVENT
BEGIN:VEVENT
DTSTART;TZID=America/New_York:20241007T090000
DTEND;TZID=America/New_York:20241007T110000
DTSTAMP:20260425T101745
CREATED:20240105T180517Z
LAST-MODIFIED:20240105T180520Z
UID:10001385-1728291600-1728298800@westoverepiscopalchurch.org
SUMMARY:Meals on Wheels
DESCRIPTION:
URL:https://westoverepiscopalchurch.org/event/meals-on-wheels-3-2/2024-10-07/
END:VEVENT
BEGIN:VEVENT
DTSTART;TZID=America/New_York:20241007T090000
DTEND;TZID=America/New_York:20241007T110000
DTSTAMP:20260425T101745
CREATED:20230113T145846Z
LAST-MODIFIED:20230113T145846Z
UID:10002771-1728291600-1728298800@westoverepiscopalchurch.org
SUMMARY:Meals on Wheels
DESCRIPTION:Meals On Wheels (MOW) serves hot\, nutritious meals to the homebound elderly and/or disabled Monday through Friday.
URL:https://westoverepiscopalchurch.org/event/meals-on-wheels/2024-10-07/
END:VEVENT
BEGIN:VEVENT
DTSTART;TZID=America/New_York:20241006T100000
DTEND;TZID=America/New_York:20241006T110000
DTSTAMP:20260425T101745
CREATED:20240924T174002Z
LAST-MODIFIED:20240924T174002Z
UID:10001488-1728208800-1728212400@westoverepiscopalchurch.org
SUMMARY:Blessing of the Animals Service
DESCRIPTION:The Blessing of the Animals service will take place outside in front of the Church.  All animals are welcome to this service.
URL:https://westoverepiscopalchurch.org/event/blessing-of-the-animals-service-2/
END:VEVENT
END:VCALENDAR