BEGIN:VCALENDAR
VERSION:2.0
PRODID:-//Westover Episcopal Church - Charles City, VA - ECPv6.15.20//NONSGML v1.0//EN
CALSCALE:GREGORIAN
METHOD:PUBLISH
X-WR-CALNAME:Westover Episcopal Church - Charles City, VA
X-ORIGINAL-URL:https://westoverepiscopalchurch.org
X-WR-CALDESC:Events for Westover Episcopal Church - Charles City, VA
REFRESH-INTERVAL;VALUE=DURATION:PT1H
X-Robots-Tag:noindex
X-PUBLISHED-TTL:PT1H
BEGIN:VTIMEZONE
TZID:America/New_York
BEGIN:DAYLIGHT
TZOFFSETFROM:-0500
TZOFFSETTO:-0400
TZNAME:EDT
DTSTART:20230312T070000
END:DAYLIGHT
BEGIN:STANDARD
TZOFFSETFROM:-0400
TZOFFSETTO:-0500
TZNAME:EST
DTSTART:20231105T060000
END:STANDARD
BEGIN:DAYLIGHT
TZOFFSETFROM:-0500
TZOFFSETTO:-0400
TZNAME:EDT
DTSTART:20240310T070000
END:DAYLIGHT
BEGIN:STANDARD
TZOFFSETFROM:-0400
TZOFFSETTO:-0500
TZNAME:EST
DTSTART:20241103T060000
END:STANDARD
BEGIN:DAYLIGHT
TZOFFSETFROM:-0500
TZOFFSETTO:-0400
TZNAME:EDT
DTSTART:20250309T070000
END:DAYLIGHT
BEGIN:STANDARD
TZOFFSETFROM:-0400
TZOFFSETTO:-0500
TZNAME:EST
DTSTART:20251102T060000
END:STANDARD
END:VTIMEZONE
BEGIN:VEVENT
DTSTART;TZID=America/New_York:20241125T090000
DTEND;TZID=America/New_York:20241125T110000
DTSTAMP:20260425T084035
CREATED:20240105T180517Z
LAST-MODIFIED:20240105T180520Z
UID:10001420-1732525200-1732532400@westoverepiscopalchurch.org
SUMMARY:Meals on Wheels
DESCRIPTION:
URL:https://westoverepiscopalchurch.org/event/meals-on-wheels-3-2/2024-11-25/
END:VEVENT
BEGIN:VEVENT
DTSTART;TZID=America/New_York:20241125T090000
DTEND;TZID=America/New_York:20241125T110000
DTSTAMP:20260425T084035
CREATED:20230113T145846Z
LAST-MODIFIED:20230113T145846Z
UID:10002806-1732525200-1732532400@westoverepiscopalchurch.org
SUMMARY:Meals on Wheels
DESCRIPTION:Meals On Wheels (MOW) serves hot\, nutritious meals to the homebound elderly and/or disabled Monday through Friday.
URL:https://westoverepiscopalchurch.org/event/meals-on-wheels/2024-11-25/
END:VEVENT
BEGIN:VEVENT
DTSTART;TZID=America/New_York:20241124T100000
DTEND;TZID=America/New_York:20241124T110000
DTSTAMP:20260425T084035
CREATED:20240924T174533Z
LAST-MODIFIED:20240924T174533Z
UID:10001495-1732442400-1732446000@westoverepiscopalchurch.org
SUMMARY:Last Sunday after Pentecost Service
DESCRIPTION:
URL:https://westoverepiscopalchurch.org/event/last-sunday-after-pentecost-service/
END:VEVENT
BEGIN:VEVENT
DTSTART;TZID=America/New_York:20241122T090000
DTEND;TZID=America/New_York:20241122T110000
DTSTAMP:20260425T084035
CREATED:20240105T180517Z
LAST-MODIFIED:20240105T180520Z
UID:10001419-1732266000-1732273200@westoverepiscopalchurch.org
SUMMARY:Meals on Wheels
DESCRIPTION:
URL:https://westoverepiscopalchurch.org/event/meals-on-wheels-3-2/2024-11-22/
END:VEVENT
BEGIN:VEVENT
DTSTART;TZID=America/New_York:20241122T090000
DTEND;TZID=America/New_York:20241122T110000
DTSTAMP:20260425T084035
CREATED:20230113T145846Z
LAST-MODIFIED:20230113T145846Z
UID:10002805-1732266000-1732273200@westoverepiscopalchurch.org
SUMMARY:Meals on Wheels
DESCRIPTION:Meals On Wheels (MOW) serves hot\, nutritious meals to the homebound elderly and/or disabled Monday through Friday.
URL:https://westoverepiscopalchurch.org/event/meals-on-wheels/2024-11-22/
END:VEVENT
BEGIN:VEVENT
DTSTART;TZID=America/New_York:20241121T100000
DTEND;TZID=America/New_York:20241121T110000
DTSTAMP:20260425T084035
CREATED:20240924T175803Z
LAST-MODIFIED:20240924T175803Z
UID:10001510-1732183200-1732186800@westoverepiscopalchurch.org
SUMMARY:Gentle Yoga with Rev. Becky
DESCRIPTION:
URL:https://westoverepiscopalchurch.org/event/gentle-yoga-with-rev-becky-4/2024-11-21/
END:VEVENT
BEGIN:VEVENT
DTSTART;TZID=America/New_York:20241121T090000
DTEND;TZID=America/New_York:20241121T110000
DTSTAMP:20260425T084035
CREATED:20240105T180517Z
LAST-MODIFIED:20240105T180520Z
UID:10001418-1732179600-1732186800@westoverepiscopalchurch.org
SUMMARY:Meals on Wheels
DESCRIPTION:
URL:https://westoverepiscopalchurch.org/event/meals-on-wheels-3-2/2024-11-21/
END:VEVENT
BEGIN:VEVENT
DTSTART;TZID=America/New_York:20241121T090000
DTEND;TZID=America/New_York:20241121T110000
DTSTAMP:20260425T084035
CREATED:20230113T145846Z
LAST-MODIFIED:20230113T145846Z
UID:10002804-1732179600-1732186800@westoverepiscopalchurch.org
SUMMARY:Meals on Wheels
DESCRIPTION:Meals On Wheels (MOW) serves hot\, nutritious meals to the homebound elderly and/or disabled Monday through Friday.
URL:https://westoverepiscopalchurch.org/event/meals-on-wheels/2024-11-21/
END:VEVENT
BEGIN:VEVENT
DTSTART;TZID=America/New_York:20241120T090000
DTEND;TZID=America/New_York:20241120T110000
DTSTAMP:20260425T084035
CREATED:20240105T180517Z
LAST-MODIFIED:20240105T180520Z
UID:10001417-1732093200-1732100400@westoverepiscopalchurch.org
SUMMARY:Meals on Wheels
DESCRIPTION:
URL:https://westoverepiscopalchurch.org/event/meals-on-wheels-3-2/2024-11-20/
END:VEVENT
BEGIN:VEVENT
DTSTART;TZID=America/New_York:20241120T090000
DTEND;TZID=America/New_York:20241120T110000
DTSTAMP:20260425T084035
CREATED:20230113T145846Z
LAST-MODIFIED:20230113T145846Z
UID:10002803-1732093200-1732100400@westoverepiscopalchurch.org
SUMMARY:Meals on Wheels
DESCRIPTION:Meals On Wheels (MOW) serves hot\, nutritious meals to the homebound elderly and/or disabled Monday through Friday.
URL:https://westoverepiscopalchurch.org/event/meals-on-wheels/2024-11-20/
END:VEVENT
BEGIN:VEVENT
DTSTART;TZID=America/New_York:20241119T090000
DTEND;TZID=America/New_York:20241119T110000
DTSTAMP:20260425T084035
CREATED:20240105T180517Z
LAST-MODIFIED:20240105T180520Z
UID:10001416-1732006800-1732014000@westoverepiscopalchurch.org
SUMMARY:Meals on Wheels
DESCRIPTION:
URL:https://westoverepiscopalchurch.org/event/meals-on-wheels-3-2/2024-11-19/
END:VEVENT
BEGIN:VEVENT
DTSTART;TZID=America/New_York:20241119T090000
DTEND;TZID=America/New_York:20241119T110000
DTSTAMP:20260425T084035
CREATED:20230113T145846Z
LAST-MODIFIED:20230113T145846Z
UID:10002802-1732006800-1732014000@westoverepiscopalchurch.org
SUMMARY:Meals on Wheels
DESCRIPTION:Meals On Wheels (MOW) serves hot\, nutritious meals to the homebound elderly and/or disabled Monday through Friday.
URL:https://westoverepiscopalchurch.org/event/meals-on-wheels/2024-11-19/
END:VEVENT
BEGIN:VEVENT
DTSTART;TZID=America/New_York:20241118T090000
DTEND;TZID=America/New_York:20241118T110000
DTSTAMP:20260425T084035
CREATED:20240105T180517Z
LAST-MODIFIED:20240105T180520Z
UID:10001415-1731920400-1731927600@westoverepiscopalchurch.org
SUMMARY:Meals on Wheels
DESCRIPTION:
URL:https://westoverepiscopalchurch.org/event/meals-on-wheels-3-2/2024-11-18/
END:VEVENT
BEGIN:VEVENT
DTSTART;TZID=America/New_York:20241118T090000
DTEND;TZID=America/New_York:20241118T110000
DTSTAMP:20260425T084035
CREATED:20230113T145846Z
LAST-MODIFIED:20230113T145846Z
UID:10002801-1731920400-1731927600@westoverepiscopalchurch.org
SUMMARY:Meals on Wheels
DESCRIPTION:Meals On Wheels (MOW) serves hot\, nutritious meals to the homebound elderly and/or disabled Monday through Friday.
URL:https://westoverepiscopalchurch.org/event/meals-on-wheels/2024-11-18/
END:VEVENT
BEGIN:VEVENT
DTSTART;TZID=America/New_York:20241117T100000
DTEND;TZID=America/New_York:20241117T110000
DTSTAMP:20260425T084035
CREATED:20240924T174450Z
LAST-MODIFIED:20240924T174450Z
UID:10001494-1731837600-1731841200@westoverepiscopalchurch.org
SUMMARY:Twenty-sixth Sunday after Pentecost Service
DESCRIPTION:
URL:https://westoverepiscopalchurch.org/event/twenty-sixth-sunday-after-pentecost-service/
END:VEVENT
BEGIN:VEVENT
DTSTART;TZID=America/New_York:20241115T090000
DTEND;TZID=America/New_York:20241115T110000
DTSTAMP:20260425T084035
CREATED:20240105T180517Z
LAST-MODIFIED:20240105T180520Z
UID:10001414-1731661200-1731668400@westoverepiscopalchurch.org
SUMMARY:Meals on Wheels
DESCRIPTION:
URL:https://westoverepiscopalchurch.org/event/meals-on-wheels-3-2/2024-11-15/
END:VEVENT
BEGIN:VEVENT
DTSTART;TZID=America/New_York:20241115T090000
DTEND;TZID=America/New_York:20241115T110000
DTSTAMP:20260425T084035
CREATED:20230113T145846Z
LAST-MODIFIED:20230113T145846Z
UID:10002800-1731661200-1731668400@westoverepiscopalchurch.org
SUMMARY:Meals on Wheels
DESCRIPTION:Meals On Wheels (MOW) serves hot\, nutritious meals to the homebound elderly and/or disabled Monday through Friday.
URL:https://westoverepiscopalchurch.org/event/meals-on-wheels/2024-11-15/
END:VEVENT
BEGIN:VEVENT
DTSTART;TZID=America/New_York:20241114T100000
DTEND;TZID=America/New_York:20241114T110000
DTSTAMP:20260425T084035
CREATED:20240924T175803Z
LAST-MODIFIED:20240924T175803Z
UID:10001509-1731578400-1731582000@westoverepiscopalchurch.org
SUMMARY:Gentle Yoga with Rev. Becky
DESCRIPTION:
URL:https://westoverepiscopalchurch.org/event/gentle-yoga-with-rev-becky-4/2024-11-14/
END:VEVENT
BEGIN:VEVENT
DTSTART;TZID=America/New_York:20241114T090000
DTEND;TZID=America/New_York:20241114T110000
DTSTAMP:20260425T084035
CREATED:20240105T180517Z
LAST-MODIFIED:20240105T180520Z
UID:10001413-1731574800-1731582000@westoverepiscopalchurch.org
SUMMARY:Meals on Wheels
DESCRIPTION:
URL:https://westoverepiscopalchurch.org/event/meals-on-wheels-3-2/2024-11-14/
END:VEVENT
BEGIN:VEVENT
DTSTART;TZID=America/New_York:20241114T090000
DTEND;TZID=America/New_York:20241114T110000
DTSTAMP:20260425T084035
CREATED:20230113T145846Z
LAST-MODIFIED:20230113T145846Z
UID:10002799-1731574800-1731582000@westoverepiscopalchurch.org
SUMMARY:Meals on Wheels
DESCRIPTION:Meals On Wheels (MOW) serves hot\, nutritious meals to the homebound elderly and/or disabled Monday through Friday.
URL:https://westoverepiscopalchurch.org/event/meals-on-wheels/2024-11-14/
END:VEVENT
BEGIN:VEVENT
DTSTART;TZID=America/New_York:20241113T090000
DTEND;TZID=America/New_York:20241113T110000
DTSTAMP:20260425T084035
CREATED:20240105T180517Z
LAST-MODIFIED:20240105T180520Z
UID:10001412-1731488400-1731495600@westoverepiscopalchurch.org
SUMMARY:Meals on Wheels
DESCRIPTION:
URL:https://westoverepiscopalchurch.org/event/meals-on-wheels-3-2/2024-11-13/
END:VEVENT
BEGIN:VEVENT
DTSTART;TZID=America/New_York:20241113T090000
DTEND;TZID=America/New_York:20241113T110000
DTSTAMP:20260425T084035
CREATED:20230113T145846Z
LAST-MODIFIED:20230113T145846Z
UID:10002798-1731488400-1731495600@westoverepiscopalchurch.org
SUMMARY:Meals on Wheels
DESCRIPTION:Meals On Wheels (MOW) serves hot\, nutritious meals to the homebound elderly and/or disabled Monday through Friday.
URL:https://westoverepiscopalchurch.org/event/meals-on-wheels/2024-11-13/
END:VEVENT
BEGIN:VEVENT
DTSTART;TZID=America/New_York:20241112T090000
DTEND;TZID=America/New_York:20241112T110000
DTSTAMP:20260425T084035
CREATED:20240105T180517Z
LAST-MODIFIED:20240105T180520Z
UID:10001411-1731402000-1731409200@westoverepiscopalchurch.org
SUMMARY:Meals on Wheels
DESCRIPTION:
URL:https://westoverepiscopalchurch.org/event/meals-on-wheels-3-2/2024-11-12/
END:VEVENT
BEGIN:VEVENT
DTSTART;TZID=America/New_York:20241112T090000
DTEND;TZID=America/New_York:20241112T110000
DTSTAMP:20260425T084035
CREATED:20230113T145846Z
LAST-MODIFIED:20230113T145846Z
UID:10002797-1731402000-1731409200@westoverepiscopalchurch.org
SUMMARY:Meals on Wheels
DESCRIPTION:Meals On Wheels (MOW) serves hot\, nutritious meals to the homebound elderly and/or disabled Monday through Friday.
URL:https://westoverepiscopalchurch.org/event/meals-on-wheels/2024-11-12/
END:VEVENT
BEGIN:VEVENT
DTSTART;TZID=America/New_York:20241111T090000
DTEND;TZID=America/New_York:20241111T110000
DTSTAMP:20260425T084035
CREATED:20240105T180517Z
LAST-MODIFIED:20240105T180520Z
UID:10001410-1731315600-1731322800@westoverepiscopalchurch.org
SUMMARY:Meals on Wheels
DESCRIPTION:
URL:https://westoverepiscopalchurch.org/event/meals-on-wheels-3-2/2024-11-11/
END:VEVENT
BEGIN:VEVENT
DTSTART;TZID=America/New_York:20241111T090000
DTEND;TZID=America/New_York:20241111T110000
DTSTAMP:20260425T084035
CREATED:20230113T145846Z
LAST-MODIFIED:20230113T145846Z
UID:10002796-1731315600-1731322800@westoverepiscopalchurch.org
SUMMARY:Meals on Wheels
DESCRIPTION:Meals On Wheels (MOW) serves hot\, nutritious meals to the homebound elderly and/or disabled Monday through Friday.
URL:https://westoverepiscopalchurch.org/event/meals-on-wheels/2024-11-11/
END:VEVENT
BEGIN:VEVENT
DTSTART;TZID=America/New_York:20241110T100000
DTEND;TZID=America/New_York:20241110T110000
DTSTAMP:20260425T084035
CREATED:20240924T174350Z
LAST-MODIFIED:20240924T174350Z
UID:10001493-1731232800-1731236400@westoverepiscopalchurch.org
SUMMARY:Twenty-fifth Sunday after Pentecost Service
DESCRIPTION:
URL:https://westoverepiscopalchurch.org/event/twenty-fifth-sunday-after-pentecost-service/
END:VEVENT
BEGIN:VEVENT
DTSTART;TZID=America/New_York:20241108T090000
DTEND;TZID=America/New_York:20241108T110000
DTSTAMP:20260425T084035
CREATED:20240105T180517Z
LAST-MODIFIED:20240105T180520Z
UID:10001409-1731056400-1731063600@westoverepiscopalchurch.org
SUMMARY:Meals on Wheels
DESCRIPTION:
URL:https://westoverepiscopalchurch.org/event/meals-on-wheels-3-2/2024-11-08/
END:VEVENT
BEGIN:VEVENT
DTSTART;TZID=America/New_York:20241108T090000
DTEND;TZID=America/New_York:20241108T110000
DTSTAMP:20260425T084035
CREATED:20230113T145846Z
LAST-MODIFIED:20230113T145846Z
UID:10002795-1731056400-1731063600@westoverepiscopalchurch.org
SUMMARY:Meals on Wheels
DESCRIPTION:Meals On Wheels (MOW) serves hot\, nutritious meals to the homebound elderly and/or disabled Monday through Friday.
URL:https://westoverepiscopalchurch.org/event/meals-on-wheels/2024-11-08/
END:VEVENT
BEGIN:VEVENT
DTSTART;TZID=America/New_York:20241107T100000
DTEND;TZID=America/New_York:20241107T110000
DTSTAMP:20260425T084035
CREATED:20240924T175803Z
LAST-MODIFIED:20240924T175803Z
UID:10001508-1730973600-1730977200@westoverepiscopalchurch.org
SUMMARY:Gentle Yoga with Rev. Becky
DESCRIPTION:
URL:https://westoverepiscopalchurch.org/event/gentle-yoga-with-rev-becky-4/2024-11-07/
END:VEVENT
END:VCALENDAR