BEGIN:VCALENDAR
VERSION:2.0
PRODID:-//Westover Episcopal Church - Charles City, VA - ECPv6.15.20//NONSGML v1.0//EN
CALSCALE:GREGORIAN
METHOD:PUBLISH
X-WR-CALNAME:Westover Episcopal Church - Charles City, VA
X-ORIGINAL-URL:https://westoverepiscopalchurch.org
X-WR-CALDESC:Events for Westover Episcopal Church - Charles City, VA
REFRESH-INTERVAL;VALUE=DURATION:PT1H
X-Robots-Tag:noindex
X-PUBLISHED-TTL:PT1H
BEGIN:VTIMEZONE
TZID:America/New_York
BEGIN:DAYLIGHT
TZOFFSETFROM:-0500
TZOFFSETTO:-0400
TZNAME:EDT
DTSTART:20240310T070000
END:DAYLIGHT
BEGIN:STANDARD
TZOFFSETFROM:-0400
TZOFFSETTO:-0500
TZNAME:EST
DTSTART:20241103T060000
END:STANDARD
BEGIN:DAYLIGHT
TZOFFSETFROM:-0500
TZOFFSETTO:-0400
TZNAME:EDT
DTSTART:20250309T070000
END:DAYLIGHT
BEGIN:STANDARD
TZOFFSETFROM:-0400
TZOFFSETTO:-0500
TZNAME:EST
DTSTART:20251102T060000
END:STANDARD
BEGIN:DAYLIGHT
TZOFFSETFROM:-0500
TZOFFSETTO:-0400
TZNAME:EDT
DTSTART:20260308T070000
END:DAYLIGHT
BEGIN:STANDARD
TZOFFSETFROM:-0400
TZOFFSETTO:-0500
TZNAME:EST
DTSTART:20261101T060000
END:STANDARD
END:VTIMEZONE
BEGIN:VEVENT
DTSTART;TZID=America/New_York:20250425T090000
DTEND;TZID=America/New_York:20250425T110000
DTSTAMP:20260425T065358
CREATED:20230113T145846Z
LAST-MODIFIED:20230113T145846Z
UID:10002915-1745571600-1745578800@westoverepiscopalchurch.org
SUMMARY:Meals on Wheels
DESCRIPTION:Meals On Wheels (MOW) serves hot\, nutritious meals to the homebound elderly and/or disabled Monday through Friday.
URL:https://westoverepiscopalchurch.org/event/meals-on-wheels/2025-04-25/
END:VEVENT
BEGIN:VEVENT
DTSTART;TZID=America/New_York:20250424T100000
DTEND;TZID=America/New_York:20250424T110000
DTSTAMP:20260425T065358
CREATED:20241203T183802Z
LAST-MODIFIED:20250520T131430Z
UID:10001582-1745488800-1745492400@westoverepiscopalchurch.org
SUMMARY:Gentle Yoga with Rev. Becky
DESCRIPTION:
URL:https://westoverepiscopalchurch.org/event/gentle-yoga-with-rev-becky-6/2025-04-24/
END:VEVENT
BEGIN:VEVENT
DTSTART;TZID=America/New_York:20250424T093000
DTEND;TZID=America/New_York:20250424T110000
DTSTAMP:20260425T065358
CREATED:20250416T174900Z
LAST-MODIFIED:20250416T174900Z
UID:10002173-1745487000-1745492400@westoverepiscopalchurch.org
SUMMARY:NO Gentle Yoga Today
DESCRIPTION:
URL:https://westoverepiscopalchurch.org/event/no-gentle-yoga-today-2/
END:VEVENT
BEGIN:VEVENT
DTSTART;TZID=America/New_York:20250424T090000
DTEND;TZID=America/New_York:20250424T110000
DTSTAMP:20260425T065358
CREATED:20250103T170003Z
LAST-MODIFIED:20250103T170126Z
UID:10001970-1745485200-1745492400@westoverepiscopalchurch.org
SUMMARY:Meals on Wheels
DESCRIPTION:
URL:https://westoverepiscopalchurch.org/event/meals-on-wheels-2/2025-04-24/
END:VEVENT
BEGIN:VEVENT
DTSTART;TZID=America/New_York:20250424T090000
DTEND;TZID=America/New_York:20250424T110000
DTSTAMP:20260425T065358
CREATED:20230113T145846Z
LAST-MODIFIED:20230113T145846Z
UID:10002914-1745485200-1745492400@westoverepiscopalchurch.org
SUMMARY:Meals on Wheels
DESCRIPTION:Meals On Wheels (MOW) serves hot\, nutritious meals to the homebound elderly and/or disabled Monday through Friday.
URL:https://westoverepiscopalchurch.org/event/meals-on-wheels/2025-04-24/
END:VEVENT
BEGIN:VEVENT
DTSTART;TZID=America/New_York:20250423T090000
DTEND;TZID=America/New_York:20250423T110000
DTSTAMP:20260425T065358
CREATED:20250103T170003Z
LAST-MODIFIED:20250103T170126Z
UID:10001969-1745398800-1745406000@westoverepiscopalchurch.org
SUMMARY:Meals on Wheels
DESCRIPTION:
URL:https://westoverepiscopalchurch.org/event/meals-on-wheels-2/2025-04-23/
END:VEVENT
BEGIN:VEVENT
DTSTART;TZID=America/New_York:20250423T090000
DTEND;TZID=America/New_York:20250423T110000
DTSTAMP:20260425T065358
CREATED:20230113T145846Z
LAST-MODIFIED:20230113T145846Z
UID:10002913-1745398800-1745406000@westoverepiscopalchurch.org
SUMMARY:Meals on Wheels
DESCRIPTION:Meals On Wheels (MOW) serves hot\, nutritious meals to the homebound elderly and/or disabled Monday through Friday.
URL:https://westoverepiscopalchurch.org/event/meals-on-wheels/2025-04-23/
END:VEVENT
BEGIN:VEVENT
DTSTART;TZID=America/New_York:20250422T090000
DTEND;TZID=America/New_York:20250422T110000
DTSTAMP:20260425T065358
CREATED:20250103T170003Z
LAST-MODIFIED:20250103T170126Z
UID:10001968-1745312400-1745319600@westoverepiscopalchurch.org
SUMMARY:Meals on Wheels
DESCRIPTION:
URL:https://westoverepiscopalchurch.org/event/meals-on-wheels-2/2025-04-22/
END:VEVENT
BEGIN:VEVENT
DTSTART;TZID=America/New_York:20250422T090000
DTEND;TZID=America/New_York:20250422T110000
DTSTAMP:20260425T065358
CREATED:20230113T145846Z
LAST-MODIFIED:20230113T145846Z
UID:10002912-1745312400-1745319600@westoverepiscopalchurch.org
SUMMARY:Meals on Wheels
DESCRIPTION:Meals On Wheels (MOW) serves hot\, nutritious meals to the homebound elderly and/or disabled Monday through Friday.
URL:https://westoverepiscopalchurch.org/event/meals-on-wheels/2025-04-22/
END:VEVENT
BEGIN:VEVENT
DTSTART;TZID=America/New_York:20250421T090000
DTEND;TZID=America/New_York:20250421T110000
DTSTAMP:20260425T065358
CREATED:20250103T170003Z
LAST-MODIFIED:20250103T170126Z
UID:10001967-1745226000-1745233200@westoverepiscopalchurch.org
SUMMARY:Meals on Wheels
DESCRIPTION:
URL:https://westoverepiscopalchurch.org/event/meals-on-wheels-2/2025-04-21/
END:VEVENT
BEGIN:VEVENT
DTSTART;TZID=America/New_York:20250421T090000
DTEND;TZID=America/New_York:20250421T110000
DTSTAMP:20260425T065358
CREATED:20230113T145846Z
LAST-MODIFIED:20230113T145846Z
UID:10002911-1745226000-1745233200@westoverepiscopalchurch.org
SUMMARY:Meals on Wheels
DESCRIPTION:Meals On Wheels (MOW) serves hot\, nutritious meals to the homebound elderly and/or disabled Monday through Friday.
URL:https://westoverepiscopalchurch.org/event/meals-on-wheels/2025-04-21/
END:VEVENT
BEGIN:VEVENT
DTSTART;TZID=America/New_York:20250420T100000
DTEND;TZID=America/New_York:20250420T110000
DTSTAMP:20260425T065358
CREATED:20250416T174448Z
LAST-MODIFIED:20250416T174448Z
UID:10002170-1745143200-1745146800@westoverepiscopalchurch.org
SUMMARY:Easter Day Service
DESCRIPTION:An Easter Egg Hunt will follow the service
URL:https://westoverepiscopalchurch.org/event/easter-day-service-2/
END:VEVENT
BEGIN:VEVENT
DTSTART;TZID=America/New_York:20250418T120000
DTEND;TZID=America/New_York:20250418T130000
DTSTAMP:20260425T065358
CREATED:20250416T174142Z
LAST-MODIFIED:20250416T174142Z
UID:10002167-1744977600-1744981200@westoverepiscopalchurch.org
SUMMARY:Good Friday Service
DESCRIPTION:
URL:https://westoverepiscopalchurch.org/event/good-friday-service-3/
END:VEVENT
BEGIN:VEVENT
DTSTART;TZID=America/New_York:20250418T090000
DTEND;TZID=America/New_York:20250418T110000
DTSTAMP:20260425T065358
CREATED:20250103T170003Z
LAST-MODIFIED:20250103T170126Z
UID:10001966-1744966800-1744974000@westoverepiscopalchurch.org
SUMMARY:Meals on Wheels
DESCRIPTION:
URL:https://westoverepiscopalchurch.org/event/meals-on-wheels-2/2025-04-18/
END:VEVENT
BEGIN:VEVENT
DTSTART;TZID=America/New_York:20250418T090000
DTEND;TZID=America/New_York:20250418T110000
DTSTAMP:20260425T065358
CREATED:20230113T145846Z
LAST-MODIFIED:20230113T145846Z
UID:10002910-1744966800-1744974000@westoverepiscopalchurch.org
SUMMARY:Meals on Wheels
DESCRIPTION:Meals On Wheels (MOW) serves hot\, nutritious meals to the homebound elderly and/or disabled Monday through Friday.
URL:https://westoverepiscopalchurch.org/event/meals-on-wheels/2025-04-18/
END:VEVENT
BEGIN:VEVENT
DTSTART;TZID=America/New_York:20250417T180000
DTEND;TZID=America/New_York:20250417T190000
DTSTAMP:20260425T065358
CREATED:20250416T174050Z
LAST-MODIFIED:20250416T174050Z
UID:10002166-1744912800-1744916400@westoverepiscopalchurch.org
SUMMARY:Maundy Thursday Service
DESCRIPTION:
URL:https://westoverepiscopalchurch.org/event/maundy-thursday-service-3/
END:VEVENT
BEGIN:VEVENT
DTSTART;TZID=America/New_York:20250417T100000
DTEND;TZID=America/New_York:20250417T110000
DTSTAMP:20260425T065358
CREATED:20241203T183802Z
LAST-MODIFIED:20250520T131430Z
UID:10001581-1744884000-1744887600@westoverepiscopalchurch.org
SUMMARY:Gentle Yoga with Rev. Becky
DESCRIPTION:
URL:https://westoverepiscopalchurch.org/event/gentle-yoga-with-rev-becky-6/2025-04-17/
END:VEVENT
BEGIN:VEVENT
DTSTART;TZID=America/New_York:20250417T090000
DTEND;TZID=America/New_York:20250417T110000
DTSTAMP:20260425T065358
CREATED:20250103T170003Z
LAST-MODIFIED:20250103T170126Z
UID:10001965-1744880400-1744887600@westoverepiscopalchurch.org
SUMMARY:Meals on Wheels
DESCRIPTION:
URL:https://westoverepiscopalchurch.org/event/meals-on-wheels-2/2025-04-17/
END:VEVENT
BEGIN:VEVENT
DTSTART;TZID=America/New_York:20250417T090000
DTEND;TZID=America/New_York:20250417T110000
DTSTAMP:20260425T065358
CREATED:20230113T145846Z
LAST-MODIFIED:20230113T145846Z
UID:10002909-1744880400-1744887600@westoverepiscopalchurch.org
SUMMARY:Meals on Wheels
DESCRIPTION:Meals On Wheels (MOW) serves hot\, nutritious meals to the homebound elderly and/or disabled Monday through Friday.
URL:https://westoverepiscopalchurch.org/event/meals-on-wheels/2025-04-17/
END:VEVENT
BEGIN:VEVENT
DTSTART;TZID=America/New_York:20250416T090000
DTEND;TZID=America/New_York:20250416T110000
DTSTAMP:20260425T065358
CREATED:20250103T170003Z
LAST-MODIFIED:20250103T170126Z
UID:10001964-1744794000-1744801200@westoverepiscopalchurch.org
SUMMARY:Meals on Wheels
DESCRIPTION:
URL:https://westoverepiscopalchurch.org/event/meals-on-wheels-2/2025-04-16/
END:VEVENT
BEGIN:VEVENT
DTSTART;TZID=America/New_York:20250416T090000
DTEND;TZID=America/New_York:20250416T110000
DTSTAMP:20260425T065358
CREATED:20230113T145846Z
LAST-MODIFIED:20230113T145846Z
UID:10002908-1744794000-1744801200@westoverepiscopalchurch.org
SUMMARY:Meals on Wheels
DESCRIPTION:Meals On Wheels (MOW) serves hot\, nutritious meals to the homebound elderly and/or disabled Monday through Friday.
URL:https://westoverepiscopalchurch.org/event/meals-on-wheels/2025-04-16/
END:VEVENT
BEGIN:VEVENT
DTSTART;TZID=America/New_York:20250415T090000
DTEND;TZID=America/New_York:20250415T110000
DTSTAMP:20260425T065358
CREATED:20250103T170003Z
LAST-MODIFIED:20250103T170126Z
UID:10001963-1744707600-1744714800@westoverepiscopalchurch.org
SUMMARY:Meals on Wheels
DESCRIPTION:
URL:https://westoverepiscopalchurch.org/event/meals-on-wheels-2/2025-04-15/
END:VEVENT
BEGIN:VEVENT
DTSTART;TZID=America/New_York:20250415T090000
DTEND;TZID=America/New_York:20250415T110000
DTSTAMP:20260425T065358
CREATED:20230113T145846Z
LAST-MODIFIED:20230113T145846Z
UID:10002907-1744707600-1744714800@westoverepiscopalchurch.org
SUMMARY:Meals on Wheels
DESCRIPTION:Meals On Wheels (MOW) serves hot\, nutritious meals to the homebound elderly and/or disabled Monday through Friday.
URL:https://westoverepiscopalchurch.org/event/meals-on-wheels/2025-04-15/
END:VEVENT
BEGIN:VEVENT
DTSTART;TZID=America/New_York:20250414T090000
DTEND;TZID=America/New_York:20250414T110000
DTSTAMP:20260425T065358
CREATED:20250103T170003Z
LAST-MODIFIED:20250103T170126Z
UID:10001962-1744621200-1744628400@westoverepiscopalchurch.org
SUMMARY:Meals on Wheels
DESCRIPTION:
URL:https://westoverepiscopalchurch.org/event/meals-on-wheels-2/2025-04-14/
END:VEVENT
BEGIN:VEVENT
DTSTART;TZID=America/New_York:20250414T090000
DTEND;TZID=America/New_York:20250414T110000
DTSTAMP:20260425T065358
CREATED:20230113T145846Z
LAST-MODIFIED:20230113T145846Z
UID:10002906-1744621200-1744628400@westoverepiscopalchurch.org
SUMMARY:Meals on Wheels
DESCRIPTION:Meals On Wheels (MOW) serves hot\, nutritious meals to the homebound elderly and/or disabled Monday through Friday.
URL:https://westoverepiscopalchurch.org/event/meals-on-wheels/2025-04-14/
END:VEVENT
BEGIN:VEVENT
DTSTART;TZID=America/New_York:20250413T100000
DTEND;TZID=America/New_York:20250413T110000
DTSTAMP:20260425T065358
CREATED:20250416T174345Z
LAST-MODIFIED:20250416T174345Z
UID:10002169-1744538400-1744542000@westoverepiscopalchurch.org
SUMMARY:Palm Sunday
DESCRIPTION:
URL:https://westoverepiscopalchurch.org/event/palm-sunday/
END:VEVENT
BEGIN:VEVENT
DTSTART;TZID=America/New_York:20250411T090000
DTEND;TZID=America/New_York:20250411T110000
DTSTAMP:20260425T065358
CREATED:20250103T170003Z
LAST-MODIFIED:20250103T170126Z
UID:10001961-1744362000-1744369200@westoverepiscopalchurch.org
SUMMARY:Meals on Wheels
DESCRIPTION:
URL:https://westoverepiscopalchurch.org/event/meals-on-wheels-2/2025-04-11/
END:VEVENT
BEGIN:VEVENT
DTSTART;TZID=America/New_York:20250411T090000
DTEND;TZID=America/New_York:20250411T110000
DTSTAMP:20260425T065358
CREATED:20230113T145846Z
LAST-MODIFIED:20230113T145846Z
UID:10002905-1744362000-1744369200@westoverepiscopalchurch.org
SUMMARY:Meals on Wheels
DESCRIPTION:Meals On Wheels (MOW) serves hot\, nutritious meals to the homebound elderly and/or disabled Monday through Friday.
URL:https://westoverepiscopalchurch.org/event/meals-on-wheels/2025-04-11/
END:VEVENT
BEGIN:VEVENT
DTSTART;TZID=America/New_York:20250410T100000
DTEND;TZID=America/New_York:20250410T110000
DTSTAMP:20260425T065358
CREATED:20241203T183802Z
LAST-MODIFIED:20250520T131430Z
UID:10001580-1744279200-1744282800@westoverepiscopalchurch.org
SUMMARY:Gentle Yoga with Rev. Becky
DESCRIPTION:
URL:https://westoverepiscopalchurch.org/event/gentle-yoga-with-rev-becky-6/2025-04-10/
END:VEVENT
BEGIN:VEVENT
DTSTART;TZID=America/New_York:20250410T090000
DTEND;TZID=America/New_York:20250410T110000
DTSTAMP:20260425T065358
CREATED:20250103T170003Z
LAST-MODIFIED:20250103T170126Z
UID:10001960-1744275600-1744282800@westoverepiscopalchurch.org
SUMMARY:Meals on Wheels
DESCRIPTION:
URL:https://westoverepiscopalchurch.org/event/meals-on-wheels-2/2025-04-10/
END:VEVENT
END:VCALENDAR