BEGIN:VCALENDAR
VERSION:2.0
PRODID:-//Westover Episcopal Church - Charles City, VA - ECPv6.15.20//NONSGML v1.0//EN
CALSCALE:GREGORIAN
METHOD:PUBLISH
X-WR-CALNAME:Westover Episcopal Church - Charles City, VA
X-ORIGINAL-URL:https://westoverepiscopalchurch.org
X-WR-CALDESC:Events for Westover Episcopal Church - Charles City, VA
REFRESH-INTERVAL;VALUE=DURATION:PT1H
X-Robots-Tag:noindex
X-PUBLISHED-TTL:PT1H
BEGIN:VTIMEZONE
TZID:America/New_York
BEGIN:DAYLIGHT
TZOFFSETFROM:-0500
TZOFFSETTO:-0400
TZNAME:EDT
DTSTART:20230312T070000
END:DAYLIGHT
BEGIN:STANDARD
TZOFFSETFROM:-0400
TZOFFSETTO:-0500
TZNAME:EST
DTSTART:20231105T060000
END:STANDARD
BEGIN:DAYLIGHT
TZOFFSETFROM:-0500
TZOFFSETTO:-0400
TZNAME:EDT
DTSTART:20240310T070000
END:DAYLIGHT
BEGIN:STANDARD
TZOFFSETFROM:-0400
TZOFFSETTO:-0500
TZNAME:EST
DTSTART:20241103T060000
END:STANDARD
BEGIN:DAYLIGHT
TZOFFSETFROM:-0500
TZOFFSETTO:-0400
TZNAME:EDT
DTSTART:20250309T070000
END:DAYLIGHT
BEGIN:STANDARD
TZOFFSETFROM:-0400
TZOFFSETTO:-0500
TZNAME:EST
DTSTART:20251102T060000
END:STANDARD
END:VTIMEZONE
BEGIN:VEVENT
DTSTART;TZID=America/New_York:20241212T090000
DTEND;TZID=America/New_York:20241212T110000
DTSTAMP:20260425T114710
CREATED:20230113T145846Z
LAST-MODIFIED:20230113T145846Z
UID:10002819-1733994000-1734001200@westoverepiscopalchurch.org
SUMMARY:Meals on Wheels
DESCRIPTION:Meals On Wheels (MOW) serves hot\, nutritious meals to the homebound elderly and/or disabled Monday through Friday.
URL:https://westoverepiscopalchurch.org/event/meals-on-wheels/2024-12-12/
END:VEVENT
BEGIN:VEVENT
DTSTART;TZID=America/New_York:20241211T090000
DTEND;TZID=America/New_York:20241211T110000
DTSTAMP:20260425T114710
CREATED:20240105T180517Z
LAST-MODIFIED:20240105T180520Z
UID:10001432-1733907600-1733914800@westoverepiscopalchurch.org
SUMMARY:Meals on Wheels
DESCRIPTION:
URL:https://westoverepiscopalchurch.org/event/meals-on-wheels-3-2/2024-12-11/
END:VEVENT
BEGIN:VEVENT
DTSTART;TZID=America/New_York:20241211T090000
DTEND;TZID=America/New_York:20241211T110000
DTSTAMP:20260425T114710
CREATED:20230113T145846Z
LAST-MODIFIED:20230113T145846Z
UID:10002818-1733907600-1733914800@westoverepiscopalchurch.org
SUMMARY:Meals on Wheels
DESCRIPTION:Meals On Wheels (MOW) serves hot\, nutritious meals to the homebound elderly and/or disabled Monday through Friday.
URL:https://westoverepiscopalchurch.org/event/meals-on-wheels/2024-12-11/
END:VEVENT
BEGIN:VEVENT
DTSTART;TZID=America/New_York:20241210T090000
DTEND;TZID=America/New_York:20241210T110000
DTSTAMP:20260425T114710
CREATED:20240105T180517Z
LAST-MODIFIED:20240105T180520Z
UID:10001431-1733821200-1733828400@westoverepiscopalchurch.org
SUMMARY:Meals on Wheels
DESCRIPTION:
URL:https://westoverepiscopalchurch.org/event/meals-on-wheels-3-2/2024-12-10/
END:VEVENT
BEGIN:VEVENT
DTSTART;TZID=America/New_York:20241210T090000
DTEND;TZID=America/New_York:20241210T110000
DTSTAMP:20260425T114710
CREATED:20230113T145846Z
LAST-MODIFIED:20230113T145846Z
UID:10002817-1733821200-1733828400@westoverepiscopalchurch.org
SUMMARY:Meals on Wheels
DESCRIPTION:Meals On Wheels (MOW) serves hot\, nutritious meals to the homebound elderly and/or disabled Monday through Friday.
URL:https://westoverepiscopalchurch.org/event/meals-on-wheels/2024-12-10/
END:VEVENT
BEGIN:VEVENT
DTSTART;TZID=America/New_York:20241209T090000
DTEND;TZID=America/New_York:20241209T110000
DTSTAMP:20260425T114710
CREATED:20240105T180517Z
LAST-MODIFIED:20240105T180520Z
UID:10001430-1733734800-1733742000@westoverepiscopalchurch.org
SUMMARY:Meals on Wheels
DESCRIPTION:
URL:https://westoverepiscopalchurch.org/event/meals-on-wheels-3-2/2024-12-09/
END:VEVENT
BEGIN:VEVENT
DTSTART;TZID=America/New_York:20241209T090000
DTEND;TZID=America/New_York:20241209T110000
DTSTAMP:20260425T114710
CREATED:20230113T145846Z
LAST-MODIFIED:20230113T145846Z
UID:10002816-1733734800-1733742000@westoverepiscopalchurch.org
SUMMARY:Meals on Wheels
DESCRIPTION:Meals On Wheels (MOW) serves hot\, nutritious meals to the homebound elderly and/or disabled Monday through Friday.
URL:https://westoverepiscopalchurch.org/event/meals-on-wheels/2024-12-09/
END:VEVENT
BEGIN:VEVENT
DTSTART;TZID=America/New_York:20241208T100000
DTEND;TZID=America/New_York:20241208T110000
DTSTAMP:20260425T114710
CREATED:20240924T174948Z
LAST-MODIFIED:20240924T174948Z
UID:10001498-1733652000-1733655600@westoverepiscopalchurch.org
SUMMARY:Second Sunday of Advent Service
DESCRIPTION:
URL:https://westoverepiscopalchurch.org/event/second-sunday-of-advent-service-2/
END:VEVENT
BEGIN:VEVENT
DTSTART;TZID=America/New_York:20241206T090000
DTEND;TZID=America/New_York:20241206T110000
DTSTAMP:20260425T114710
CREATED:20240105T180517Z
LAST-MODIFIED:20240105T180520Z
UID:10001429-1733475600-1733482800@westoverepiscopalchurch.org
SUMMARY:Meals on Wheels
DESCRIPTION:
URL:https://westoverepiscopalchurch.org/event/meals-on-wheels-3-2/2024-12-06/
END:VEVENT
BEGIN:VEVENT
DTSTART;TZID=America/New_York:20241206T090000
DTEND;TZID=America/New_York:20241206T110000
DTSTAMP:20260425T114710
CREATED:20230113T145846Z
LAST-MODIFIED:20230113T145846Z
UID:10002815-1733475600-1733482800@westoverepiscopalchurch.org
SUMMARY:Meals on Wheels
DESCRIPTION:Meals On Wheels (MOW) serves hot\, nutritious meals to the homebound elderly and/or disabled Monday through Friday.
URL:https://westoverepiscopalchurch.org/event/meals-on-wheels/2024-12-06/
END:VEVENT
BEGIN:VEVENT
DTSTART;TZID=America/New_York:20241205T100000
DTEND;TZID=America/New_York:20241205T110000
DTSTAMP:20260425T114710
CREATED:20241220T200804Z
LAST-MODIFIED:20241220T200805Z
UID:10001515-1733392800-1733396400@westoverepiscopalchurch.org
SUMMARY:Gentle Yoga with Rev. Becky
DESCRIPTION:
URL:https://westoverepiscopalchurch.org/event/gentle-yoga-with-rev-becky-5-2/2024-12-05/
END:VEVENT
BEGIN:VEVENT
DTSTART;TZID=America/New_York:20241205T100000
DTEND;TZID=America/New_York:20241205T110000
DTSTAMP:20260425T114710
CREATED:20241203T183648Z
LAST-MODIFIED:20241203T183648Z
UID:10001512-1733392800-1733396400@westoverepiscopalchurch.org
SUMMARY:Gentle Yoga with Rev. Becky
DESCRIPTION:
URL:https://westoverepiscopalchurch.org/event/gentle-yoga-with-rev-becky-5/2024-12-05/
END:VEVENT
BEGIN:VEVENT
DTSTART;TZID=America/New_York:20241205T090000
DTEND;TZID=America/New_York:20241205T110000
DTSTAMP:20260425T114710
CREATED:20240105T180517Z
LAST-MODIFIED:20240105T180520Z
UID:10001428-1733389200-1733396400@westoverepiscopalchurch.org
SUMMARY:Meals on Wheels
DESCRIPTION:
URL:https://westoverepiscopalchurch.org/event/meals-on-wheels-3-2/2024-12-05/
END:VEVENT
BEGIN:VEVENT
DTSTART;TZID=America/New_York:20241205T090000
DTEND;TZID=America/New_York:20241205T110000
DTSTAMP:20260425T114710
CREATED:20230113T145846Z
LAST-MODIFIED:20230113T145846Z
UID:10002814-1733389200-1733396400@westoverepiscopalchurch.org
SUMMARY:Meals on Wheels
DESCRIPTION:Meals On Wheels (MOW) serves hot\, nutritious meals to the homebound elderly and/or disabled Monday through Friday.
URL:https://westoverepiscopalchurch.org/event/meals-on-wheels/2024-12-05/
END:VEVENT
BEGIN:VEVENT
DTSTART;TZID=America/New_York:20241204T090000
DTEND;TZID=America/New_York:20241204T110000
DTSTAMP:20260425T114710
CREATED:20240105T180517Z
LAST-MODIFIED:20240105T180520Z
UID:10001427-1733302800-1733310000@westoverepiscopalchurch.org
SUMMARY:Meals on Wheels
DESCRIPTION:
URL:https://westoverepiscopalchurch.org/event/meals-on-wheels-3-2/2024-12-04/
END:VEVENT
BEGIN:VEVENT
DTSTART;TZID=America/New_York:20241204T090000
DTEND;TZID=America/New_York:20241204T110000
DTSTAMP:20260425T114710
CREATED:20230113T145846Z
LAST-MODIFIED:20230113T145846Z
UID:10002813-1733302800-1733310000@westoverepiscopalchurch.org
SUMMARY:Meals on Wheels
DESCRIPTION:Meals On Wheels (MOW) serves hot\, nutritious meals to the homebound elderly and/or disabled Monday through Friday.
URL:https://westoverepiscopalchurch.org/event/meals-on-wheels/2024-12-04/
END:VEVENT
BEGIN:VEVENT
DTSTART;TZID=America/New_York:20241203T090000
DTEND;TZID=America/New_York:20241203T110000
DTSTAMP:20260425T114710
CREATED:20240105T180517Z
LAST-MODIFIED:20240105T180520Z
UID:10001426-1733216400-1733223600@westoverepiscopalchurch.org
SUMMARY:Meals on Wheels
DESCRIPTION:
URL:https://westoverepiscopalchurch.org/event/meals-on-wheels-3-2/2024-12-03/
END:VEVENT
BEGIN:VEVENT
DTSTART;TZID=America/New_York:20241203T090000
DTEND;TZID=America/New_York:20241203T110000
DTSTAMP:20260425T114710
CREATED:20230113T145846Z
LAST-MODIFIED:20230113T145846Z
UID:10002812-1733216400-1733223600@westoverepiscopalchurch.org
SUMMARY:Meals on Wheels
DESCRIPTION:Meals On Wheels (MOW) serves hot\, nutritious meals to the homebound elderly and/or disabled Monday through Friday.
URL:https://westoverepiscopalchurch.org/event/meals-on-wheels/2024-12-03/
END:VEVENT
BEGIN:VEVENT
DTSTART;TZID=America/New_York:20241202T090000
DTEND;TZID=America/New_York:20241202T110000
DTSTAMP:20260425T114710
CREATED:20240105T180517Z
LAST-MODIFIED:20240105T180520Z
UID:10001425-1733130000-1733137200@westoverepiscopalchurch.org
SUMMARY:Meals on Wheels
DESCRIPTION:
URL:https://westoverepiscopalchurch.org/event/meals-on-wheels-3-2/2024-12-02/
END:VEVENT
BEGIN:VEVENT
DTSTART;TZID=America/New_York:20241202T090000
DTEND;TZID=America/New_York:20241202T110000
DTSTAMP:20260425T114710
CREATED:20230113T145846Z
LAST-MODIFIED:20230113T145846Z
UID:10002811-1733130000-1733137200@westoverepiscopalchurch.org
SUMMARY:Meals on Wheels
DESCRIPTION:Meals On Wheels (MOW) serves hot\, nutritious meals to the homebound elderly and/or disabled Monday through Friday.
URL:https://westoverepiscopalchurch.org/event/meals-on-wheels/2024-12-02/
END:VEVENT
BEGIN:VEVENT
DTSTART;TZID=America/New_York:20241201T173000
DTEND;TZID=America/New_York:20241201T183000
DTSTAMP:20260425T114710
CREATED:20240924T174844Z
LAST-MODIFIED:20240924T174844Z
UID:10001497-1733074200-1733077800@westoverepiscopalchurch.org
SUMMARY:First Sunday of Advent Celtic Communion Service
DESCRIPTION:
URL:https://westoverepiscopalchurch.org/event/first-sunday-of-advent-celtic-communion-service/
END:VEVENT
BEGIN:VEVENT
DTSTART;TZID=America/New_York:20241201T100000
DTEND;TZID=America/New_York:20241201T110000
DTSTAMP:20260425T114710
CREATED:20240924T174620Z
LAST-MODIFIED:20240924T174620Z
UID:10001496-1733047200-1733050800@westoverepiscopalchurch.org
SUMMARY:No 10:00AM Service
DESCRIPTION:
URL:https://westoverepiscopalchurch.org/event/no-1000am-service/
END:VEVENT
BEGIN:VEVENT
DTSTART;TZID=America/New_York:20241129T090000
DTEND;TZID=America/New_York:20241129T110000
DTSTAMP:20260425T114710
CREATED:20240105T180517Z
LAST-MODIFIED:20240105T180520Z
UID:10001424-1732870800-1732878000@westoverepiscopalchurch.org
SUMMARY:Meals on Wheels
DESCRIPTION:
URL:https://westoverepiscopalchurch.org/event/meals-on-wheels-3-2/2024-11-29/
END:VEVENT
BEGIN:VEVENT
DTSTART;TZID=America/New_York:20241129T090000
DTEND;TZID=America/New_York:20241129T110000
DTSTAMP:20260425T114710
CREATED:20230113T145846Z
LAST-MODIFIED:20230113T145846Z
UID:10002810-1732870800-1732878000@westoverepiscopalchurch.org
SUMMARY:Meals on Wheels
DESCRIPTION:Meals On Wheels (MOW) serves hot\, nutritious meals to the homebound elderly and/or disabled Monday through Friday.
URL:https://westoverepiscopalchurch.org/event/meals-on-wheels/2024-11-29/
END:VEVENT
BEGIN:VEVENT
DTSTART;TZID=America/New_York:20241128T090000
DTEND;TZID=America/New_York:20241128T110000
DTSTAMP:20260425T114710
CREATED:20240105T180517Z
LAST-MODIFIED:20240105T180520Z
UID:10001423-1732784400-1732791600@westoverepiscopalchurch.org
SUMMARY:Meals on Wheels
DESCRIPTION:
URL:https://westoverepiscopalchurch.org/event/meals-on-wheels-3-2/2024-11-28/
END:VEVENT
BEGIN:VEVENT
DTSTART;TZID=America/New_York:20241128T090000
DTEND;TZID=America/New_York:20241128T110000
DTSTAMP:20260425T114710
CREATED:20230113T145846Z
LAST-MODIFIED:20230113T145846Z
UID:10002809-1732784400-1732791600@westoverepiscopalchurch.org
SUMMARY:Meals on Wheels
DESCRIPTION:Meals On Wheels (MOW) serves hot\, nutritious meals to the homebound elderly and/or disabled Monday through Friday.
URL:https://westoverepiscopalchurch.org/event/meals-on-wheels/2024-11-28/
END:VEVENT
BEGIN:VEVENT
DTSTART;TZID=America/New_York:20241127T090000
DTEND;TZID=America/New_York:20241127T110000
DTSTAMP:20260425T114710
CREATED:20240105T180517Z
LAST-MODIFIED:20240105T180520Z
UID:10001422-1732698000-1732705200@westoverepiscopalchurch.org
SUMMARY:Meals on Wheels
DESCRIPTION:
URL:https://westoverepiscopalchurch.org/event/meals-on-wheels-3-2/2024-11-27/
END:VEVENT
BEGIN:VEVENT
DTSTART;TZID=America/New_York:20241127T090000
DTEND;TZID=America/New_York:20241127T110000
DTSTAMP:20260425T114710
CREATED:20230113T145846Z
LAST-MODIFIED:20230113T145846Z
UID:10002808-1732698000-1732705200@westoverepiscopalchurch.org
SUMMARY:Meals on Wheels
DESCRIPTION:Meals On Wheels (MOW) serves hot\, nutritious meals to the homebound elderly and/or disabled Monday through Friday.
URL:https://westoverepiscopalchurch.org/event/meals-on-wheels/2024-11-27/
END:VEVENT
BEGIN:VEVENT
DTSTART;TZID=America/New_York:20241126T090000
DTEND;TZID=America/New_York:20241126T110000
DTSTAMP:20260425T114710
CREATED:20240105T180517Z
LAST-MODIFIED:20240105T180520Z
UID:10001421-1732611600-1732618800@westoverepiscopalchurch.org
SUMMARY:Meals on Wheels
DESCRIPTION:
URL:https://westoverepiscopalchurch.org/event/meals-on-wheels-3-2/2024-11-26/
END:VEVENT
BEGIN:VEVENT
DTSTART;TZID=America/New_York:20241126T090000
DTEND;TZID=America/New_York:20241126T110000
DTSTAMP:20260425T114710
CREATED:20230113T145846Z
LAST-MODIFIED:20230113T145846Z
UID:10002807-1732611600-1732618800@westoverepiscopalchurch.org
SUMMARY:Meals on Wheels
DESCRIPTION:Meals On Wheels (MOW) serves hot\, nutritious meals to the homebound elderly and/or disabled Monday through Friday.
URL:https://westoverepiscopalchurch.org/event/meals-on-wheels/2024-11-26/
END:VEVENT
END:VCALENDAR