BEGIN:VCALENDAR
VERSION:2.0
PRODID:-//Westover Episcopal Church - Charles City, VA - ECPv6.15.20//NONSGML v1.0//EN
CALSCALE:GREGORIAN
METHOD:PUBLISH
X-ORIGINAL-URL:https://westoverepiscopalchurch.org
X-WR-CALDESC:Events for Westover Episcopal Church - Charles City, VA
REFRESH-INTERVAL;VALUE=DURATION:PT1H
X-Robots-Tag:noindex
X-PUBLISHED-TTL:PT1H
BEGIN:VTIMEZONE
TZID:America/New_York
BEGIN:DAYLIGHT
TZOFFSETFROM:-0500
TZOFFSETTO:-0400
TZNAME:EDT
DTSTART:20260308T070000
END:DAYLIGHT
BEGIN:STANDARD
TZOFFSETFROM:-0400
TZOFFSETTO:-0500
TZNAME:EST
DTSTART:20261101T060000
END:STANDARD
BEGIN:DAYLIGHT
TZOFFSETFROM:-0500
TZOFFSETTO:-0400
TZNAME:EDT
DTSTART:20270314T070000
END:DAYLIGHT
BEGIN:STANDARD
TZOFFSETFROM:-0400
TZOFFSETTO:-0500
TZNAME:EST
DTSTART:20271107T060000
END:STANDARD
BEGIN:DAYLIGHT
TZOFFSETFROM:-0500
TZOFFSETTO:-0400
TZNAME:EDT
DTSTART:20280312T070000
END:DAYLIGHT
BEGIN:STANDARD
TZOFFSETFROM:-0400
TZOFFSETTO:-0500
TZNAME:EST
DTSTART:20281105T060000
END:STANDARD
END:VTIMEZONE
BEGIN:VEVENT
DTSTART;TZID=America/New_York:20270809T090000
DTEND;TZID=America/New_York:20270809T110000
DTSTAMP:20260425T112241
CREATED:20230113T145846Z
LAST-MODIFIED:20230113T145846Z
UID:10003511-1817802000-1817809200@westoverepiscopalchurch.org
SUMMARY:Meals on Wheels
DESCRIPTION:Meals On Wheels (MOW) serves hot\, nutritious meals to the homebound elderly and/or disabled Monday through Friday.
URL:https://westoverepiscopalchurch.org/event/meals-on-wheels/2027-08-09/
END:VEVENT
BEGIN:VEVENT
DTSTART;TZID=America/New_York:20270810T090000
DTEND;TZID=America/New_York:20270810T110000
DTSTAMP:20260425T112241
CREATED:20230113T145846Z
LAST-MODIFIED:20230113T145846Z
UID:10003512-1817888400-1817895600@westoverepiscopalchurch.org
SUMMARY:Meals on Wheels
DESCRIPTION:Meals On Wheels (MOW) serves hot\, nutritious meals to the homebound elderly and/or disabled Monday through Friday.
URL:https://westoverepiscopalchurch.org/event/meals-on-wheels/2027-08-10/
END:VEVENT
BEGIN:VEVENT
DTSTART;TZID=America/New_York:20270811T090000
DTEND;TZID=America/New_York:20270811T110000
DTSTAMP:20260425T112241
CREATED:20230113T145846Z
LAST-MODIFIED:20230113T145846Z
UID:10003513-1817974800-1817982000@westoverepiscopalchurch.org
SUMMARY:Meals on Wheels
DESCRIPTION:Meals On Wheels (MOW) serves hot\, nutritious meals to the homebound elderly and/or disabled Monday through Friday.
URL:https://westoverepiscopalchurch.org/event/meals-on-wheels/2027-08-11/
END:VEVENT
BEGIN:VEVENT
DTSTART;TZID=America/New_York:20270812T090000
DTEND;TZID=America/New_York:20270812T110000
DTSTAMP:20260425T112241
CREATED:20230113T145846Z
LAST-MODIFIED:20230113T145846Z
UID:10003514-1818061200-1818068400@westoverepiscopalchurch.org
SUMMARY:Meals on Wheels
DESCRIPTION:Meals On Wheels (MOW) serves hot\, nutritious meals to the homebound elderly and/or disabled Monday through Friday.
URL:https://westoverepiscopalchurch.org/event/meals-on-wheels/2027-08-12/
END:VEVENT
BEGIN:VEVENT
DTSTART;TZID=America/New_York:20270813T090000
DTEND;TZID=America/New_York:20270813T110000
DTSTAMP:20260425T112241
CREATED:20230113T145846Z
LAST-MODIFIED:20230113T145846Z
UID:10003515-1818147600-1818154800@westoverepiscopalchurch.org
SUMMARY:Meals on Wheels
DESCRIPTION:Meals On Wheels (MOW) serves hot\, nutritious meals to the homebound elderly and/or disabled Monday through Friday.
URL:https://westoverepiscopalchurch.org/event/meals-on-wheels/2027-08-13/
END:VEVENT
BEGIN:VEVENT
DTSTART;TZID=America/New_York:20270816T090000
DTEND;TZID=America/New_York:20270816T110000
DTSTAMP:20260425T112241
CREATED:20230113T145846Z
LAST-MODIFIED:20230113T145846Z
UID:10003516-1818406800-1818414000@westoverepiscopalchurch.org
SUMMARY:Meals on Wheels
DESCRIPTION:Meals On Wheels (MOW) serves hot\, nutritious meals to the homebound elderly and/or disabled Monday through Friday.
URL:https://westoverepiscopalchurch.org/event/meals-on-wheels/2027-08-16/
END:VEVENT
BEGIN:VEVENT
DTSTART;TZID=America/New_York:20270817T090000
DTEND;TZID=America/New_York:20270817T110000
DTSTAMP:20260425T112241
CREATED:20230113T145846Z
LAST-MODIFIED:20230113T145846Z
UID:10003517-1818493200-1818500400@westoverepiscopalchurch.org
SUMMARY:Meals on Wheels
DESCRIPTION:Meals On Wheels (MOW) serves hot\, nutritious meals to the homebound elderly and/or disabled Monday through Friday.
URL:https://westoverepiscopalchurch.org/event/meals-on-wheels/2027-08-17/
END:VEVENT
BEGIN:VEVENT
DTSTART;TZID=America/New_York:20270818T090000
DTEND;TZID=America/New_York:20270818T110000
DTSTAMP:20260425T112241
CREATED:20230113T145846Z
LAST-MODIFIED:20230113T145846Z
UID:10003518-1818579600-1818586800@westoverepiscopalchurch.org
SUMMARY:Meals on Wheels
DESCRIPTION:Meals On Wheels (MOW) serves hot\, nutritious meals to the homebound elderly and/or disabled Monday through Friday.
URL:https://westoverepiscopalchurch.org/event/meals-on-wheels/2027-08-18/
END:VEVENT
BEGIN:VEVENT
DTSTART;TZID=America/New_York:20270819T090000
DTEND;TZID=America/New_York:20270819T110000
DTSTAMP:20260425T112241
CREATED:20230113T145846Z
LAST-MODIFIED:20230113T145846Z
UID:10003519-1818666000-1818673200@westoverepiscopalchurch.org
SUMMARY:Meals on Wheels
DESCRIPTION:Meals On Wheels (MOW) serves hot\, nutritious meals to the homebound elderly and/or disabled Monday through Friday.
URL:https://westoverepiscopalchurch.org/event/meals-on-wheels/2027-08-19/
END:VEVENT
BEGIN:VEVENT
DTSTART;TZID=America/New_York:20270820T090000
DTEND;TZID=America/New_York:20270820T110000
DTSTAMP:20260425T112241
CREATED:20230113T145846Z
LAST-MODIFIED:20230113T145846Z
UID:10003520-1818752400-1818759600@westoverepiscopalchurch.org
SUMMARY:Meals on Wheels
DESCRIPTION:Meals On Wheels (MOW) serves hot\, nutritious meals to the homebound elderly and/or disabled Monday through Friday.
URL:https://westoverepiscopalchurch.org/event/meals-on-wheels/2027-08-20/
END:VEVENT
BEGIN:VEVENT
DTSTART;TZID=America/New_York:20270823T090000
DTEND;TZID=America/New_York:20270823T110000
DTSTAMP:20260425T112241
CREATED:20230113T145846Z
LAST-MODIFIED:20230113T145846Z
UID:10003521-1819011600-1819018800@westoverepiscopalchurch.org
SUMMARY:Meals on Wheels
DESCRIPTION:Meals On Wheels (MOW) serves hot\, nutritious meals to the homebound elderly and/or disabled Monday through Friday.
URL:https://westoverepiscopalchurch.org/event/meals-on-wheels/2027-08-23/
END:VEVENT
BEGIN:VEVENT
DTSTART;TZID=America/New_York:20270824T090000
DTEND;TZID=America/New_York:20270824T110000
DTSTAMP:20260425T112241
CREATED:20230113T145846Z
LAST-MODIFIED:20230113T145846Z
UID:10003522-1819098000-1819105200@westoverepiscopalchurch.org
SUMMARY:Meals on Wheels
DESCRIPTION:Meals On Wheels (MOW) serves hot\, nutritious meals to the homebound elderly and/or disabled Monday through Friday.
URL:https://westoverepiscopalchurch.org/event/meals-on-wheels/2027-08-24/
END:VEVENT
BEGIN:VEVENT
DTSTART;TZID=America/New_York:20270825T090000
DTEND;TZID=America/New_York:20270825T110000
DTSTAMP:20260425T112241
CREATED:20230113T145846Z
LAST-MODIFIED:20230113T145846Z
UID:10003523-1819184400-1819191600@westoverepiscopalchurch.org
SUMMARY:Meals on Wheels
DESCRIPTION:Meals On Wheels (MOW) serves hot\, nutritious meals to the homebound elderly and/or disabled Monday through Friday.
URL:https://westoverepiscopalchurch.org/event/meals-on-wheels/2027-08-25/
END:VEVENT
BEGIN:VEVENT
DTSTART;TZID=America/New_York:20270826T090000
DTEND;TZID=America/New_York:20270826T110000
DTSTAMP:20260425T112241
CREATED:20230113T145846Z
LAST-MODIFIED:20230113T145846Z
UID:10003524-1819270800-1819278000@westoverepiscopalchurch.org
SUMMARY:Meals on Wheels
DESCRIPTION:Meals On Wheels (MOW) serves hot\, nutritious meals to the homebound elderly and/or disabled Monday through Friday.
URL:https://westoverepiscopalchurch.org/event/meals-on-wheels/2027-08-26/
END:VEVENT
BEGIN:VEVENT
DTSTART;TZID=America/New_York:20270827T090000
DTEND;TZID=America/New_York:20270827T110000
DTSTAMP:20260425T112241
CREATED:20230113T145846Z
LAST-MODIFIED:20230113T145846Z
UID:10003525-1819357200-1819364400@westoverepiscopalchurch.org
SUMMARY:Meals on Wheels
DESCRIPTION:Meals On Wheels (MOW) serves hot\, nutritious meals to the homebound elderly and/or disabled Monday through Friday.
URL:https://westoverepiscopalchurch.org/event/meals-on-wheels/2027-08-27/
END:VEVENT
BEGIN:VEVENT
DTSTART;TZID=America/New_York:20270830T090000
DTEND;TZID=America/New_York:20270830T110000
DTSTAMP:20260425T112241
CREATED:20230113T145846Z
LAST-MODIFIED:20230113T145846Z
UID:10003526-1819616400-1819623600@westoverepiscopalchurch.org
SUMMARY:Meals on Wheels
DESCRIPTION:Meals On Wheels (MOW) serves hot\, nutritious meals to the homebound elderly and/or disabled Monday through Friday.
URL:https://westoverepiscopalchurch.org/event/meals-on-wheels/2027-08-30/
END:VEVENT
BEGIN:VEVENT
DTSTART;TZID=America/New_York:20270831T090000
DTEND;TZID=America/New_York:20270831T110000
DTSTAMP:20260425T112241
CREATED:20230113T145846Z
LAST-MODIFIED:20230113T145846Z
UID:10003527-1819702800-1819710000@westoverepiscopalchurch.org
SUMMARY:Meals on Wheels
DESCRIPTION:Meals On Wheels (MOW) serves hot\, nutritious meals to the homebound elderly and/or disabled Monday through Friday.
URL:https://westoverepiscopalchurch.org/event/meals-on-wheels/2027-08-31/
END:VEVENT
BEGIN:VEVENT
DTSTART;TZID=America/New_York:20270901T090000
DTEND;TZID=America/New_York:20270901T110000
DTSTAMP:20260425T112241
CREATED:20230113T145846Z
LAST-MODIFIED:20230113T145846Z
UID:10003528-1819789200-1819796400@westoverepiscopalchurch.org
SUMMARY:Meals on Wheels
DESCRIPTION:Meals On Wheels (MOW) serves hot\, nutritious meals to the homebound elderly and/or disabled Monday through Friday.
URL:https://westoverepiscopalchurch.org/event/meals-on-wheels/2027-09-01/
END:VEVENT
BEGIN:VEVENT
DTSTART;TZID=America/New_York:20270902T090000
DTEND;TZID=America/New_York:20270902T110000
DTSTAMP:20260425T112241
CREATED:20230113T145846Z
LAST-MODIFIED:20230113T145846Z
UID:10003529-1819875600-1819882800@westoverepiscopalchurch.org
SUMMARY:Meals on Wheels
DESCRIPTION:Meals On Wheels (MOW) serves hot\, nutritious meals to the homebound elderly and/or disabled Monday through Friday.
URL:https://westoverepiscopalchurch.org/event/meals-on-wheels/2027-09-02/
END:VEVENT
BEGIN:VEVENT
DTSTART;TZID=America/New_York:20270903T090000
DTEND;TZID=America/New_York:20270903T110000
DTSTAMP:20260425T112241
CREATED:20230113T145846Z
LAST-MODIFIED:20230113T145846Z
UID:10003530-1819962000-1819969200@westoverepiscopalchurch.org
SUMMARY:Meals on Wheels
DESCRIPTION:Meals On Wheels (MOW) serves hot\, nutritious meals to the homebound elderly and/or disabled Monday through Friday.
URL:https://westoverepiscopalchurch.org/event/meals-on-wheels/2027-09-03/
END:VEVENT
BEGIN:VEVENT
DTSTART;TZID=America/New_York:20270906T090000
DTEND;TZID=America/New_York:20270906T110000
DTSTAMP:20260425T112241
CREATED:20230113T145846Z
LAST-MODIFIED:20230113T145846Z
UID:10003531-1820221200-1820228400@westoverepiscopalchurch.org
SUMMARY:Meals on Wheels
DESCRIPTION:Meals On Wheels (MOW) serves hot\, nutritious meals to the homebound elderly and/or disabled Monday through Friday.
URL:https://westoverepiscopalchurch.org/event/meals-on-wheels/2027-09-06/
END:VEVENT
BEGIN:VEVENT
DTSTART;TZID=America/New_York:20270907T090000
DTEND;TZID=America/New_York:20270907T110000
DTSTAMP:20260425T112241
CREATED:20230113T145846Z
LAST-MODIFIED:20230113T145846Z
UID:10003532-1820307600-1820314800@westoverepiscopalchurch.org
SUMMARY:Meals on Wheels
DESCRIPTION:Meals On Wheels (MOW) serves hot\, nutritious meals to the homebound elderly and/or disabled Monday through Friday.
URL:https://westoverepiscopalchurch.org/event/meals-on-wheels/2027-09-07/
END:VEVENT
BEGIN:VEVENT
DTSTART;TZID=America/New_York:20270908T090000
DTEND;TZID=America/New_York:20270908T110000
DTSTAMP:20260425T112241
CREATED:20230113T145846Z
LAST-MODIFIED:20230113T145846Z
UID:10003533-1820394000-1820401200@westoverepiscopalchurch.org
SUMMARY:Meals on Wheels
DESCRIPTION:Meals On Wheels (MOW) serves hot\, nutritious meals to the homebound elderly and/or disabled Monday through Friday.
URL:https://westoverepiscopalchurch.org/event/meals-on-wheels/2027-09-08/
END:VEVENT
BEGIN:VEVENT
DTSTART;TZID=America/New_York:20270909T090000
DTEND;TZID=America/New_York:20270909T110000
DTSTAMP:20260425T112241
CREATED:20230113T145846Z
LAST-MODIFIED:20230113T145846Z
UID:10003534-1820480400-1820487600@westoverepiscopalchurch.org
SUMMARY:Meals on Wheels
DESCRIPTION:Meals On Wheels (MOW) serves hot\, nutritious meals to the homebound elderly and/or disabled Monday through Friday.
URL:https://westoverepiscopalchurch.org/event/meals-on-wheels/2027-09-09/
END:VEVENT
BEGIN:VEVENT
DTSTART;TZID=America/New_York:20270910T090000
DTEND;TZID=America/New_York:20270910T110000
DTSTAMP:20260425T112241
CREATED:20230113T145846Z
LAST-MODIFIED:20230113T145846Z
UID:10003535-1820566800-1820574000@westoverepiscopalchurch.org
SUMMARY:Meals on Wheels
DESCRIPTION:Meals On Wheels (MOW) serves hot\, nutritious meals to the homebound elderly and/or disabled Monday through Friday.
URL:https://westoverepiscopalchurch.org/event/meals-on-wheels/2027-09-10/
END:VEVENT
BEGIN:VEVENT
DTSTART;TZID=America/New_York:20270913T090000
DTEND;TZID=America/New_York:20270913T110000
DTSTAMP:20260425T112241
CREATED:20230113T145846Z
LAST-MODIFIED:20230113T145846Z
UID:10003536-1820826000-1820833200@westoverepiscopalchurch.org
SUMMARY:Meals on Wheels
DESCRIPTION:Meals On Wheels (MOW) serves hot\, nutritious meals to the homebound elderly and/or disabled Monday through Friday.
URL:https://westoverepiscopalchurch.org/event/meals-on-wheels/2027-09-13/
END:VEVENT
BEGIN:VEVENT
DTSTART;TZID=America/New_York:20270914T090000
DTEND;TZID=America/New_York:20270914T110000
DTSTAMP:20260425T112241
CREATED:20230113T145846Z
LAST-MODIFIED:20230113T145846Z
UID:10003537-1820912400-1820919600@westoverepiscopalchurch.org
SUMMARY:Meals on Wheels
DESCRIPTION:Meals On Wheels (MOW) serves hot\, nutritious meals to the homebound elderly and/or disabled Monday through Friday.
URL:https://westoverepiscopalchurch.org/event/meals-on-wheels/2027-09-14/
END:VEVENT
BEGIN:VEVENT
DTSTART;TZID=America/New_York:20270915T090000
DTEND;TZID=America/New_York:20270915T110000
DTSTAMP:20260425T112241
CREATED:20230113T145846Z
LAST-MODIFIED:20230113T145846Z
UID:10003538-1820998800-1821006000@westoverepiscopalchurch.org
SUMMARY:Meals on Wheels
DESCRIPTION:Meals On Wheels (MOW) serves hot\, nutritious meals to the homebound elderly and/or disabled Monday through Friday.
URL:https://westoverepiscopalchurch.org/event/meals-on-wheels/2027-09-15/
END:VEVENT
BEGIN:VEVENT
DTSTART;TZID=America/New_York:20270916T090000
DTEND;TZID=America/New_York:20270916T110000
DTSTAMP:20260425T112241
CREATED:20230113T145846Z
LAST-MODIFIED:20230113T145846Z
UID:10003539-1821085200-1821092400@westoverepiscopalchurch.org
SUMMARY:Meals on Wheels
DESCRIPTION:Meals On Wheels (MOW) serves hot\, nutritious meals to the homebound elderly and/or disabled Monday through Friday.
URL:https://westoverepiscopalchurch.org/event/meals-on-wheels/2027-09-16/
END:VEVENT
BEGIN:VEVENT
DTSTART;TZID=America/New_York:20270917T090000
DTEND;TZID=America/New_York:20270917T110000
DTSTAMP:20260425T112241
CREATED:20230113T145846Z
LAST-MODIFIED:20230113T145846Z
UID:10003540-1821171600-1821178800@westoverepiscopalchurch.org
SUMMARY:Meals on Wheels
DESCRIPTION:Meals On Wheels (MOW) serves hot\, nutritious meals to the homebound elderly and/or disabled Monday through Friday.
URL:https://westoverepiscopalchurch.org/event/meals-on-wheels/2027-09-17/
END:VEVENT
END:VCALENDAR