BEGIN:VCALENDAR
VERSION:2.0
PRODID:-//Westover Episcopal Church - Charles City, VA - ECPv6.15.20//NONSGML v1.0//EN
CALSCALE:GREGORIAN
METHOD:PUBLISH
X-WR-CALNAME:Westover Episcopal Church - Charles City, VA
X-ORIGINAL-URL:https://westoverepiscopalchurch.org
X-WR-CALDESC:Events for Westover Episcopal Church - Charles City, VA
REFRESH-INTERVAL;VALUE=DURATION:PT1H
X-Robots-Tag:noindex
X-PUBLISHED-TTL:PT1H
BEGIN:VTIMEZONE
TZID:America/New_York
BEGIN:DAYLIGHT
TZOFFSETFROM:-0500
TZOFFSETTO:-0400
TZNAME:EDT
DTSTART:20260308T070000
END:DAYLIGHT
BEGIN:STANDARD
TZOFFSETFROM:-0400
TZOFFSETTO:-0500
TZNAME:EST
DTSTART:20261101T060000
END:STANDARD
BEGIN:DAYLIGHT
TZOFFSETFROM:-0500
TZOFFSETTO:-0400
TZNAME:EDT
DTSTART:20270314T070000
END:DAYLIGHT
BEGIN:STANDARD
TZOFFSETFROM:-0400
TZOFFSETTO:-0500
TZNAME:EST
DTSTART:20271107T060000
END:STANDARD
BEGIN:DAYLIGHT
TZOFFSETFROM:-0500
TZOFFSETTO:-0400
TZNAME:EDT
DTSTART:20280312T070000
END:DAYLIGHT
BEGIN:STANDARD
TZOFFSETFROM:-0400
TZOFFSETTO:-0500
TZNAME:EST
DTSTART:20281105T060000
END:STANDARD
BEGIN:DAYLIGHT
TZOFFSETFROM:-0500
TZOFFSETTO:-0400
TZNAME:EDT
DTSTART:20290311T070000
END:DAYLIGHT
BEGIN:STANDARD
TZOFFSETFROM:-0400
TZOFFSETTO:-0500
TZNAME:EST
DTSTART:20291104T060000
END:STANDARD
END:VTIMEZONE
BEGIN:VEVENT
DTSTART;TZID=America/New_York:20271215T090000
DTEND;TZID=America/New_York:20271215T110000
DTSTAMP:20260425T095007
CREATED:20230113T145846Z
LAST-MODIFIED:20230113T145846Z
UID:10003603-1828861200-1828868400@westoverepiscopalchurch.org
SUMMARY:Meals on Wheels
DESCRIPTION:Meals On Wheels (MOW) serves hot\, nutritious meals to the homebound elderly and/or disabled Monday through Friday.
URL:https://westoverepiscopalchurch.org/event/meals-on-wheels/2027-12-15/
END:VEVENT
BEGIN:VEVENT
DTSTART;TZID=America/New_York:20271216T090000
DTEND;TZID=America/New_York:20271216T110000
DTSTAMP:20260425T095007
CREATED:20230113T145846Z
LAST-MODIFIED:20230113T145846Z
UID:10003604-1828947600-1828954800@westoverepiscopalchurch.org
SUMMARY:Meals on Wheels
DESCRIPTION:Meals On Wheels (MOW) serves hot\, nutritious meals to the homebound elderly and/or disabled Monday through Friday.
URL:https://westoverepiscopalchurch.org/event/meals-on-wheels/2027-12-16/
END:VEVENT
BEGIN:VEVENT
DTSTART;TZID=America/New_York:20271217T090000
DTEND;TZID=America/New_York:20271217T110000
DTSTAMP:20260425T095007
CREATED:20230113T145846Z
LAST-MODIFIED:20230113T145846Z
UID:10003605-1829034000-1829041200@westoverepiscopalchurch.org
SUMMARY:Meals on Wheels
DESCRIPTION:Meals On Wheels (MOW) serves hot\, nutritious meals to the homebound elderly and/or disabled Monday through Friday.
URL:https://westoverepiscopalchurch.org/event/meals-on-wheels/2027-12-17/
END:VEVENT
BEGIN:VEVENT
DTSTART;TZID=America/New_York:20271220T090000
DTEND;TZID=America/New_York:20271220T110000
DTSTAMP:20260425T095007
CREATED:20230113T145846Z
LAST-MODIFIED:20230113T145846Z
UID:10003606-1829293200-1829300400@westoverepiscopalchurch.org
SUMMARY:Meals on Wheels
DESCRIPTION:Meals On Wheels (MOW) serves hot\, nutritious meals to the homebound elderly and/or disabled Monday through Friday.
URL:https://westoverepiscopalchurch.org/event/meals-on-wheels/2027-12-20/
END:VEVENT
BEGIN:VEVENT
DTSTART;TZID=America/New_York:20271221T090000
DTEND;TZID=America/New_York:20271221T110000
DTSTAMP:20260425T095007
CREATED:20230113T145846Z
LAST-MODIFIED:20230113T145846Z
UID:10003607-1829379600-1829386800@westoverepiscopalchurch.org
SUMMARY:Meals on Wheels
DESCRIPTION:Meals On Wheels (MOW) serves hot\, nutritious meals to the homebound elderly and/or disabled Monday through Friday.
URL:https://westoverepiscopalchurch.org/event/meals-on-wheels/2027-12-21/
END:VEVENT
BEGIN:VEVENT
DTSTART;TZID=America/New_York:20271222T090000
DTEND;TZID=America/New_York:20271222T110000
DTSTAMP:20260425T095007
CREATED:20230113T145846Z
LAST-MODIFIED:20230113T145846Z
UID:10003608-1829466000-1829473200@westoverepiscopalchurch.org
SUMMARY:Meals on Wheels
DESCRIPTION:Meals On Wheels (MOW) serves hot\, nutritious meals to the homebound elderly and/or disabled Monday through Friday.
URL:https://westoverepiscopalchurch.org/event/meals-on-wheels/2027-12-22/
END:VEVENT
BEGIN:VEVENT
DTSTART;TZID=America/New_York:20271223T090000
DTEND;TZID=America/New_York:20271223T110000
DTSTAMP:20260425T095007
CREATED:20230113T145846Z
LAST-MODIFIED:20230113T145846Z
UID:10003609-1829552400-1829559600@westoverepiscopalchurch.org
SUMMARY:Meals on Wheels
DESCRIPTION:Meals On Wheels (MOW) serves hot\, nutritious meals to the homebound elderly and/or disabled Monday through Friday.
URL:https://westoverepiscopalchurch.org/event/meals-on-wheels/2027-12-23/
END:VEVENT
BEGIN:VEVENT
DTSTART;TZID=America/New_York:20271224T090000
DTEND;TZID=America/New_York:20271224T110000
DTSTAMP:20260425T095007
CREATED:20230113T145846Z
LAST-MODIFIED:20230113T145846Z
UID:10003610-1829638800-1829646000@westoverepiscopalchurch.org
SUMMARY:Meals on Wheels
DESCRIPTION:Meals On Wheels (MOW) serves hot\, nutritious meals to the homebound elderly and/or disabled Monday through Friday.
URL:https://westoverepiscopalchurch.org/event/meals-on-wheels/2027-12-24/
END:VEVENT
BEGIN:VEVENT
DTSTART;TZID=America/New_York:20271227T090000
DTEND;TZID=America/New_York:20271227T110000
DTSTAMP:20260425T095007
CREATED:20230113T145846Z
LAST-MODIFIED:20230113T145846Z
UID:10003611-1829898000-1829905200@westoverepiscopalchurch.org
SUMMARY:Meals on Wheels
DESCRIPTION:Meals On Wheels (MOW) serves hot\, nutritious meals to the homebound elderly and/or disabled Monday through Friday.
URL:https://westoverepiscopalchurch.org/event/meals-on-wheels/2027-12-27/
END:VEVENT
BEGIN:VEVENT
DTSTART;TZID=America/New_York:20271228T090000
DTEND;TZID=America/New_York:20271228T110000
DTSTAMP:20260425T095007
CREATED:20230113T145846Z
LAST-MODIFIED:20230113T145846Z
UID:10003612-1829984400-1829991600@westoverepiscopalchurch.org
SUMMARY:Meals on Wheels
DESCRIPTION:Meals On Wheels (MOW) serves hot\, nutritious meals to the homebound elderly and/or disabled Monday through Friday.
URL:https://westoverepiscopalchurch.org/event/meals-on-wheels/2027-12-28/
END:VEVENT
BEGIN:VEVENT
DTSTART;TZID=America/New_York:20271229T090000
DTEND;TZID=America/New_York:20271229T110000
DTSTAMP:20260425T095007
CREATED:20230113T145846Z
LAST-MODIFIED:20230113T145846Z
UID:10003613-1830070800-1830078000@westoverepiscopalchurch.org
SUMMARY:Meals on Wheels
DESCRIPTION:Meals On Wheels (MOW) serves hot\, nutritious meals to the homebound elderly and/or disabled Monday through Friday.
URL:https://westoverepiscopalchurch.org/event/meals-on-wheels/2027-12-29/
END:VEVENT
BEGIN:VEVENT
DTSTART;TZID=America/New_York:20271230T090000
DTEND;TZID=America/New_York:20271230T110000
DTSTAMP:20260425T095007
CREATED:20230113T145846Z
LAST-MODIFIED:20230113T145846Z
UID:10003614-1830157200-1830164400@westoverepiscopalchurch.org
SUMMARY:Meals on Wheels
DESCRIPTION:Meals On Wheels (MOW) serves hot\, nutritious meals to the homebound elderly and/or disabled Monday through Friday.
URL:https://westoverepiscopalchurch.org/event/meals-on-wheels/2027-12-30/
END:VEVENT
BEGIN:VEVENT
DTSTART;TZID=America/New_York:20271231T090000
DTEND;TZID=America/New_York:20271231T110000
DTSTAMP:20260425T095007
CREATED:20230113T145846Z
LAST-MODIFIED:20230113T145846Z
UID:10003615-1830243600-1830250800@westoverepiscopalchurch.org
SUMMARY:Meals on Wheels
DESCRIPTION:Meals On Wheels (MOW) serves hot\, nutritious meals to the homebound elderly and/or disabled Monday through Friday.
URL:https://westoverepiscopalchurch.org/event/meals-on-wheels/2027-12-31/
END:VEVENT
BEGIN:VEVENT
DTSTART;TZID=America/New_York:20280103T090000
DTEND;TZID=America/New_York:20280103T110000
DTSTAMP:20260425T095007
CREATED:20230113T145846Z
LAST-MODIFIED:20230113T145846Z
UID:10003616-1830502800-1830510000@westoverepiscopalchurch.org
SUMMARY:Meals on Wheels
DESCRIPTION:Meals On Wheels (MOW) serves hot\, nutritious meals to the homebound elderly and/or disabled Monday through Friday.
URL:https://westoverepiscopalchurch.org/event/meals-on-wheels/2028-01-03/
END:VEVENT
BEGIN:VEVENT
DTSTART;TZID=America/New_York:20280104T090000
DTEND;TZID=America/New_York:20280104T110000
DTSTAMP:20260425T095007
CREATED:20230113T145846Z
LAST-MODIFIED:20230113T145846Z
UID:10003617-1830589200-1830596400@westoverepiscopalchurch.org
SUMMARY:Meals on Wheels
DESCRIPTION:Meals On Wheels (MOW) serves hot\, nutritious meals to the homebound elderly and/or disabled Monday through Friday.
URL:https://westoverepiscopalchurch.org/event/meals-on-wheels/2028-01-04/
END:VEVENT
BEGIN:VEVENT
DTSTART;TZID=America/New_York:20280105T090000
DTEND;TZID=America/New_York:20280105T110000
DTSTAMP:20260425T095007
CREATED:20230113T145846Z
LAST-MODIFIED:20230113T145846Z
UID:10003618-1830675600-1830682800@westoverepiscopalchurch.org
SUMMARY:Meals on Wheels
DESCRIPTION:Meals On Wheels (MOW) serves hot\, nutritious meals to the homebound elderly and/or disabled Monday through Friday.
URL:https://westoverepiscopalchurch.org/event/meals-on-wheels/2028-01-05/
END:VEVENT
BEGIN:VEVENT
DTSTART;TZID=America/New_York:20280106T090000
DTEND;TZID=America/New_York:20280106T110000
DTSTAMP:20260425T095007
CREATED:20230113T145846Z
LAST-MODIFIED:20230113T145846Z
UID:10003619-1830762000-1830769200@westoverepiscopalchurch.org
SUMMARY:Meals on Wheels
DESCRIPTION:Meals On Wheels (MOW) serves hot\, nutritious meals to the homebound elderly and/or disabled Monday through Friday.
URL:https://westoverepiscopalchurch.org/event/meals-on-wheels/2028-01-06/
END:VEVENT
BEGIN:VEVENT
DTSTART;TZID=America/New_York:20280107T090000
DTEND;TZID=America/New_York:20280107T110000
DTSTAMP:20260425T095007
CREATED:20230113T145846Z
LAST-MODIFIED:20230113T145846Z
UID:10003620-1830848400-1830855600@westoverepiscopalchurch.org
SUMMARY:Meals on Wheels
DESCRIPTION:Meals On Wheels (MOW) serves hot\, nutritious meals to the homebound elderly and/or disabled Monday through Friday.
URL:https://westoverepiscopalchurch.org/event/meals-on-wheels/2028-01-07/
END:VEVENT
BEGIN:VEVENT
DTSTART;TZID=America/New_York:20280110T090000
DTEND;TZID=America/New_York:20280110T110000
DTSTAMP:20260425T095007
CREATED:20230113T145846Z
LAST-MODIFIED:20230113T145846Z
UID:10003621-1831107600-1831114800@westoverepiscopalchurch.org
SUMMARY:Meals on Wheels
DESCRIPTION:Meals On Wheels (MOW) serves hot\, nutritious meals to the homebound elderly and/or disabled Monday through Friday.
URL:https://westoverepiscopalchurch.org/event/meals-on-wheels/2028-01-10/
END:VEVENT
BEGIN:VEVENT
DTSTART;TZID=America/New_York:20280111T090000
DTEND;TZID=America/New_York:20280111T110000
DTSTAMP:20260425T095007
CREATED:20230113T145846Z
LAST-MODIFIED:20230113T145846Z
UID:10003622-1831194000-1831201200@westoverepiscopalchurch.org
SUMMARY:Meals on Wheels
DESCRIPTION:Meals On Wheels (MOW) serves hot\, nutritious meals to the homebound elderly and/or disabled Monday through Friday.
URL:https://westoverepiscopalchurch.org/event/meals-on-wheels/2028-01-11/
END:VEVENT
BEGIN:VEVENT
DTSTART;TZID=America/New_York:20280112T090000
DTEND;TZID=America/New_York:20280112T110000
DTSTAMP:20260425T095007
CREATED:20230113T145846Z
LAST-MODIFIED:20230113T145846Z
UID:10003623-1831280400-1831287600@westoverepiscopalchurch.org
SUMMARY:Meals on Wheels
DESCRIPTION:Meals On Wheels (MOW) serves hot\, nutritious meals to the homebound elderly and/or disabled Monday through Friday.
URL:https://westoverepiscopalchurch.org/event/meals-on-wheels/2028-01-12/
END:VEVENT
BEGIN:VEVENT
DTSTART;TZID=America/New_York:20280113T090000
DTEND;TZID=America/New_York:20280113T110000
DTSTAMP:20260425T095007
CREATED:20230113T145846Z
LAST-MODIFIED:20230113T145846Z
UID:10003624-1831366800-1831374000@westoverepiscopalchurch.org
SUMMARY:Meals on Wheels
DESCRIPTION:Meals On Wheels (MOW) serves hot\, nutritious meals to the homebound elderly and/or disabled Monday through Friday.
URL:https://westoverepiscopalchurch.org/event/meals-on-wheels/2028-01-13/
END:VEVENT
BEGIN:VEVENT
DTSTART;TZID=America/New_York:20280114T090000
DTEND;TZID=America/New_York:20280114T110000
DTSTAMP:20260425T095007
CREATED:20230113T145846Z
LAST-MODIFIED:20230113T145846Z
UID:10003625-1831453200-1831460400@westoverepiscopalchurch.org
SUMMARY:Meals on Wheels
DESCRIPTION:Meals On Wheels (MOW) serves hot\, nutritious meals to the homebound elderly and/or disabled Monday through Friday.
URL:https://westoverepiscopalchurch.org/event/meals-on-wheels/2028-01-14/
END:VEVENT
BEGIN:VEVENT
DTSTART;TZID=America/New_York:20280117T090000
DTEND;TZID=America/New_York:20280117T110000
DTSTAMP:20260425T095007
CREATED:20230113T145846Z
LAST-MODIFIED:20230113T145846Z
UID:10003626-1831712400-1831719600@westoverepiscopalchurch.org
SUMMARY:Meals on Wheels
DESCRIPTION:Meals On Wheels (MOW) serves hot\, nutritious meals to the homebound elderly and/or disabled Monday through Friday.
URL:https://westoverepiscopalchurch.org/event/meals-on-wheels/2028-01-17/
END:VEVENT
BEGIN:VEVENT
DTSTART;TZID=America/New_York:20280118T090000
DTEND;TZID=America/New_York:20280118T110000
DTSTAMP:20260425T095007
CREATED:20230113T145846Z
LAST-MODIFIED:20230113T145846Z
UID:10003627-1831798800-1831806000@westoverepiscopalchurch.org
SUMMARY:Meals on Wheels
DESCRIPTION:Meals On Wheels (MOW) serves hot\, nutritious meals to the homebound elderly and/or disabled Monday through Friday.
URL:https://westoverepiscopalchurch.org/event/meals-on-wheels/2028-01-18/
END:VEVENT
BEGIN:VEVENT
DTSTART;TZID=America/New_York:20280119T090000
DTEND;TZID=America/New_York:20280119T110000
DTSTAMP:20260425T095007
CREATED:20230113T145846Z
LAST-MODIFIED:20230113T145846Z
UID:10003628-1831885200-1831892400@westoverepiscopalchurch.org
SUMMARY:Meals on Wheels
DESCRIPTION:Meals On Wheels (MOW) serves hot\, nutritious meals to the homebound elderly and/or disabled Monday through Friday.
URL:https://westoverepiscopalchurch.org/event/meals-on-wheels/2028-01-19/
END:VEVENT
BEGIN:VEVENT
DTSTART;TZID=America/New_York:20280120T090000
DTEND;TZID=America/New_York:20280120T110000
DTSTAMP:20260425T095007
CREATED:20230113T145846Z
LAST-MODIFIED:20230113T145846Z
UID:10003629-1831971600-1831978800@westoverepiscopalchurch.org
SUMMARY:Meals on Wheels
DESCRIPTION:Meals On Wheels (MOW) serves hot\, nutritious meals to the homebound elderly and/or disabled Monday through Friday.
URL:https://westoverepiscopalchurch.org/event/meals-on-wheels/2028-01-20/
END:VEVENT
BEGIN:VEVENT
DTSTART;TZID=America/New_York:20280121T090000
DTEND;TZID=America/New_York:20280121T110000
DTSTAMP:20260425T095007
CREATED:20230113T145846Z
LAST-MODIFIED:20230113T145846Z
UID:10003630-1832058000-1832065200@westoverepiscopalchurch.org
SUMMARY:Meals on Wheels
DESCRIPTION:Meals On Wheels (MOW) serves hot\, nutritious meals to the homebound elderly and/or disabled Monday through Friday.
URL:https://westoverepiscopalchurch.org/event/meals-on-wheels/2028-01-21/
END:VEVENT
BEGIN:VEVENT
DTSTART;TZID=America/New_York:20280124T090000
DTEND;TZID=America/New_York:20280124T110000
DTSTAMP:20260425T095008
CREATED:20230113T145846Z
LAST-MODIFIED:20230113T145846Z
UID:10003631-1832317200-1832324400@westoverepiscopalchurch.org
SUMMARY:Meals on Wheels
DESCRIPTION:Meals On Wheels (MOW) serves hot\, nutritious meals to the homebound elderly and/or disabled Monday through Friday.
URL:https://westoverepiscopalchurch.org/event/meals-on-wheels/2028-01-24/
END:VEVENT
BEGIN:VEVENT
DTSTART;TZID=America/New_York:20280125T090000
DTEND;TZID=America/New_York:20280125T110000
DTSTAMP:20260425T095008
CREATED:20230113T145846Z
LAST-MODIFIED:20230113T145846Z
UID:10003632-1832403600-1832410800@westoverepiscopalchurch.org
SUMMARY:Meals on Wheels
DESCRIPTION:Meals On Wheels (MOW) serves hot\, nutritious meals to the homebound elderly and/or disabled Monday through Friday.
URL:https://westoverepiscopalchurch.org/event/meals-on-wheels/2028-01-25/
END:VEVENT
END:VCALENDAR