BEGIN:VCALENDAR
VERSION:2.0
PRODID:-//Westover Episcopal Church - Charles City, VA - ECPv6.15.20//NONSGML v1.0//EN
CALSCALE:GREGORIAN
METHOD:PUBLISH
X-WR-CALNAME:Westover Episcopal Church - Charles City, VA
X-ORIGINAL-URL:https://westoverepiscopalchurch.org
X-WR-CALDESC:Events for Westover Episcopal Church - Charles City, VA
REFRESH-INTERVAL;VALUE=DURATION:PT1H
X-Robots-Tag:noindex
X-PUBLISHED-TTL:PT1H
BEGIN:VTIMEZONE
TZID:America/New_York
BEGIN:DAYLIGHT
TZOFFSETFROM:-0500
TZOFFSETTO:-0400
TZNAME:EDT
DTSTART:20220313T070000
END:DAYLIGHT
BEGIN:STANDARD
TZOFFSETFROM:-0400
TZOFFSETTO:-0500
TZNAME:EST
DTSTART:20221106T060000
END:STANDARD
BEGIN:DAYLIGHT
TZOFFSETFROM:-0500
TZOFFSETTO:-0400
TZNAME:EDT
DTSTART:20230312T070000
END:DAYLIGHT
BEGIN:STANDARD
TZOFFSETFROM:-0400
TZOFFSETTO:-0500
TZNAME:EST
DTSTART:20231105T060000
END:STANDARD
BEGIN:DAYLIGHT
TZOFFSETFROM:-0500
TZOFFSETTO:-0400
TZNAME:EDT
DTSTART:20240310T070000
END:DAYLIGHT
BEGIN:STANDARD
TZOFFSETFROM:-0400
TZOFFSETTO:-0500
TZNAME:EST
DTSTART:20241103T060000
END:STANDARD
END:VTIMEZONE
BEGIN:VEVENT
DTSTART;TZID=America/New_York:20231129T090000
DTEND;TZID=America/New_York:20231129T110000
DTSTAMP:20260425T124845
CREATED:20230113T145846Z
LAST-MODIFIED:20230113T145846Z
UID:10000956-1701248400-1701255600@westoverepiscopalchurch.org
SUMMARY:Meals on Wheels
DESCRIPTION:Meals On Wheels (MOW) serves hot\, nutritious meals to the homebound elderly and/or disabled Monday through Friday.
URL:https://westoverepiscopalchurch.org/event/meals-on-wheels/2023-11-29/
END:VEVENT
BEGIN:VEVENT
DTSTART;TZID=America/New_York:20231128T130000
DTEND;TZID=America/New_York:20231128T143000
DTSTAMP:20260425T124845
CREATED:20231125T223651Z
LAST-MODIFIED:20231125T224559Z
UID:10001175-1701176400-1701181800@westoverepiscopalchurch.org
SUMMARY:Advent Book Study
DESCRIPTION:Our Advent Book Study will begin on Tuesday\, November 28th\, and we will meet from 1pm to 2:30pm in the Parish Hall.  On Tuesdays November 28th\, December 5th\, December 12th\, and December 19th we will read and discuss Rowan Williams’ Being Christian: Baptism\, Bible\, Eucharist\, Prayer.  This little gem of a book gets right to the heart of the Christian experience in four theologically profound chapters.  Rowan Williams served as the 104th Archbishop of Canterbury from 2002 to 2012 and continues to serve the Church through teaching and writing.
URL:https://westoverepiscopalchurch.org/event/advent-book-study/
LOCATION:Westover Episcopal Church\, 6401 John Tyler Hwy.\, Charles City\, VA\, 23030\, United States
END:VEVENT
BEGIN:VEVENT
DTSTART;TZID=America/New_York:20231128T090000
DTEND;TZID=America/New_York:20231128T110000
DTSTAMP:20260425T124845
CREATED:20230113T145846Z
LAST-MODIFIED:20230113T145846Z
UID:10000955-1701162000-1701169200@westoverepiscopalchurch.org
SUMMARY:Meals on Wheels
DESCRIPTION:Meals On Wheels (MOW) serves hot\, nutritious meals to the homebound elderly and/or disabled Monday through Friday.
URL:https://westoverepiscopalchurch.org/event/meals-on-wheels/2023-11-28/
END:VEVENT
BEGIN:VEVENT
DTSTART;TZID=America/New_York:20231127T090000
DTEND;TZID=America/New_York:20231127T110000
DTSTAMP:20260425T124845
CREATED:20230113T145846Z
LAST-MODIFIED:20230113T145846Z
UID:10000954-1701075600-1701082800@westoverepiscopalchurch.org
SUMMARY:Meals on Wheels
DESCRIPTION:Meals On Wheels (MOW) serves hot\, nutritious meals to the homebound elderly and/or disabled Monday through Friday.
URL:https://westoverepiscopalchurch.org/event/meals-on-wheels/2023-11-27/
END:VEVENT
BEGIN:VEVENT
DTSTART;TZID=America/New_York:20231126T173000
DTEND;TZID=America/New_York:20231126T190000
DTSTAMP:20260425T124845
CREATED:20230925T204741Z
LAST-MODIFIED:20231030T140424Z
UID:10001169-1701019800-1701025200@westoverepiscopalchurch.org
SUMMARY:Candlelight Celtic Service at 5:30PM
DESCRIPTION:There will be a Potluck dinner following the service. \nThere is NO 10:00AM service today.
URL:https://westoverepiscopalchurch.org/event/last-sunday-after-pentecost-christ-the-king-service-2/
END:VEVENT
BEGIN:VEVENT
DTSTART;TZID=America/New_York:20231124T090000
DTEND;TZID=America/New_York:20231124T110000
DTSTAMP:20260425T124845
CREATED:20230113T145846Z
LAST-MODIFIED:20230113T145846Z
UID:10000953-1700816400-1700823600@westoverepiscopalchurch.org
SUMMARY:Meals on Wheels
DESCRIPTION:Meals On Wheels (MOW) serves hot\, nutritious meals to the homebound elderly and/or disabled Monday through Friday.
URL:https://westoverepiscopalchurch.org/event/meals-on-wheels/2023-11-24/
END:VEVENT
BEGIN:VEVENT
DTSTART;TZID=America/New_York:20231123T100000
DTEND;TZID=America/New_York:20231123T110000
DTSTAMP:20260425T124845
CREATED:20230712T204456Z
LAST-MODIFIED:20230712T204456Z
UID:10001106-1700733600-1700737200@westoverepiscopalchurch.org
SUMMARY:Gentle Yoga with Rev. Becky
DESCRIPTION:
URL:https://westoverepiscopalchurch.org/event/gentle-yoga-with-rev-becky-3/2023-11-23/
END:VEVENT
BEGIN:VEVENT
DTSTART;TZID=America/New_York:20231123T090000
DTEND;TZID=America/New_York:20231123T110000
DTSTAMP:20260425T124845
CREATED:20230113T145846Z
LAST-MODIFIED:20230113T145846Z
UID:10000952-1700730000-1700737200@westoverepiscopalchurch.org
SUMMARY:Meals on Wheels
DESCRIPTION:Meals On Wheels (MOW) serves hot\, nutritious meals to the homebound elderly and/or disabled Monday through Friday.
URL:https://westoverepiscopalchurch.org/event/meals-on-wheels/2023-11-23/
END:VEVENT
BEGIN:VEVENT
DTSTART;TZID=America/New_York:20231123T083000
DTEND;TZID=America/New_York:20231123T100000
DTSTAMP:20260425T124845
CREATED:20230925T204246Z
LAST-MODIFIED:20230925T204246Z
UID:10001166-1700728200-1700733600@westoverepiscopalchurch.org
SUMMARY:No Gentle Yoga Today
DESCRIPTION:
URL:https://westoverepiscopalchurch.org/event/no-gentle-yoga-today/
LOCATION:Westover Episcopal Church\, 6401 John Tyler Hwy.\, Charles City\, VA\, 23030\, United States
END:VEVENT
BEGIN:VEVENT
DTSTART;TZID=America/New_York:20231122T090000
DTEND;TZID=America/New_York:20231122T110000
DTSTAMP:20260425T124845
CREATED:20230113T145846Z
LAST-MODIFIED:20230113T145846Z
UID:10000951-1700643600-1700650800@westoverepiscopalchurch.org
SUMMARY:Meals on Wheels
DESCRIPTION:Meals On Wheels (MOW) serves hot\, nutritious meals to the homebound elderly and/or disabled Monday through Friday.
URL:https://westoverepiscopalchurch.org/event/meals-on-wheels/2023-11-22/
END:VEVENT
BEGIN:VEVENT
DTSTART;TZID=America/New_York:20231121T090000
DTEND;TZID=America/New_York:20231121T110000
DTSTAMP:20260425T124845
CREATED:20230113T145846Z
LAST-MODIFIED:20230113T145846Z
UID:10000950-1700557200-1700564400@westoverepiscopalchurch.org
SUMMARY:Meals on Wheels
DESCRIPTION:Meals On Wheels (MOW) serves hot\, nutritious meals to the homebound elderly and/or disabled Monday through Friday.
URL:https://westoverepiscopalchurch.org/event/meals-on-wheels/2023-11-21/
END:VEVENT
BEGIN:VEVENT
DTSTART;TZID=America/New_York:20231120T090000
DTEND;TZID=America/New_York:20231120T110000
DTSTAMP:20260425T124845
CREATED:20230113T145846Z
LAST-MODIFIED:20230113T145846Z
UID:10000949-1700470800-1700478000@westoverepiscopalchurch.org
SUMMARY:Meals on Wheels
DESCRIPTION:Meals On Wheels (MOW) serves hot\, nutritious meals to the homebound elderly and/or disabled Monday through Friday.
URL:https://westoverepiscopalchurch.org/event/meals-on-wheels/2023-11-20/
END:VEVENT
BEGIN:VEVENT
DTSTART;TZID=America/New_York:20231119T110000
DTEND;TZID=America/New_York:20231119T120000
DTSTAMP:20260425T124845
CREATED:20230925T204525Z
LAST-MODIFIED:20230925T204525Z
UID:10001168-1700391600-1700395200@westoverepiscopalchurch.org
SUMMARY:Annual Congregational Meeting
DESCRIPTION:
URL:https://westoverepiscopalchurch.org/event/annual-congregational-meeting/
LOCATION:Westover Episcopal Church\, 6401 John Tyler Hwy.\, Charles City\, VA\, 23030\, United States
END:VEVENT
BEGIN:VEVENT
DTSTART;TZID=America/New_York:20231119T100000
DTEND;TZID=America/New_York:20231119T110000
DTSTAMP:20260425T124845
CREATED:20230925T204439Z
LAST-MODIFIED:20230925T204647Z
UID:10001167-1700388000-1700391600@westoverepiscopalchurch.org
SUMMARY:Twenty-Fifth Sunday after Pentecost and Thanksgiving Service
DESCRIPTION:
URL:https://westoverepiscopalchurch.org/event/twenty-third-sunday-after-pentecost-and-thanksgiving-service/
LOCATION:Westover Episcopal Church\, 6401 John Tyler Hwy.\, Charles City\, VA\, 23030\, United States
END:VEVENT
BEGIN:VEVENT
DTSTART;TZID=America/New_York:20231117T090000
DTEND;TZID=America/New_York:20231117T110000
DTSTAMP:20260425T124845
CREATED:20230113T145846Z
LAST-MODIFIED:20230113T145846Z
UID:10000948-1700211600-1700218800@westoverepiscopalchurch.org
SUMMARY:Meals on Wheels
DESCRIPTION:Meals On Wheels (MOW) serves hot\, nutritious meals to the homebound elderly and/or disabled Monday through Friday.
URL:https://westoverepiscopalchurch.org/event/meals-on-wheels/2023-11-17/
END:VEVENT
BEGIN:VEVENT
DTSTART;TZID=America/New_York:20231116T100000
DTEND;TZID=America/New_York:20231116T110000
DTSTAMP:20260425T124845
CREATED:20230712T204456Z
LAST-MODIFIED:20230712T204456Z
UID:10001105-1700128800-1700132400@westoverepiscopalchurch.org
SUMMARY:Gentle Yoga with Rev. Becky
DESCRIPTION:
URL:https://westoverepiscopalchurch.org/event/gentle-yoga-with-rev-becky-3/2023-11-16/
END:VEVENT
BEGIN:VEVENT
DTSTART;TZID=America/New_York:20231116T090000
DTEND;TZID=America/New_York:20231116T110000
DTSTAMP:20260425T124845
CREATED:20230113T145846Z
LAST-MODIFIED:20230113T145846Z
UID:10000947-1700125200-1700132400@westoverepiscopalchurch.org
SUMMARY:Meals on Wheels
DESCRIPTION:Meals On Wheels (MOW) serves hot\, nutritious meals to the homebound elderly and/or disabled Monday through Friday.
URL:https://westoverepiscopalchurch.org/event/meals-on-wheels/2023-11-16/
END:VEVENT
BEGIN:VEVENT
DTSTART;TZID=America/New_York:20231115T090000
DTEND;TZID=America/New_York:20231115T110000
DTSTAMP:20260425T124845
CREATED:20230113T145846Z
LAST-MODIFIED:20230113T145846Z
UID:10000946-1700038800-1700046000@westoverepiscopalchurch.org
SUMMARY:Meals on Wheels
DESCRIPTION:Meals On Wheels (MOW) serves hot\, nutritious meals to the homebound elderly and/or disabled Monday through Friday.
URL:https://westoverepiscopalchurch.org/event/meals-on-wheels/2023-11-15/
END:VEVENT
BEGIN:VEVENT
DTSTART;TZID=America/New_York:20231114T090000
DTEND;TZID=America/New_York:20231114T110000
DTSTAMP:20260425T124845
CREATED:20230113T145846Z
LAST-MODIFIED:20230113T145846Z
UID:10000945-1699952400-1699959600@westoverepiscopalchurch.org
SUMMARY:Meals on Wheels
DESCRIPTION:Meals On Wheels (MOW) serves hot\, nutritious meals to the homebound elderly and/or disabled Monday through Friday.
URL:https://westoverepiscopalchurch.org/event/meals-on-wheels/2023-11-14/
END:VEVENT
BEGIN:VEVENT
DTSTART;TZID=America/New_York:20231113T090000
DTEND;TZID=America/New_York:20231113T110000
DTSTAMP:20260425T124845
CREATED:20230113T145846Z
LAST-MODIFIED:20230113T145846Z
UID:10000944-1699866000-1699873200@westoverepiscopalchurch.org
SUMMARY:Meals on Wheels
DESCRIPTION:Meals On Wheels (MOW) serves hot\, nutritious meals to the homebound elderly and/or disabled Monday through Friday.
URL:https://westoverepiscopalchurch.org/event/meals-on-wheels/2023-11-13/
END:VEVENT
BEGIN:VEVENT
DTSTART;TZID=America/New_York:20231112T100000
DTEND;TZID=America/New_York:20231112T110000
DTSTAMP:20260425T124845
CREATED:20230925T203459Z
LAST-MODIFIED:20230925T203459Z
UID:10001164-1699783200-1699786800@westoverepiscopalchurch.org
SUMMARY:Twenty-Fourth Sunday after Pentecost Service
DESCRIPTION:
URL:https://westoverepiscopalchurch.org/event/twenty-fourth-sunday-after-pentecost-service/
LOCATION:Westover Episcopal Church\, 6401 John Tyler Hwy.\, Charles City\, VA\, 23030\, United States
END:VEVENT
BEGIN:VEVENT
DTSTART;TZID=America/New_York:20231110T090000
DTEND;TZID=America/New_York:20231110T110000
DTSTAMP:20260425T124845
CREATED:20230113T145846Z
LAST-MODIFIED:20230113T145846Z
UID:10000943-1699606800-1699614000@westoverepiscopalchurch.org
SUMMARY:Meals on Wheels
DESCRIPTION:Meals On Wheels (MOW) serves hot\, nutritious meals to the homebound elderly and/or disabled Monday through Friday.
URL:https://westoverepiscopalchurch.org/event/meals-on-wheels/2023-11-10/
END:VEVENT
BEGIN:VEVENT
DTSTART;TZID=America/New_York:20231109T100000
DTEND;TZID=America/New_York:20231109T110000
DTSTAMP:20260425T124845
CREATED:20230712T204456Z
LAST-MODIFIED:20230712T204456Z
UID:10001104-1699524000-1699527600@westoverepiscopalchurch.org
SUMMARY:Gentle Yoga with Rev. Becky
DESCRIPTION:
URL:https://westoverepiscopalchurch.org/event/gentle-yoga-with-rev-becky-3/2023-11-09/
END:VEVENT
BEGIN:VEVENT
DTSTART;TZID=America/New_York:20231109T090000
DTEND;TZID=America/New_York:20231109T110000
DTSTAMP:20260425T124845
CREATED:20230113T145846Z
LAST-MODIFIED:20230113T145846Z
UID:10000942-1699520400-1699527600@westoverepiscopalchurch.org
SUMMARY:Meals on Wheels
DESCRIPTION:Meals On Wheels (MOW) serves hot\, nutritious meals to the homebound elderly and/or disabled Monday through Friday.
URL:https://westoverepiscopalchurch.org/event/meals-on-wheels/2023-11-09/
END:VEVENT
BEGIN:VEVENT
DTSTART;TZID=America/New_York:20231108T090000
DTEND;TZID=America/New_York:20231108T110000
DTSTAMP:20260425T124845
CREATED:20230113T145846Z
LAST-MODIFIED:20230113T145846Z
UID:10000941-1699434000-1699441200@westoverepiscopalchurch.org
SUMMARY:Meals on Wheels
DESCRIPTION:Meals On Wheels (MOW) serves hot\, nutritious meals to the homebound elderly and/or disabled Monday through Friday.
URL:https://westoverepiscopalchurch.org/event/meals-on-wheels/2023-11-08/
END:VEVENT
BEGIN:VEVENT
DTSTART;TZID=America/New_York:20231107T090000
DTEND;TZID=America/New_York:20231107T110000
DTSTAMP:20260425T124845
CREATED:20230113T145846Z
LAST-MODIFIED:20230113T145846Z
UID:10000940-1699347600-1699354800@westoverepiscopalchurch.org
SUMMARY:Meals on Wheels
DESCRIPTION:Meals On Wheels (MOW) serves hot\, nutritious meals to the homebound elderly and/or disabled Monday through Friday.
URL:https://westoverepiscopalchurch.org/event/meals-on-wheels/2023-11-07/
END:VEVENT
BEGIN:VEVENT
DTSTART;TZID=America/New_York:20231106T090000
DTEND;TZID=America/New_York:20231106T110000
DTSTAMP:20260425T124845
CREATED:20230113T145846Z
LAST-MODIFIED:20230113T145846Z
UID:10000939-1699261200-1699268400@westoverepiscopalchurch.org
SUMMARY:Meals on Wheels
DESCRIPTION:Meals On Wheels (MOW) serves hot\, nutritious meals to the homebound elderly and/or disabled Monday through Friday.
URL:https://westoverepiscopalchurch.org/event/meals-on-wheels/2023-11-06/
END:VEVENT
BEGIN:VEVENT
DTSTART;TZID=America/New_York:20231105T100000
DTEND;TZID=America/New_York:20231105T110000
DTSTAMP:20260425T124845
CREATED:20230925T203347Z
LAST-MODIFIED:20230925T203347Z
UID:10001163-1699178400-1699182000@westoverepiscopalchurch.org
SUMMARY:All Saints' Day Service
DESCRIPTION:
URL:https://westoverepiscopalchurch.org/event/all-saints-day-service-2/
LOCATION:Westover Episcopal Church\, 6401 John Tyler Hwy.\, Charles City\, VA\, 23030\, United States
END:VEVENT
BEGIN:VEVENT
DTSTART;TZID=America/New_York:20231103T090000
DTEND;TZID=America/New_York:20231103T110000
DTSTAMP:20260425T124845
CREATED:20230113T145846Z
LAST-MODIFIED:20230113T145846Z
UID:10000938-1699002000-1699009200@westoverepiscopalchurch.org
SUMMARY:Meals on Wheels
DESCRIPTION:Meals On Wheels (MOW) serves hot\, nutritious meals to the homebound elderly and/or disabled Monday through Friday.
URL:https://westoverepiscopalchurch.org/event/meals-on-wheels/2023-11-03/
END:VEVENT
BEGIN:VEVENT
DTSTART;TZID=America/New_York:20231102T100000
DTEND;TZID=America/New_York:20231102T110000
DTSTAMP:20260425T124845
CREATED:20230712T204456Z
LAST-MODIFIED:20230712T204456Z
UID:10001103-1698919200-1698922800@westoverepiscopalchurch.org
SUMMARY:Gentle Yoga with Rev. Becky
DESCRIPTION:
URL:https://westoverepiscopalchurch.org/event/gentle-yoga-with-rev-becky-3/2023-11-02/
END:VEVENT
END:VCALENDAR