BEGIN:VCALENDAR
VERSION:2.0
PRODID:-//Westover Episcopal Church - Charles City, VA - ECPv6.15.20//NONSGML v1.0//EN
CALSCALE:GREGORIAN
METHOD:PUBLISH
X-WR-CALNAME:Westover Episcopal Church - Charles City, VA
X-ORIGINAL-URL:https://westoverepiscopalchurch.org
X-WR-CALDESC:Events for Westover Episcopal Church - Charles City, VA
REFRESH-INTERVAL;VALUE=DURATION:PT1H
X-Robots-Tag:noindex
X-PUBLISHED-TTL:PT1H
BEGIN:VTIMEZONE
TZID:America/New_York
BEGIN:DAYLIGHT
TZOFFSETFROM:-0500
TZOFFSETTO:-0400
TZNAME:EDT
DTSTART:20240310T070000
END:DAYLIGHT
BEGIN:STANDARD
TZOFFSETFROM:-0400
TZOFFSETTO:-0500
TZNAME:EST
DTSTART:20241103T060000
END:STANDARD
BEGIN:DAYLIGHT
TZOFFSETFROM:-0500
TZOFFSETTO:-0400
TZNAME:EDT
DTSTART:20250309T070000
END:DAYLIGHT
BEGIN:STANDARD
TZOFFSETFROM:-0400
TZOFFSETTO:-0500
TZNAME:EST
DTSTART:20251102T060000
END:STANDARD
BEGIN:DAYLIGHT
TZOFFSETFROM:-0500
TZOFFSETTO:-0400
TZNAME:EDT
DTSTART:20260308T070000
END:DAYLIGHT
BEGIN:STANDARD
TZOFFSETFROM:-0400
TZOFFSETTO:-0500
TZNAME:EST
DTSTART:20261101T060000
END:STANDARD
BEGIN:DAYLIGHT
TZOFFSETFROM:-0500
TZOFFSETTO:-0400
TZNAME:EDT
DTSTART:20270314T070000
END:DAYLIGHT
BEGIN:STANDARD
TZOFFSETFROM:-0400
TZOFFSETTO:-0500
TZNAME:EST
DTSTART:20271107T060000
END:STANDARD
END:VTIMEZONE
BEGIN:VEVENT
DTSTART;TZID=America/New_York:20260127T090000
DTEND;TZID=America/New_York:20260127T110000
DTSTAMP:20260423T200313
CREATED:20230113T145846Z
LAST-MODIFIED:20230113T145846Z
UID:10003112-1769504400-1769511600@westoverepiscopalchurch.org
SUMMARY:Meals on Wheels
DESCRIPTION:Meals On Wheels (MOW) serves hot\, nutritious meals to the homebound elderly and/or disabled Monday through Friday.
URL:https://westoverepiscopalchurch.org/event/meals-on-wheels/2026-01-27/
END:VEVENT
BEGIN:VEVENT
DTSTART;TZID=America/New_York:20260126T090000
DTEND;TZID=America/New_York:20260126T110000
DTSTAMP:20260423T200313
CREATED:20230113T145846Z
LAST-MODIFIED:20230113T145846Z
UID:10003111-1769418000-1769425200@westoverepiscopalchurch.org
SUMMARY:Meals on Wheels
DESCRIPTION:Meals On Wheels (MOW) serves hot\, nutritious meals to the homebound elderly and/or disabled Monday through Friday.
URL:https://westoverepiscopalchurch.org/event/meals-on-wheels/2026-01-26/
END:VEVENT
BEGIN:VEVENT
DTSTART;TZID=America/New_York:20260125T100000
DTEND;TZID=America/New_York:20260125T110000
DTSTAMP:20260423T200313
CREATED:20251230T152649Z
LAST-MODIFIED:20251230T152649Z
UID:10002199-1769335200-1769338800@westoverepiscopalchurch.org
SUMMARY:Third Sunday after the Epiphany Service
DESCRIPTION:
URL:https://westoverepiscopalchurch.org/event/third-sunday-after-the-epiphany-service-3/
LOCATION:Westover Episcopal Church\, 6401 John Tyler Hwy.\, Charles City\, VA\, 23030\, United States
END:VEVENT
BEGIN:VEVENT
DTSTART;TZID=America/New_York:20260123T090000
DTEND;TZID=America/New_York:20260123T110000
DTSTAMP:20260423T200313
CREATED:20230113T145846Z
LAST-MODIFIED:20230113T145846Z
UID:10003110-1769158800-1769166000@westoverepiscopalchurch.org
SUMMARY:Meals on Wheels
DESCRIPTION:Meals On Wheels (MOW) serves hot\, nutritious meals to the homebound elderly and/or disabled Monday through Friday.
URL:https://westoverepiscopalchurch.org/event/meals-on-wheels/2026-01-23/
END:VEVENT
BEGIN:VEVENT
DTSTART;TZID=America/New_York:20260122T100000
DTEND;TZID=America/New_York:20260122T110000
DTSTAMP:20260423T200313
CREATED:20241203T183802Z
LAST-MODIFIED:20250520T131430Z
UID:10001621-1769076000-1769079600@westoverepiscopalchurch.org
SUMMARY:Gentle Yoga with Rev. Becky
DESCRIPTION:
URL:https://westoverepiscopalchurch.org/event/gentle-yoga-with-rev-becky-6/2026-01-22/
END:VEVENT
BEGIN:VEVENT
DTSTART;TZID=America/New_York:20260122T093000
DTEND;TZID=America/New_York:20260122T100000
DTSTAMP:20260423T200313
CREATED:20251230T155616Z
LAST-MODIFIED:20251230T155616Z
UID:10002214-1769074200-1769076000@westoverepiscopalchurch.org
SUMMARY:No Gentle Yoga with Rev. Becky Today
DESCRIPTION:
URL:https://westoverepiscopalchurch.org/event/no-gentle-yoga-with-rev-becky-today-3/
LOCATION:Westover Episcopal Church\, 6401 John Tyler Hwy.\, Charles City\, VA\, 23030\, United States
END:VEVENT
BEGIN:VEVENT
DTSTART;TZID=America/New_York:20260122T090000
DTEND;TZID=America/New_York:20260122T110000
DTSTAMP:20260423T200313
CREATED:20230113T145846Z
LAST-MODIFIED:20230113T145846Z
UID:10003109-1769072400-1769079600@westoverepiscopalchurch.org
SUMMARY:Meals on Wheels
DESCRIPTION:Meals On Wheels (MOW) serves hot\, nutritious meals to the homebound elderly and/or disabled Monday through Friday.
URL:https://westoverepiscopalchurch.org/event/meals-on-wheels/2026-01-22/
END:VEVENT
BEGIN:VEVENT
DTSTART;TZID=America/New_York:20260121T090000
DTEND;TZID=America/New_York:20260121T110000
DTSTAMP:20260423T200313
CREATED:20230113T145846Z
LAST-MODIFIED:20230113T145846Z
UID:10003108-1768986000-1768993200@westoverepiscopalchurch.org
SUMMARY:Meals on Wheels
DESCRIPTION:Meals On Wheels (MOW) serves hot\, nutritious meals to the homebound elderly and/or disabled Monday through Friday.
URL:https://westoverepiscopalchurch.org/event/meals-on-wheels/2026-01-21/
END:VEVENT
BEGIN:VEVENT
DTSTART;TZID=America/New_York:20260120T090000
DTEND;TZID=America/New_York:20260120T110000
DTSTAMP:20260423T200313
CREATED:20230113T145846Z
LAST-MODIFIED:20230113T145846Z
UID:10003107-1768899600-1768906800@westoverepiscopalchurch.org
SUMMARY:Meals on Wheels
DESCRIPTION:Meals On Wheels (MOW) serves hot\, nutritious meals to the homebound elderly and/or disabled Monday through Friday.
URL:https://westoverepiscopalchurch.org/event/meals-on-wheels/2026-01-20/
END:VEVENT
BEGIN:VEVENT
DTSTART;TZID=America/New_York:20260119T090000
DTEND;TZID=America/New_York:20260119T110000
DTSTAMP:20260423T200313
CREATED:20230113T145846Z
LAST-MODIFIED:20230113T145846Z
UID:10003106-1768813200-1768820400@westoverepiscopalchurch.org
SUMMARY:Meals on Wheels
DESCRIPTION:Meals On Wheels (MOW) serves hot\, nutritious meals to the homebound elderly and/or disabled Monday through Friday.
URL:https://westoverepiscopalchurch.org/event/meals-on-wheels/2026-01-19/
END:VEVENT
BEGIN:VEVENT
DTSTART;TZID=America/New_York:20260118T100000
DTEND;TZID=America/New_York:20260118T110000
DTSTAMP:20260423T200313
CREATED:20251230T152617Z
LAST-MODIFIED:20251230T152617Z
UID:10002198-1768730400-1768734000@westoverepiscopalchurch.org
SUMMARY:Second Sunday after the Epiphany Service
DESCRIPTION:
URL:https://westoverepiscopalchurch.org/event/second-sunday-after-the-epiphany-service-3/
LOCATION:Westover Episcopal Church\, 6401 John Tyler Hwy.\, Charles City\, VA\, 23030\, United States
END:VEVENT
BEGIN:VEVENT
DTSTART;TZID=America/New_York:20260116T090000
DTEND;TZID=America/New_York:20260116T110000
DTSTAMP:20260423T200313
CREATED:20230113T145846Z
LAST-MODIFIED:20230113T145846Z
UID:10003105-1768554000-1768561200@westoverepiscopalchurch.org
SUMMARY:Meals on Wheels
DESCRIPTION:Meals On Wheels (MOW) serves hot\, nutritious meals to the homebound elderly and/or disabled Monday through Friday.
URL:https://westoverepiscopalchurch.org/event/meals-on-wheels/2026-01-16/
END:VEVENT
BEGIN:VEVENT
DTSTART;TZID=America/New_York:20260115T100000
DTEND;TZID=America/New_York:20260115T110000
DTSTAMP:20260423T200313
CREATED:20241203T183802Z
LAST-MODIFIED:20250520T131430Z
UID:10001620-1768471200-1768474800@westoverepiscopalchurch.org
SUMMARY:Gentle Yoga with Rev. Becky
DESCRIPTION:
URL:https://westoverepiscopalchurch.org/event/gentle-yoga-with-rev-becky-6/2026-01-15/
END:VEVENT
BEGIN:VEVENT
DTSTART;TZID=America/New_York:20260115T090000
DTEND;TZID=America/New_York:20260115T110000
DTSTAMP:20260423T200313
CREATED:20230113T145846Z
LAST-MODIFIED:20230113T145846Z
UID:10003104-1768467600-1768474800@westoverepiscopalchurch.org
SUMMARY:Meals on Wheels
DESCRIPTION:Meals On Wheels (MOW) serves hot\, nutritious meals to the homebound elderly and/or disabled Monday through Friday.
URL:https://westoverepiscopalchurch.org/event/meals-on-wheels/2026-01-15/
END:VEVENT
BEGIN:VEVENT
DTSTART;TZID=America/New_York:20260114T090000
DTEND;TZID=America/New_York:20260114T110000
DTSTAMP:20260423T200313
CREATED:20230113T145846Z
LAST-MODIFIED:20230113T145846Z
UID:10003103-1768381200-1768388400@westoverepiscopalchurch.org
SUMMARY:Meals on Wheels
DESCRIPTION:Meals On Wheels (MOW) serves hot\, nutritious meals to the homebound elderly and/or disabled Monday through Friday.
URL:https://westoverepiscopalchurch.org/event/meals-on-wheels/2026-01-14/
END:VEVENT
BEGIN:VEVENT
DTSTART;TZID=America/New_York:20260113T090000
DTEND;TZID=America/New_York:20260113T110000
DTSTAMP:20260423T200313
CREATED:20230113T145846Z
LAST-MODIFIED:20230113T145846Z
UID:10003102-1768294800-1768302000@westoverepiscopalchurch.org
SUMMARY:Meals on Wheels
DESCRIPTION:Meals On Wheels (MOW) serves hot\, nutritious meals to the homebound elderly and/or disabled Monday through Friday.
URL:https://westoverepiscopalchurch.org/event/meals-on-wheels/2026-01-13/
END:VEVENT
BEGIN:VEVENT
DTSTART;TZID=America/New_York:20260112T090000
DTEND;TZID=America/New_York:20260112T110000
DTSTAMP:20260423T200313
CREATED:20230113T145846Z
LAST-MODIFIED:20230113T145846Z
UID:10003101-1768208400-1768215600@westoverepiscopalchurch.org
SUMMARY:Meals on Wheels
DESCRIPTION:Meals On Wheels (MOW) serves hot\, nutritious meals to the homebound elderly and/or disabled Monday through Friday.
URL:https://westoverepiscopalchurch.org/event/meals-on-wheels/2026-01-12/
END:VEVENT
BEGIN:VEVENT
DTSTART;TZID=America/New_York:20260111T100000
DTEND;TZID=America/New_York:20260111T110000
DTSTAMP:20260423T200313
CREATED:20251230T152542Z
LAST-MODIFIED:20251230T152542Z
UID:10002197-1768125600-1768129200@westoverepiscopalchurch.org
SUMMARY:First Sunday after the Epiphany Service
DESCRIPTION:
URL:https://westoverepiscopalchurch.org/event/first-sunday-after-the-epiphany-service-2/
LOCATION:Westover Episcopal Church\, 6401 John Tyler Hwy.\, Charles City\, VA\, 23030\, United States
END:VEVENT
BEGIN:VEVENT
DTSTART;TZID=America/New_York:20260109T090000
DTEND;TZID=America/New_York:20260109T110000
DTSTAMP:20260423T200313
CREATED:20230113T145846Z
LAST-MODIFIED:20230113T145846Z
UID:10003100-1767949200-1767956400@westoverepiscopalchurch.org
SUMMARY:Meals on Wheels
DESCRIPTION:Meals On Wheels (MOW) serves hot\, nutritious meals to the homebound elderly and/or disabled Monday through Friday.
URL:https://westoverepiscopalchurch.org/event/meals-on-wheels/2026-01-09/
END:VEVENT
BEGIN:VEVENT
DTSTART;TZID=America/New_York:20260108T100000
DTEND;TZID=America/New_York:20260108T110000
DTSTAMP:20260423T200313
CREATED:20241203T183802Z
LAST-MODIFIED:20250520T131430Z
UID:10001619-1767866400-1767870000@westoverepiscopalchurch.org
SUMMARY:Gentle Yoga with Rev. Becky
DESCRIPTION:
URL:https://westoverepiscopalchurch.org/event/gentle-yoga-with-rev-becky-6/2026-01-08/
END:VEVENT
BEGIN:VEVENT
DTSTART;TZID=America/New_York:20260108T093000
DTEND;TZID=America/New_York:20260108T100000
DTSTAMP:20260423T200313
CREATED:20251230T155050Z
LAST-MODIFIED:20251230T155050Z
UID:10002213-1767864600-1767866400@westoverepiscopalchurch.org
SUMMARY:No Gentle Yoga with Rev. Becky Today
DESCRIPTION:
URL:https://westoverepiscopalchurch.org/event/no-gentle-yoga-with-rev-becky-today-2/
LOCATION:Westover Episcopal Church\, 6401 John Tyler Hwy.\, Charles City\, VA\, 23030\, United States
END:VEVENT
BEGIN:VEVENT
DTSTART;TZID=America/New_York:20260108T090000
DTEND;TZID=America/New_York:20260108T110000
DTSTAMP:20260423T200313
CREATED:20230113T145846Z
LAST-MODIFIED:20230113T145846Z
UID:10003099-1767862800-1767870000@westoverepiscopalchurch.org
SUMMARY:Meals on Wheels
DESCRIPTION:Meals On Wheels (MOW) serves hot\, nutritious meals to the homebound elderly and/or disabled Monday through Friday.
URL:https://westoverepiscopalchurch.org/event/meals-on-wheels/2026-01-08/
END:VEVENT
BEGIN:VEVENT
DTSTART;TZID=America/New_York:20260107T090000
DTEND;TZID=America/New_York:20260107T110000
DTSTAMP:20260423T200313
CREATED:20230113T145846Z
LAST-MODIFIED:20230113T145846Z
UID:10003098-1767776400-1767783600@westoverepiscopalchurch.org
SUMMARY:Meals on Wheels
DESCRIPTION:Meals On Wheels (MOW) serves hot\, nutritious meals to the homebound elderly and/or disabled Monday through Friday.
URL:https://westoverepiscopalchurch.org/event/meals-on-wheels/2026-01-07/
END:VEVENT
BEGIN:VEVENT
DTSTART;TZID=America/New_York:20260106T090000
DTEND;TZID=America/New_York:20260106T110000
DTSTAMP:20260423T200313
CREATED:20230113T145846Z
LAST-MODIFIED:20230113T145846Z
UID:10003097-1767690000-1767697200@westoverepiscopalchurch.org
SUMMARY:Meals on Wheels
DESCRIPTION:Meals On Wheels (MOW) serves hot\, nutritious meals to the homebound elderly and/or disabled Monday through Friday.
URL:https://westoverepiscopalchurch.org/event/meals-on-wheels/2026-01-06/
END:VEVENT
BEGIN:VEVENT
DTSTART;TZID=America/New_York:20260105T090000
DTEND;TZID=America/New_York:20260105T110000
DTSTAMP:20260423T200313
CREATED:20230113T145846Z
LAST-MODIFIED:20230113T145846Z
UID:10003096-1767603600-1767610800@westoverepiscopalchurch.org
SUMMARY:Meals on Wheels
DESCRIPTION:Meals On Wheels (MOW) serves hot\, nutritious meals to the homebound elderly and/or disabled Monday through Friday.
URL:https://westoverepiscopalchurch.org/event/meals-on-wheels/2026-01-05/
END:VEVENT
BEGIN:VEVENT
DTSTART;TZID=America/New_York:20260104T100000
DTEND;TZID=America/New_York:20260104T110000
DTSTAMP:20260423T200313
CREATED:20251230T152501Z
LAST-MODIFIED:20251230T152501Z
UID:10002196-1767520800-1767524400@westoverepiscopalchurch.org
SUMMARY:The Feast of the Epiphany Service
DESCRIPTION:
URL:https://westoverepiscopalchurch.org/event/the-feast-of-the-epiphany-service-3/
LOCATION:Westover Episcopal Church\, 6401 John Tyler Hwy.\, Charles City\, VA\, 23030\, United States
END:VEVENT
BEGIN:VEVENT
DTSTART;TZID=America/New_York:20260102T090000
DTEND;TZID=America/New_York:20260102T110000
DTSTAMP:20260423T200313
CREATED:20230113T145846Z
LAST-MODIFIED:20230113T145846Z
UID:10003095-1767344400-1767351600@westoverepiscopalchurch.org
SUMMARY:Meals on Wheels
DESCRIPTION:Meals On Wheels (MOW) serves hot\, nutritious meals to the homebound elderly and/or disabled Monday through Friday.
URL:https://westoverepiscopalchurch.org/event/meals-on-wheels/2026-01-02/
END:VEVENT
BEGIN:VEVENT
DTSTART;TZID=America/New_York:20260101T100000
DTEND;TZID=America/New_York:20260101T110000
DTSTAMP:20260423T200313
CREATED:20241203T183802Z
LAST-MODIFIED:20250520T131430Z
UID:10001618-1767261600-1767265200@westoverepiscopalchurch.org
SUMMARY:Gentle Yoga with Rev. Becky
DESCRIPTION:
URL:https://westoverepiscopalchurch.org/event/gentle-yoga-with-rev-becky-6/2026-01-01/
END:VEVENT
BEGIN:VEVENT
DTSTART;TZID=America/New_York:20260101T090000
DTEND;TZID=America/New_York:20260101T110000
DTSTAMP:20260423T200313
CREATED:20230113T145846Z
LAST-MODIFIED:20230113T145846Z
UID:10003094-1767258000-1767265200@westoverepiscopalchurch.org
SUMMARY:Meals on Wheels
DESCRIPTION:Meals On Wheels (MOW) serves hot\, nutritious meals to the homebound elderly and/or disabled Monday through Friday.
URL:https://westoverepiscopalchurch.org/event/meals-on-wheels/2026-01-01/
END:VEVENT
BEGIN:VEVENT
DTSTART;TZID=America/New_York:20251231T090000
DTEND;TZID=America/New_York:20251231T110000
DTSTAMP:20260423T200313
CREATED:20250103T170003Z
LAST-MODIFIED:20250103T170126Z
UID:10002144-1767171600-1767178800@westoverepiscopalchurch.org
SUMMARY:Meals on Wheels
DESCRIPTION:
URL:https://westoverepiscopalchurch.org/event/meals-on-wheels-2/2025-12-31/
END:VEVENT
END:VCALENDAR