BEGIN:VCALENDAR
VERSION:2.0
PRODID:-//Westover Episcopal Church - Charles City, VA - ECPv6.15.20//NONSGML v1.0//EN
CALSCALE:GREGORIAN
METHOD:PUBLISH
X-WR-CALNAME:Westover Episcopal Church - Charles City, VA
X-ORIGINAL-URL:https://westoverepiscopalchurch.org
X-WR-CALDESC:Events for Westover Episcopal Church - Charles City, VA
REFRESH-INTERVAL;VALUE=DURATION:PT1H
X-Robots-Tag:noindex
X-PUBLISHED-TTL:PT1H
BEGIN:VTIMEZONE
TZID:America/New_York
BEGIN:DAYLIGHT
TZOFFSETFROM:-0500
TZOFFSETTO:-0400
TZNAME:EDT
DTSTART:20250309T070000
END:DAYLIGHT
BEGIN:STANDARD
TZOFFSETFROM:-0400
TZOFFSETTO:-0500
TZNAME:EST
DTSTART:20251102T060000
END:STANDARD
BEGIN:DAYLIGHT
TZOFFSETFROM:-0500
TZOFFSETTO:-0400
TZNAME:EDT
DTSTART:20260308T070000
END:DAYLIGHT
BEGIN:STANDARD
TZOFFSETFROM:-0400
TZOFFSETTO:-0500
TZNAME:EST
DTSTART:20261101T060000
END:STANDARD
BEGIN:DAYLIGHT
TZOFFSETFROM:-0500
TZOFFSETTO:-0400
TZNAME:EDT
DTSTART:20270314T070000
END:DAYLIGHT
BEGIN:STANDARD
TZOFFSETFROM:-0400
TZOFFSETTO:-0500
TZNAME:EST
DTSTART:20271107T060000
END:STANDARD
END:VTIMEZONE
BEGIN:VEVENT
DTSTART;TZID=America/New_York:20260220T090000
DTEND;TZID=America/New_York:20260220T110000
DTSTAMP:20260423T184456
CREATED:20230113T145846Z
LAST-MODIFIED:20230113T145846Z
UID:10003130-1771578000-1771585200@westoverepiscopalchurch.org
SUMMARY:Meals on Wheels
DESCRIPTION:Meals On Wheels (MOW) serves hot\, nutritious meals to the homebound elderly and/or disabled Monday through Friday.
URL:https://westoverepiscopalchurch.org/event/meals-on-wheels/2026-02-20/
END:VEVENT
BEGIN:VEVENT
DTSTART;TZID=America/New_York:20260219T100000
DTEND;TZID=America/New_York:20260219T110000
DTSTAMP:20260423T184456
CREATED:20241203T183802Z
LAST-MODIFIED:20250520T131430Z
UID:10001625-1771495200-1771498800@westoverepiscopalchurch.org
SUMMARY:Gentle Yoga with Rev. Becky
DESCRIPTION:
URL:https://westoverepiscopalchurch.org/event/gentle-yoga-with-rev-becky-6/2026-02-19/
END:VEVENT
BEGIN:VEVENT
DTSTART;TZID=America/New_York:20260219T090000
DTEND;TZID=America/New_York:20260219T110000
DTSTAMP:20260423T184456
CREATED:20230113T145846Z
LAST-MODIFIED:20230113T145846Z
UID:10003129-1771491600-1771498800@westoverepiscopalchurch.org
SUMMARY:Meals on Wheels
DESCRIPTION:Meals On Wheels (MOW) serves hot\, nutritious meals to the homebound elderly and/or disabled Monday through Friday.
URL:https://westoverepiscopalchurch.org/event/meals-on-wheels/2026-02-19/
END:VEVENT
BEGIN:VEVENT
DTSTART;TZID=America/New_York:20260218T180000
DTEND;TZID=America/New_York:20260218T190000
DTSTAMP:20260423T184456
CREATED:20251230T153007Z
LAST-MODIFIED:20251230T153007Z
UID:10002204-1771437600-1771441200@westoverepiscopalchurch.org
SUMMARY:Ash Wednesday Service
DESCRIPTION:
URL:https://westoverepiscopalchurch.org/event/ash-wednesday-service-2/
LOCATION:Westover Episcopal Church\, 6401 John Tyler Hwy.\, Charles City\, VA\, 23030\, United States
END:VEVENT
BEGIN:VEVENT
DTSTART;TZID=America/New_York:20260218T090000
DTEND;TZID=America/New_York:20260218T110000
DTSTAMP:20260423T184456
CREATED:20230113T145846Z
LAST-MODIFIED:20230113T145846Z
UID:10003128-1771405200-1771412400@westoverepiscopalchurch.org
SUMMARY:Meals on Wheels
DESCRIPTION:Meals On Wheels (MOW) serves hot\, nutritious meals to the homebound elderly and/or disabled Monday through Friday.
URL:https://westoverepiscopalchurch.org/event/meals-on-wheels/2026-02-18/
END:VEVENT
BEGIN:VEVENT
DTSTART;TZID=America/New_York:20260217T090000
DTEND;TZID=America/New_York:20260217T110000
DTSTAMP:20260423T184456
CREATED:20230113T145846Z
LAST-MODIFIED:20230113T145846Z
UID:10003127-1771318800-1771326000@westoverepiscopalchurch.org
SUMMARY:Meals on Wheels
DESCRIPTION:Meals On Wheels (MOW) serves hot\, nutritious meals to the homebound elderly and/or disabled Monday through Friday.
URL:https://westoverepiscopalchurch.org/event/meals-on-wheels/2026-02-17/
END:VEVENT
BEGIN:VEVENT
DTSTART;TZID=America/New_York:20260216T090000
DTEND;TZID=America/New_York:20260216T110000
DTSTAMP:20260423T184456
CREATED:20230113T145846Z
LAST-MODIFIED:20230113T145846Z
UID:10003126-1771232400-1771239600@westoverepiscopalchurch.org
SUMMARY:Meals on Wheels
DESCRIPTION:Meals On Wheels (MOW) serves hot\, nutritious meals to the homebound elderly and/or disabled Monday through Friday.
URL:https://westoverepiscopalchurch.org/event/meals-on-wheels/2026-02-16/
END:VEVENT
BEGIN:VEVENT
DTSTART;TZID=America/New_York:20260215T100000
DTEND;TZID=America/New_York:20260215T110000
DTSTAMP:20260423T184456
CREATED:20251230T152831Z
LAST-MODIFIED:20251230T152831Z
UID:10002202-1771149600-1771153200@westoverepiscopalchurch.org
SUMMARY:Last Sunday after the Epiphany Service
DESCRIPTION:
URL:https://westoverepiscopalchurch.org/event/last-sunday-after-the-epiphany-service-3/
LOCATION:Westover Episcopal Church\, 6401 John Tyler Hwy.\, Charles City\, VA\, 23030\, United States
END:VEVENT
BEGIN:VEVENT
DTSTART;TZID=America/New_York:20260213T090000
DTEND;TZID=America/New_York:20260213T110000
DTSTAMP:20260423T184456
CREATED:20230113T145846Z
LAST-MODIFIED:20230113T145846Z
UID:10003125-1770973200-1770980400@westoverepiscopalchurch.org
SUMMARY:Meals on Wheels
DESCRIPTION:Meals On Wheels (MOW) serves hot\, nutritious meals to the homebound elderly and/or disabled Monday through Friday.
URL:https://westoverepiscopalchurch.org/event/meals-on-wheels/2026-02-13/
END:VEVENT
BEGIN:VEVENT
DTSTART;TZID=America/New_York:20260212T100000
DTEND;TZID=America/New_York:20260212T110000
DTSTAMP:20260423T184456
CREATED:20241203T183802Z
LAST-MODIFIED:20250520T131430Z
UID:10001624-1770890400-1770894000@westoverepiscopalchurch.org
SUMMARY:Gentle Yoga with Rev. Becky
DESCRIPTION:
URL:https://westoverepiscopalchurch.org/event/gentle-yoga-with-rev-becky-6/2026-02-12/
END:VEVENT
BEGIN:VEVENT
DTSTART;TZID=America/New_York:20260212T090000
DTEND;TZID=America/New_York:20260212T110000
DTSTAMP:20260423T184456
CREATED:20230113T145846Z
LAST-MODIFIED:20230113T145846Z
UID:10003124-1770886800-1770894000@westoverepiscopalchurch.org
SUMMARY:Meals on Wheels
DESCRIPTION:Meals On Wheels (MOW) serves hot\, nutritious meals to the homebound elderly and/or disabled Monday through Friday.
URL:https://westoverepiscopalchurch.org/event/meals-on-wheels/2026-02-12/
END:VEVENT
BEGIN:VEVENT
DTSTART;TZID=America/New_York:20260211T090000
DTEND;TZID=America/New_York:20260211T110000
DTSTAMP:20260423T184456
CREATED:20230113T145846Z
LAST-MODIFIED:20230113T145846Z
UID:10003123-1770800400-1770807600@westoverepiscopalchurch.org
SUMMARY:Meals on Wheels
DESCRIPTION:Meals On Wheels (MOW) serves hot\, nutritious meals to the homebound elderly and/or disabled Monday through Friday.
URL:https://westoverepiscopalchurch.org/event/meals-on-wheels/2026-02-11/
END:VEVENT
BEGIN:VEVENT
DTSTART;TZID=America/New_York:20260210T090000
DTEND;TZID=America/New_York:20260210T110000
DTSTAMP:20260423T184456
CREATED:20230113T145846Z
LAST-MODIFIED:20230113T145846Z
UID:10003122-1770714000-1770721200@westoverepiscopalchurch.org
SUMMARY:Meals on Wheels
DESCRIPTION:Meals On Wheels (MOW) serves hot\, nutritious meals to the homebound elderly and/or disabled Monday through Friday.
URL:https://westoverepiscopalchurch.org/event/meals-on-wheels/2026-02-10/
END:VEVENT
BEGIN:VEVENT
DTSTART;TZID=America/New_York:20260209T090000
DTEND;TZID=America/New_York:20260209T110000
DTSTAMP:20260423T184456
CREATED:20230113T145846Z
LAST-MODIFIED:20230113T145846Z
UID:10003121-1770627600-1770634800@westoverepiscopalchurch.org
SUMMARY:Meals on Wheels
DESCRIPTION:Meals On Wheels (MOW) serves hot\, nutritious meals to the homebound elderly and/or disabled Monday through Friday.
URL:https://westoverepiscopalchurch.org/event/meals-on-wheels/2026-02-09/
END:VEVENT
BEGIN:VEVENT
DTSTART;TZID=America/New_York:20260208T100000
DTEND;TZID=America/New_York:20260208T110000
DTSTAMP:20260423T184456
CREATED:20251230T152801Z
LAST-MODIFIED:20251230T152801Z
UID:10002201-1770544800-1770548400@westoverepiscopalchurch.org
SUMMARY:Fifth Sunday after the Epiphany Service
DESCRIPTION:
URL:https://westoverepiscopalchurch.org/event/fifth-sunday-after-the-epiphany-service-3/
LOCATION:Westover Episcopal Church\, 6401 John Tyler Hwy.\, Charles City\, VA\, 23030\, United States
END:VEVENT
BEGIN:VEVENT
DTSTART;TZID=America/New_York:20260206T090000
DTEND;TZID=America/New_York:20260206T110000
DTSTAMP:20260423T184456
CREATED:20230113T145846Z
LAST-MODIFIED:20230113T145846Z
UID:10003120-1770368400-1770375600@westoverepiscopalchurch.org
SUMMARY:Meals on Wheels
DESCRIPTION:Meals On Wheels (MOW) serves hot\, nutritious meals to the homebound elderly and/or disabled Monday through Friday.
URL:https://westoverepiscopalchurch.org/event/meals-on-wheels/2026-02-06/
END:VEVENT
BEGIN:VEVENT
DTSTART;TZID=America/New_York:20260205T100000
DTEND;TZID=America/New_York:20260205T110000
DTSTAMP:20260423T184456
CREATED:20241203T183802Z
LAST-MODIFIED:20250520T131430Z
UID:10001623-1770285600-1770289200@westoverepiscopalchurch.org
SUMMARY:Gentle Yoga with Rev. Becky
DESCRIPTION:
URL:https://westoverepiscopalchurch.org/event/gentle-yoga-with-rev-becky-6/2026-02-05/
END:VEVENT
BEGIN:VEVENT
DTSTART;TZID=America/New_York:20260205T090000
DTEND;TZID=America/New_York:20260205T110000
DTSTAMP:20260423T184456
CREATED:20230113T145846Z
LAST-MODIFIED:20230113T145846Z
UID:10003119-1770282000-1770289200@westoverepiscopalchurch.org
SUMMARY:Meals on Wheels
DESCRIPTION:Meals On Wheels (MOW) serves hot\, nutritious meals to the homebound elderly and/or disabled Monday through Friday.
URL:https://westoverepiscopalchurch.org/event/meals-on-wheels/2026-02-05/
END:VEVENT
BEGIN:VEVENT
DTSTART;TZID=America/New_York:20260204T090000
DTEND;TZID=America/New_York:20260204T110000
DTSTAMP:20260423T184456
CREATED:20230113T145846Z
LAST-MODIFIED:20230113T145846Z
UID:10003118-1770195600-1770202800@westoverepiscopalchurch.org
SUMMARY:Meals on Wheels
DESCRIPTION:Meals On Wheels (MOW) serves hot\, nutritious meals to the homebound elderly and/or disabled Monday through Friday.
URL:https://westoverepiscopalchurch.org/event/meals-on-wheels/2026-02-04/
END:VEVENT
BEGIN:VEVENT
DTSTART;TZID=America/New_York:20260203T090000
DTEND;TZID=America/New_York:20260203T110000
DTSTAMP:20260423T184456
CREATED:20230113T145846Z
LAST-MODIFIED:20230113T145846Z
UID:10003117-1770109200-1770116400@westoverepiscopalchurch.org
SUMMARY:Meals on Wheels
DESCRIPTION:Meals On Wheels (MOW) serves hot\, nutritious meals to the homebound elderly and/or disabled Monday through Friday.
URL:https://westoverepiscopalchurch.org/event/meals-on-wheels/2026-02-03/
END:VEVENT
BEGIN:VEVENT
DTSTART;TZID=America/New_York:20260202T090000
DTEND;TZID=America/New_York:20260202T110000
DTSTAMP:20260423T184456
CREATED:20230113T145846Z
LAST-MODIFIED:20230113T145846Z
UID:10003116-1770022800-1770030000@westoverepiscopalchurch.org
SUMMARY:Meals on Wheels
DESCRIPTION:Meals On Wheels (MOW) serves hot\, nutritious meals to the homebound elderly and/or disabled Monday through Friday.
URL:https://westoverepiscopalchurch.org/event/meals-on-wheels/2026-02-02/
END:VEVENT
BEGIN:VEVENT
DTSTART;TZID=America/New_York:20260201T100000
DTEND;TZID=America/New_York:20260201T110000
DTSTAMP:20260423T184456
CREATED:20251230T152726Z
LAST-MODIFIED:20251230T152726Z
UID:10002200-1769940000-1769943600@westoverepiscopalchurch.org
SUMMARY:Fourth Sunday after the Epiphany Service
DESCRIPTION:
URL:https://westoverepiscopalchurch.org/event/fourth-sunday-after-the-epiphany-service-2/
LOCATION:Westover Episcopal Church\, 6401 John Tyler Hwy.\, Charles City\, VA\, 23030\, United States
END:VEVENT
BEGIN:VEVENT
DTSTART;TZID=America/New_York:20260130T090000
DTEND;TZID=America/New_York:20260130T110000
DTSTAMP:20260423T184456
CREATED:20230113T145846Z
LAST-MODIFIED:20230113T145846Z
UID:10003115-1769763600-1769770800@westoverepiscopalchurch.org
SUMMARY:Meals on Wheels
DESCRIPTION:Meals On Wheels (MOW) serves hot\, nutritious meals to the homebound elderly and/or disabled Monday through Friday.
URL:https://westoverepiscopalchurch.org/event/meals-on-wheels/2026-01-30/
END:VEVENT
BEGIN:VEVENT
DTSTART;TZID=America/New_York:20260129T100000
DTEND;TZID=America/New_York:20260129T110000
DTSTAMP:20260423T184456
CREATED:20241203T183802Z
LAST-MODIFIED:20250520T131430Z
UID:10001622-1769680800-1769684400@westoverepiscopalchurch.org
SUMMARY:Gentle Yoga with Rev. Becky
DESCRIPTION:
URL:https://westoverepiscopalchurch.org/event/gentle-yoga-with-rev-becky-6/2026-01-29/
END:VEVENT
BEGIN:VEVENT
DTSTART;TZID=America/New_York:20260129T090000
DTEND;TZID=America/New_York:20260129T110000
DTSTAMP:20260423T184456
CREATED:20230113T145846Z
LAST-MODIFIED:20230113T145846Z
UID:10003114-1769677200-1769684400@westoverepiscopalchurch.org
SUMMARY:Meals on Wheels
DESCRIPTION:Meals On Wheels (MOW) serves hot\, nutritious meals to the homebound elderly and/or disabled Monday through Friday.
URL:https://westoverepiscopalchurch.org/event/meals-on-wheels/2026-01-29/
END:VEVENT
BEGIN:VEVENT
DTSTART;TZID=America/New_York:20260128T090000
DTEND;TZID=America/New_York:20260128T110000
DTSTAMP:20260423T184456
CREATED:20230113T145846Z
LAST-MODIFIED:20230113T145846Z
UID:10003113-1769590800-1769598000@westoverepiscopalchurch.org
SUMMARY:Meals on Wheels
DESCRIPTION:Meals On Wheels (MOW) serves hot\, nutritious meals to the homebound elderly and/or disabled Monday through Friday.
URL:https://westoverepiscopalchurch.org/event/meals-on-wheels/2026-01-28/
END:VEVENT
BEGIN:VEVENT
DTSTART;TZID=America/New_York:20260127T090000
DTEND;TZID=America/New_York:20260127T110000
DTSTAMP:20260423T184456
CREATED:20230113T145846Z
LAST-MODIFIED:20230113T145846Z
UID:10003112-1769504400-1769511600@westoverepiscopalchurch.org
SUMMARY:Meals on Wheels
DESCRIPTION:Meals On Wheels (MOW) serves hot\, nutritious meals to the homebound elderly and/or disabled Monday through Friday.
URL:https://westoverepiscopalchurch.org/event/meals-on-wheels/2026-01-27/
END:VEVENT
BEGIN:VEVENT
DTSTART;TZID=America/New_York:20260126T090000
DTEND;TZID=America/New_York:20260126T110000
DTSTAMP:20260423T184456
CREATED:20230113T145846Z
LAST-MODIFIED:20230113T145846Z
UID:10003111-1769418000-1769425200@westoverepiscopalchurch.org
SUMMARY:Meals on Wheels
DESCRIPTION:Meals On Wheels (MOW) serves hot\, nutritious meals to the homebound elderly and/or disabled Monday through Friday.
URL:https://westoverepiscopalchurch.org/event/meals-on-wheels/2026-01-26/
END:VEVENT
BEGIN:VEVENT
DTSTART;TZID=America/New_York:20260125T100000
DTEND;TZID=America/New_York:20260125T110000
DTSTAMP:20260423T184456
CREATED:20251230T152649Z
LAST-MODIFIED:20251230T152649Z
UID:10002199-1769335200-1769338800@westoverepiscopalchurch.org
SUMMARY:Third Sunday after the Epiphany Service
DESCRIPTION:
URL:https://westoverepiscopalchurch.org/event/third-sunday-after-the-epiphany-service-3/
LOCATION:Westover Episcopal Church\, 6401 John Tyler Hwy.\, Charles City\, VA\, 23030\, United States
END:VEVENT
BEGIN:VEVENT
DTSTART;TZID=America/New_York:20260123T090000
DTEND;TZID=America/New_York:20260123T110000
DTSTAMP:20260423T184456
CREATED:20230113T145846Z
LAST-MODIFIED:20230113T145846Z
UID:10003110-1769158800-1769166000@westoverepiscopalchurch.org
SUMMARY:Meals on Wheels
DESCRIPTION:Meals On Wheels (MOW) serves hot\, nutritious meals to the homebound elderly and/or disabled Monday through Friday.
URL:https://westoverepiscopalchurch.org/event/meals-on-wheels/2026-01-23/
END:VEVENT
END:VCALENDAR