BEGIN:VCALENDAR
VERSION:2.0
PRODID:-//Westover Episcopal Church - Charles City, VA - ECPv6.15.20//NONSGML v1.0//EN
CALSCALE:GREGORIAN
METHOD:PUBLISH
X-WR-CALNAME:Westover Episcopal Church - Charles City, VA
X-ORIGINAL-URL:https://westoverepiscopalchurch.org
X-WR-CALDESC:Events for Westover Episcopal Church - Charles City, VA
REFRESH-INTERVAL;VALUE=DURATION:PT1H
X-Robots-Tag:noindex
X-PUBLISHED-TTL:PT1H
BEGIN:VTIMEZONE
TZID:America/New_York
BEGIN:DAYLIGHT
TZOFFSETFROM:-0500
TZOFFSETTO:-0400
TZNAME:EDT
DTSTART:20230312T070000
END:DAYLIGHT
BEGIN:STANDARD
TZOFFSETFROM:-0400
TZOFFSETTO:-0500
TZNAME:EST
DTSTART:20231105T060000
END:STANDARD
BEGIN:DAYLIGHT
TZOFFSETFROM:-0500
TZOFFSETTO:-0400
TZNAME:EDT
DTSTART:20240310T070000
END:DAYLIGHT
BEGIN:STANDARD
TZOFFSETFROM:-0400
TZOFFSETTO:-0500
TZNAME:EST
DTSTART:20241103T060000
END:STANDARD
BEGIN:DAYLIGHT
TZOFFSETFROM:-0500
TZOFFSETTO:-0400
TZNAME:EDT
DTSTART:20250309T070000
END:DAYLIGHT
BEGIN:STANDARD
TZOFFSETFROM:-0400
TZOFFSETTO:-0500
TZNAME:EST
DTSTART:20251102T060000
END:STANDARD
END:VTIMEZONE
BEGIN:VEVENT
DTSTART;TZID=America/New_York:20240117T090000
DTEND;TZID=America/New_York:20240117T110000
DTSTAMP:20260425T112734
CREATED:20240105T180517Z
LAST-MODIFIED:20240105T180520Z
UID:10001197-1705482000-1705489200@westoverepiscopalchurch.org
SUMMARY:Meals on Wheels
DESCRIPTION:
URL:https://westoverepiscopalchurch.org/event/meals-on-wheels-3-2/2024-01-17/
END:VEVENT
BEGIN:VEVENT
DTSTART;TZID=America/New_York:20240118T090000
DTEND;TZID=America/New_York:20240118T110000
DTSTAMP:20260425T112734
CREATED:20230113T145846Z
LAST-MODIFIED:20230113T145846Z
UID:10002584-1705568400-1705575600@westoverepiscopalchurch.org
SUMMARY:Meals on Wheels
DESCRIPTION:Meals On Wheels (MOW) serves hot\, nutritious meals to the homebound elderly and/or disabled Monday through Friday.
URL:https://westoverepiscopalchurch.org/event/meals-on-wheels/2024-01-18/
END:VEVENT
BEGIN:VEVENT
DTSTART;TZID=America/New_York:20240118T090000
DTEND;TZID=America/New_York:20240118T110000
DTSTAMP:20260425T112734
CREATED:20240105T180517Z
LAST-MODIFIED:20240105T180520Z
UID:10001198-1705568400-1705575600@westoverepiscopalchurch.org
SUMMARY:Meals on Wheels
DESCRIPTION:
URL:https://westoverepiscopalchurch.org/event/meals-on-wheels-3-2/2024-01-18/
END:VEVENT
BEGIN:VEVENT
DTSTART;TZID=America/New_York:20240118T100000
DTEND;TZID=America/New_York:20240118T110000
DTSTAMP:20260425T112734
CREATED:20230712T204456Z
LAST-MODIFIED:20230712T204456Z
UID:10001114-1705572000-1705575600@westoverepiscopalchurch.org
SUMMARY:Gentle Yoga with Rev. Becky
DESCRIPTION:
URL:https://westoverepiscopalchurch.org/event/gentle-yoga-with-rev-becky-3/2024-01-18/
END:VEVENT
BEGIN:VEVENT
DTSTART;TZID=America/New_York:20240119T090000
DTEND;TZID=America/New_York:20240119T110000
DTSTAMP:20260425T112734
CREATED:20230113T145846Z
LAST-MODIFIED:20230113T145846Z
UID:10002585-1705654800-1705662000@westoverepiscopalchurch.org
SUMMARY:Meals on Wheels
DESCRIPTION:Meals On Wheels (MOW) serves hot\, nutritious meals to the homebound elderly and/or disabled Monday through Friday.
URL:https://westoverepiscopalchurch.org/event/meals-on-wheels/2024-01-19/
END:VEVENT
BEGIN:VEVENT
DTSTART;TZID=America/New_York:20240119T090000
DTEND;TZID=America/New_York:20240119T110000
DTSTAMP:20260425T112734
CREATED:20240105T180517Z
LAST-MODIFIED:20240105T180520Z
UID:10001199-1705654800-1705662000@westoverepiscopalchurch.org
SUMMARY:Meals on Wheels
DESCRIPTION:
URL:https://westoverepiscopalchurch.org/event/meals-on-wheels-3-2/2024-01-19/
END:VEVENT
BEGIN:VEVENT
DTSTART;TZID=America/New_York:20240121T100000
DTEND;TZID=America/New_York:20240121T110000
DTSTAMP:20260425T112734
CREATED:20240105T175331Z
LAST-MODIFIED:20240105T175331Z
UID:10001182-1705831200-1705834800@westoverepiscopalchurch.org
SUMMARY:Third Sunday after the Epiphany Service
DESCRIPTION:
URL:https://westoverepiscopalchurch.org/event/third-sunday-after-the-epiphany-service/
END:VEVENT
BEGIN:VEVENT
DTSTART;TZID=America/New_York:20240122T090000
DTEND;TZID=America/New_York:20240122T110000
DTSTAMP:20260425T112734
CREATED:20230113T145846Z
LAST-MODIFIED:20230113T145846Z
UID:10002586-1705914000-1705921200@westoverepiscopalchurch.org
SUMMARY:Meals on Wheels
DESCRIPTION:Meals On Wheels (MOW) serves hot\, nutritious meals to the homebound elderly and/or disabled Monday through Friday.
URL:https://westoverepiscopalchurch.org/event/meals-on-wheels/2024-01-22/
END:VEVENT
BEGIN:VEVENT
DTSTART;TZID=America/New_York:20240122T090000
DTEND;TZID=America/New_York:20240122T110000
DTSTAMP:20260425T112734
CREATED:20240105T180517Z
LAST-MODIFIED:20240105T180520Z
UID:10001200-1705914000-1705921200@westoverepiscopalchurch.org
SUMMARY:Meals on Wheels
DESCRIPTION:
URL:https://westoverepiscopalchurch.org/event/meals-on-wheels-3-2/2024-01-22/
END:VEVENT
BEGIN:VEVENT
DTSTART;TZID=America/New_York:20240123T090000
DTEND;TZID=America/New_York:20240123T110000
DTSTAMP:20260425T112734
CREATED:20230113T145846Z
LAST-MODIFIED:20230113T145846Z
UID:10002587-1706000400-1706007600@westoverepiscopalchurch.org
SUMMARY:Meals on Wheels
DESCRIPTION:Meals On Wheels (MOW) serves hot\, nutritious meals to the homebound elderly and/or disabled Monday through Friday.
URL:https://westoverepiscopalchurch.org/event/meals-on-wheels/2024-01-23/
END:VEVENT
BEGIN:VEVENT
DTSTART;TZID=America/New_York:20240123T090000
DTEND;TZID=America/New_York:20240123T110000
DTSTAMP:20260425T112734
CREATED:20240105T180517Z
LAST-MODIFIED:20240105T180520Z
UID:10001201-1706000400-1706007600@westoverepiscopalchurch.org
SUMMARY:Meals on Wheels
DESCRIPTION:
URL:https://westoverepiscopalchurch.org/event/meals-on-wheels-3-2/2024-01-23/
END:VEVENT
BEGIN:VEVENT
DTSTART;TZID=America/New_York:20240124T090000
DTEND;TZID=America/New_York:20240124T110000
DTSTAMP:20260425T112734
CREATED:20230113T145846Z
LAST-MODIFIED:20230113T145846Z
UID:10002588-1706086800-1706094000@westoverepiscopalchurch.org
SUMMARY:Meals on Wheels
DESCRIPTION:Meals On Wheels (MOW) serves hot\, nutritious meals to the homebound elderly and/or disabled Monday through Friday.
URL:https://westoverepiscopalchurch.org/event/meals-on-wheels/2024-01-24/
END:VEVENT
BEGIN:VEVENT
DTSTART;TZID=America/New_York:20240124T090000
DTEND;TZID=America/New_York:20240124T110000
DTSTAMP:20260425T112734
CREATED:20240105T180517Z
LAST-MODIFIED:20240105T180520Z
UID:10001202-1706086800-1706094000@westoverepiscopalchurch.org
SUMMARY:Meals on Wheels
DESCRIPTION:
URL:https://westoverepiscopalchurch.org/event/meals-on-wheels-3-2/2024-01-24/
END:VEVENT
BEGIN:VEVENT
DTSTART;TZID=America/New_York:20240125T090000
DTEND;TZID=America/New_York:20240125T110000
DTSTAMP:20260425T112734
CREATED:20230113T145846Z
LAST-MODIFIED:20230113T145846Z
UID:10002589-1706173200-1706180400@westoverepiscopalchurch.org
SUMMARY:Meals on Wheels
DESCRIPTION:Meals On Wheels (MOW) serves hot\, nutritious meals to the homebound elderly and/or disabled Monday through Friday.
URL:https://westoverepiscopalchurch.org/event/meals-on-wheels/2024-01-25/
END:VEVENT
BEGIN:VEVENT
DTSTART;TZID=America/New_York:20240125T090000
DTEND;TZID=America/New_York:20240125T110000
DTSTAMP:20260425T112734
CREATED:20240105T180517Z
LAST-MODIFIED:20240105T180520Z
UID:10001203-1706173200-1706180400@westoverepiscopalchurch.org
SUMMARY:Meals on Wheels
DESCRIPTION:
URL:https://westoverepiscopalchurch.org/event/meals-on-wheels-3-2/2024-01-25/
END:VEVENT
BEGIN:VEVENT
DTSTART;TZID=America/New_York:20240125T100000
DTEND;TZID=America/New_York:20240125T110000
DTSTAMP:20260425T112734
CREATED:20230712T204456Z
LAST-MODIFIED:20230712T204456Z
UID:10001115-1706176800-1706180400@westoverepiscopalchurch.org
SUMMARY:Gentle Yoga with Rev. Becky
DESCRIPTION:
URL:https://westoverepiscopalchurch.org/event/gentle-yoga-with-rev-becky-3/2024-01-25/
END:VEVENT
BEGIN:VEVENT
DTSTART;TZID=America/New_York:20240126T090000
DTEND;TZID=America/New_York:20240126T110000
DTSTAMP:20260425T112734
CREATED:20230113T145846Z
LAST-MODIFIED:20230113T145846Z
UID:10002590-1706259600-1706266800@westoverepiscopalchurch.org
SUMMARY:Meals on Wheels
DESCRIPTION:Meals On Wheels (MOW) serves hot\, nutritious meals to the homebound elderly and/or disabled Monday through Friday.
URL:https://westoverepiscopalchurch.org/event/meals-on-wheels/2024-01-26/
END:VEVENT
BEGIN:VEVENT
DTSTART;TZID=America/New_York:20240126T090000
DTEND;TZID=America/New_York:20240126T110000
DTSTAMP:20260425T112734
CREATED:20240105T180517Z
LAST-MODIFIED:20240105T180520Z
UID:10001204-1706259600-1706266800@westoverepiscopalchurch.org
SUMMARY:Meals on Wheels
DESCRIPTION:
URL:https://westoverepiscopalchurch.org/event/meals-on-wheels-3-2/2024-01-26/
END:VEVENT
BEGIN:VEVENT
DTSTART;TZID=America/New_York:20240128T100000
DTEND;TZID=America/New_York:20240128T110000
DTSTAMP:20260425T112734
CREATED:20240105T175419Z
LAST-MODIFIED:20240105T175419Z
UID:10001183-1706436000-1706439600@westoverepiscopalchurch.org
SUMMARY:Fourth Sunday after the Epiphany Service
DESCRIPTION:
URL:https://westoverepiscopalchurch.org/event/fourth-sunday-after-the-epiphany-service/
LOCATION:Westover Episcopal Church\, 6401 John Tyler Hwy.\, Charles City\, VA\, 23030\, United States
END:VEVENT
BEGIN:VEVENT
DTSTART;TZID=America/New_York:20240129T090000
DTEND;TZID=America/New_York:20240129T110000
DTSTAMP:20260425T112734
CREATED:20230113T145846Z
LAST-MODIFIED:20230113T145846Z
UID:10002591-1706518800-1706526000@westoverepiscopalchurch.org
SUMMARY:Meals on Wheels
DESCRIPTION:Meals On Wheels (MOW) serves hot\, nutritious meals to the homebound elderly and/or disabled Monday through Friday.
URL:https://westoverepiscopalchurch.org/event/meals-on-wheels/2024-01-29/
END:VEVENT
BEGIN:VEVENT
DTSTART;TZID=America/New_York:20240129T090000
DTEND;TZID=America/New_York:20240129T110000
DTSTAMP:20260425T112734
CREATED:20240105T180517Z
LAST-MODIFIED:20240105T180520Z
UID:10001205-1706518800-1706526000@westoverepiscopalchurch.org
SUMMARY:Meals on Wheels
DESCRIPTION:
URL:https://westoverepiscopalchurch.org/event/meals-on-wheels-3-2/2024-01-29/
END:VEVENT
BEGIN:VEVENT
DTSTART;TZID=America/New_York:20240130T090000
DTEND;TZID=America/New_York:20240130T110000
DTSTAMP:20260425T112734
CREATED:20230113T145846Z
LAST-MODIFIED:20230113T145846Z
UID:10002592-1706605200-1706612400@westoverepiscopalchurch.org
SUMMARY:Meals on Wheels
DESCRIPTION:Meals On Wheels (MOW) serves hot\, nutritious meals to the homebound elderly and/or disabled Monday through Friday.
URL:https://westoverepiscopalchurch.org/event/meals-on-wheels/2024-01-30/
END:VEVENT
BEGIN:VEVENT
DTSTART;TZID=America/New_York:20240130T090000
DTEND;TZID=America/New_York:20240130T110000
DTSTAMP:20260425T112734
CREATED:20240105T180517Z
LAST-MODIFIED:20240105T180520Z
UID:10001206-1706605200-1706612400@westoverepiscopalchurch.org
SUMMARY:Meals on Wheels
DESCRIPTION:
URL:https://westoverepiscopalchurch.org/event/meals-on-wheels-3-2/2024-01-30/
END:VEVENT
BEGIN:VEVENT
DTSTART;TZID=America/New_York:20240131T090000
DTEND;TZID=America/New_York:20240131T110000
DTSTAMP:20260425T112734
CREATED:20230113T145846Z
LAST-MODIFIED:20230113T145846Z
UID:10002593-1706691600-1706698800@westoverepiscopalchurch.org
SUMMARY:Meals on Wheels
DESCRIPTION:Meals On Wheels (MOW) serves hot\, nutritious meals to the homebound elderly and/or disabled Monday through Friday.
URL:https://westoverepiscopalchurch.org/event/meals-on-wheels/2024-01-31/
END:VEVENT
BEGIN:VEVENT
DTSTART;TZID=America/New_York:20240131T090000
DTEND;TZID=America/New_York:20240131T110000
DTSTAMP:20260425T112734
CREATED:20240105T180517Z
LAST-MODIFIED:20240105T180520Z
UID:10001207-1706691600-1706698800@westoverepiscopalchurch.org
SUMMARY:Meals on Wheels
DESCRIPTION:
URL:https://westoverepiscopalchurch.org/event/meals-on-wheels-3-2/2024-01-31/
END:VEVENT
BEGIN:VEVENT
DTSTART;TZID=America/New_York:20240201T090000
DTEND;TZID=America/New_York:20240201T110000
DTSTAMP:20260425T112734
CREATED:20230113T145846Z
LAST-MODIFIED:20230113T145846Z
UID:10002594-1706778000-1706785200@westoverepiscopalchurch.org
SUMMARY:Meals on Wheels
DESCRIPTION:Meals On Wheels (MOW) serves hot\, nutritious meals to the homebound elderly and/or disabled Monday through Friday.
URL:https://westoverepiscopalchurch.org/event/meals-on-wheels/2024-02-01/
END:VEVENT
BEGIN:VEVENT
DTSTART;TZID=America/New_York:20240201T090000
DTEND;TZID=America/New_York:20240201T110000
DTSTAMP:20260425T112734
CREATED:20240105T180517Z
LAST-MODIFIED:20240105T180520Z
UID:10001208-1706778000-1706785200@westoverepiscopalchurch.org
SUMMARY:Meals on Wheels
DESCRIPTION:
URL:https://westoverepiscopalchurch.org/event/meals-on-wheels-3-2/2024-02-01/
END:VEVENT
BEGIN:VEVENT
DTSTART;TZID=America/New_York:20240201T100000
DTEND;TZID=America/New_York:20240201T110000
DTSTAMP:20260425T112734
CREATED:20230712T204456Z
LAST-MODIFIED:20230712T204456Z
UID:10001116-1706781600-1706785200@westoverepiscopalchurch.org
SUMMARY:Gentle Yoga with Rev. Becky
DESCRIPTION:
URL:https://westoverepiscopalchurch.org/event/gentle-yoga-with-rev-becky-3/2024-02-01/
END:VEVENT
BEGIN:VEVENT
DTSTART;TZID=America/New_York:20240202T090000
DTEND;TZID=America/New_York:20240202T110000
DTSTAMP:20260425T112734
CREATED:20230113T145846Z
LAST-MODIFIED:20230113T145846Z
UID:10002595-1706864400-1706871600@westoverepiscopalchurch.org
SUMMARY:Meals on Wheels
DESCRIPTION:Meals On Wheels (MOW) serves hot\, nutritious meals to the homebound elderly and/or disabled Monday through Friday.
URL:https://westoverepiscopalchurch.org/event/meals-on-wheels/2024-02-02/
END:VEVENT
BEGIN:VEVENT
DTSTART;TZID=America/New_York:20240202T090000
DTEND;TZID=America/New_York:20240202T110000
DTSTAMP:20260425T112734
CREATED:20240105T180517Z
LAST-MODIFIED:20240105T180520Z
UID:10001209-1706864400-1706871600@westoverepiscopalchurch.org
SUMMARY:Meals on Wheels
DESCRIPTION:
URL:https://westoverepiscopalchurch.org/event/meals-on-wheels-3-2/2024-02-02/
END:VEVENT
END:VCALENDAR