BEGIN:VCALENDAR
VERSION:2.0
PRODID:-//Westover Episcopal Church - Charles City, VA - ECPv6.15.20//NONSGML v1.0//EN
CALSCALE:GREGORIAN
METHOD:PUBLISH
X-WR-CALNAME:Westover Episcopal Church - Charles City, VA
X-ORIGINAL-URL:https://westoverepiscopalchurch.org
X-WR-CALDESC:Events for Westover Episcopal Church - Charles City, VA
REFRESH-INTERVAL;VALUE=DURATION:PT1H
X-Robots-Tag:noindex
X-PUBLISHED-TTL:PT1H
BEGIN:VTIMEZONE
TZID:America/New_York
BEGIN:DAYLIGHT
TZOFFSETFROM:-0500
TZOFFSETTO:-0400
TZNAME:EDT
DTSTART:20270314T070000
END:DAYLIGHT
BEGIN:STANDARD
TZOFFSETFROM:-0400
TZOFFSETTO:-0500
TZNAME:EST
DTSTART:20271107T060000
END:STANDARD
BEGIN:DAYLIGHT
TZOFFSETFROM:-0500
TZOFFSETTO:-0400
TZNAME:EDT
DTSTART:20280312T070000
END:DAYLIGHT
BEGIN:STANDARD
TZOFFSETFROM:-0400
TZOFFSETTO:-0500
TZNAME:EST
DTSTART:20281105T060000
END:STANDARD
BEGIN:DAYLIGHT
TZOFFSETFROM:-0500
TZOFFSETTO:-0400
TZNAME:EDT
DTSTART:20290311T070000
END:DAYLIGHT
BEGIN:STANDARD
TZOFFSETFROM:-0400
TZOFFSETTO:-0500
TZNAME:EST
DTSTART:20291104T060000
END:STANDARD
END:VTIMEZONE
BEGIN:VEVENT
DTSTART;TZID=America/New_York:20280905T090000
DTEND;TZID=America/New_York:20280905T110000
DTSTAMP:20260425T112826
CREATED:20230113T145846Z
LAST-MODIFIED:20230113T145846Z
UID:10003792-1851757200-1851764400@westoverepiscopalchurch.org
SUMMARY:Meals on Wheels
DESCRIPTION:Meals On Wheels (MOW) serves hot\, nutritious meals to the homebound elderly and/or disabled Monday through Friday.
URL:https://westoverepiscopalchurch.org/event/meals-on-wheels/2028-09-05/
END:VEVENT
BEGIN:VEVENT
DTSTART;TZID=America/New_York:20280906T090000
DTEND;TZID=America/New_York:20280906T110000
DTSTAMP:20260425T112826
CREATED:20230113T145846Z
LAST-MODIFIED:20230113T145846Z
UID:10003793-1851843600-1851850800@westoverepiscopalchurch.org
SUMMARY:Meals on Wheels
DESCRIPTION:Meals On Wheels (MOW) serves hot\, nutritious meals to the homebound elderly and/or disabled Monday through Friday.
URL:https://westoverepiscopalchurch.org/event/meals-on-wheels/2028-09-06/
END:VEVENT
BEGIN:VEVENT
DTSTART;TZID=America/New_York:20280907T090000
DTEND;TZID=America/New_York:20280907T110000
DTSTAMP:20260425T112826
CREATED:20230113T145846Z
LAST-MODIFIED:20230113T145846Z
UID:10003794-1851930000-1851937200@westoverepiscopalchurch.org
SUMMARY:Meals on Wheels
DESCRIPTION:Meals On Wheels (MOW) serves hot\, nutritious meals to the homebound elderly and/or disabled Monday through Friday.
URL:https://westoverepiscopalchurch.org/event/meals-on-wheels/2028-09-07/
END:VEVENT
BEGIN:VEVENT
DTSTART;TZID=America/New_York:20280908T090000
DTEND;TZID=America/New_York:20280908T110000
DTSTAMP:20260425T112826
CREATED:20230113T145846Z
LAST-MODIFIED:20230113T145846Z
UID:10003795-1852016400-1852023600@westoverepiscopalchurch.org
SUMMARY:Meals on Wheels
DESCRIPTION:Meals On Wheels (MOW) serves hot\, nutritious meals to the homebound elderly and/or disabled Monday through Friday.
URL:https://westoverepiscopalchurch.org/event/meals-on-wheels/2028-09-08/
END:VEVENT
BEGIN:VEVENT
DTSTART;TZID=America/New_York:20280911T090000
DTEND;TZID=America/New_York:20280911T110000
DTSTAMP:20260425T112826
CREATED:20230113T145846Z
LAST-MODIFIED:20230113T145846Z
UID:10003796-1852275600-1852282800@westoverepiscopalchurch.org
SUMMARY:Meals on Wheels
DESCRIPTION:Meals On Wheels (MOW) serves hot\, nutritious meals to the homebound elderly and/or disabled Monday through Friday.
URL:https://westoverepiscopalchurch.org/event/meals-on-wheels/2028-09-11/
END:VEVENT
BEGIN:VEVENT
DTSTART;TZID=America/New_York:20280912T090000
DTEND;TZID=America/New_York:20280912T110000
DTSTAMP:20260425T112826
CREATED:20230113T145846Z
LAST-MODIFIED:20230113T145846Z
UID:10003797-1852362000-1852369200@westoverepiscopalchurch.org
SUMMARY:Meals on Wheels
DESCRIPTION:Meals On Wheels (MOW) serves hot\, nutritious meals to the homebound elderly and/or disabled Monday through Friday.
URL:https://westoverepiscopalchurch.org/event/meals-on-wheels/2028-09-12/
END:VEVENT
BEGIN:VEVENT
DTSTART;TZID=America/New_York:20280913T090000
DTEND;TZID=America/New_York:20280913T110000
DTSTAMP:20260425T112826
CREATED:20230113T145846Z
LAST-MODIFIED:20230113T145846Z
UID:10003798-1852448400-1852455600@westoverepiscopalchurch.org
SUMMARY:Meals on Wheels
DESCRIPTION:Meals On Wheels (MOW) serves hot\, nutritious meals to the homebound elderly and/or disabled Monday through Friday.
URL:https://westoverepiscopalchurch.org/event/meals-on-wheels/2028-09-13/
END:VEVENT
BEGIN:VEVENT
DTSTART;TZID=America/New_York:20280914T090000
DTEND;TZID=America/New_York:20280914T110000
DTSTAMP:20260425T112826
CREATED:20230113T145846Z
LAST-MODIFIED:20230113T145846Z
UID:10003799-1852534800-1852542000@westoverepiscopalchurch.org
SUMMARY:Meals on Wheels
DESCRIPTION:Meals On Wheels (MOW) serves hot\, nutritious meals to the homebound elderly and/or disabled Monday through Friday.
URL:https://westoverepiscopalchurch.org/event/meals-on-wheels/2028-09-14/
END:VEVENT
BEGIN:VEVENT
DTSTART;TZID=America/New_York:20280915T090000
DTEND;TZID=America/New_York:20280915T110000
DTSTAMP:20260425T112826
CREATED:20230113T145846Z
LAST-MODIFIED:20230113T145846Z
UID:10003800-1852621200-1852628400@westoverepiscopalchurch.org
SUMMARY:Meals on Wheels
DESCRIPTION:Meals On Wheels (MOW) serves hot\, nutritious meals to the homebound elderly and/or disabled Monday through Friday.
URL:https://westoverepiscopalchurch.org/event/meals-on-wheels/2028-09-15/
END:VEVENT
BEGIN:VEVENT
DTSTART;TZID=America/New_York:20280918T090000
DTEND;TZID=America/New_York:20280918T110000
DTSTAMP:20260425T112826
CREATED:20230113T145846Z
LAST-MODIFIED:20230113T145846Z
UID:10003801-1852880400-1852887600@westoverepiscopalchurch.org
SUMMARY:Meals on Wheels
DESCRIPTION:Meals On Wheels (MOW) serves hot\, nutritious meals to the homebound elderly and/or disabled Monday through Friday.
URL:https://westoverepiscopalchurch.org/event/meals-on-wheels/2028-09-18/
END:VEVENT
BEGIN:VEVENT
DTSTART;TZID=America/New_York:20280919T090000
DTEND;TZID=America/New_York:20280919T110000
DTSTAMP:20260425T112826
CREATED:20230113T145846Z
LAST-MODIFIED:20230113T145846Z
UID:10003802-1852966800-1852974000@westoverepiscopalchurch.org
SUMMARY:Meals on Wheels
DESCRIPTION:Meals On Wheels (MOW) serves hot\, nutritious meals to the homebound elderly and/or disabled Monday through Friday.
URL:https://westoverepiscopalchurch.org/event/meals-on-wheels/2028-09-19/
END:VEVENT
BEGIN:VEVENT
DTSTART;TZID=America/New_York:20280920T090000
DTEND;TZID=America/New_York:20280920T110000
DTSTAMP:20260425T112826
CREATED:20230113T145846Z
LAST-MODIFIED:20230113T145846Z
UID:10003803-1853053200-1853060400@westoverepiscopalchurch.org
SUMMARY:Meals on Wheels
DESCRIPTION:Meals On Wheels (MOW) serves hot\, nutritious meals to the homebound elderly and/or disabled Monday through Friday.
URL:https://westoverepiscopalchurch.org/event/meals-on-wheels/2028-09-20/
END:VEVENT
BEGIN:VEVENT
DTSTART;TZID=America/New_York:20280921T090000
DTEND;TZID=America/New_York:20280921T110000
DTSTAMP:20260425T112826
CREATED:20230113T145846Z
LAST-MODIFIED:20230113T145846Z
UID:10003804-1853139600-1853146800@westoverepiscopalchurch.org
SUMMARY:Meals on Wheels
DESCRIPTION:Meals On Wheels (MOW) serves hot\, nutritious meals to the homebound elderly and/or disabled Monday through Friday.
URL:https://westoverepiscopalchurch.org/event/meals-on-wheels/2028-09-21/
END:VEVENT
BEGIN:VEVENT
DTSTART;TZID=America/New_York:20280922T090000
DTEND;TZID=America/New_York:20280922T110000
DTSTAMP:20260425T112826
CREATED:20230113T145846Z
LAST-MODIFIED:20230113T145846Z
UID:10003805-1853226000-1853233200@westoverepiscopalchurch.org
SUMMARY:Meals on Wheels
DESCRIPTION:Meals On Wheels (MOW) serves hot\, nutritious meals to the homebound elderly and/or disabled Monday through Friday.
URL:https://westoverepiscopalchurch.org/event/meals-on-wheels/2028-09-22/
END:VEVENT
BEGIN:VEVENT
DTSTART;TZID=America/New_York:20280925T090000
DTEND;TZID=America/New_York:20280925T110000
DTSTAMP:20260425T112826
CREATED:20230113T145846Z
LAST-MODIFIED:20230113T145846Z
UID:10003806-1853485200-1853492400@westoverepiscopalchurch.org
SUMMARY:Meals on Wheels
DESCRIPTION:Meals On Wheels (MOW) serves hot\, nutritious meals to the homebound elderly and/or disabled Monday through Friday.
URL:https://westoverepiscopalchurch.org/event/meals-on-wheels/2028-09-25/
END:VEVENT
BEGIN:VEVENT
DTSTART;TZID=America/New_York:20280926T090000
DTEND;TZID=America/New_York:20280926T110000
DTSTAMP:20260425T112826
CREATED:20230113T145846Z
LAST-MODIFIED:20230113T145846Z
UID:10003807-1853571600-1853578800@westoverepiscopalchurch.org
SUMMARY:Meals on Wheels
DESCRIPTION:Meals On Wheels (MOW) serves hot\, nutritious meals to the homebound elderly and/or disabled Monday through Friday.
URL:https://westoverepiscopalchurch.org/event/meals-on-wheels/2028-09-26/
END:VEVENT
BEGIN:VEVENT
DTSTART;TZID=America/New_York:20280927T090000
DTEND;TZID=America/New_York:20280927T110000
DTSTAMP:20260425T112826
CREATED:20230113T145846Z
LAST-MODIFIED:20230113T145846Z
UID:10003808-1853658000-1853665200@westoverepiscopalchurch.org
SUMMARY:Meals on Wheels
DESCRIPTION:Meals On Wheels (MOW) serves hot\, nutritious meals to the homebound elderly and/or disabled Monday through Friday.
URL:https://westoverepiscopalchurch.org/event/meals-on-wheels/2028-09-27/
END:VEVENT
BEGIN:VEVENT
DTSTART;TZID=America/New_York:20280928T090000
DTEND;TZID=America/New_York:20280928T110000
DTSTAMP:20260425T112826
CREATED:20230113T145846Z
LAST-MODIFIED:20230113T145846Z
UID:10003809-1853744400-1853751600@westoverepiscopalchurch.org
SUMMARY:Meals on Wheels
DESCRIPTION:Meals On Wheels (MOW) serves hot\, nutritious meals to the homebound elderly and/or disabled Monday through Friday.
URL:https://westoverepiscopalchurch.org/event/meals-on-wheels/2028-09-28/
END:VEVENT
BEGIN:VEVENT
DTSTART;TZID=America/New_York:20280929T090000
DTEND;TZID=America/New_York:20280929T110000
DTSTAMP:20260425T112826
CREATED:20230113T145846Z
LAST-MODIFIED:20230113T145846Z
UID:10003810-1853830800-1853838000@westoverepiscopalchurch.org
SUMMARY:Meals on Wheels
DESCRIPTION:Meals On Wheels (MOW) serves hot\, nutritious meals to the homebound elderly and/or disabled Monday through Friday.
URL:https://westoverepiscopalchurch.org/event/meals-on-wheels/2028-09-29/
END:VEVENT
BEGIN:VEVENT
DTSTART;TZID=America/New_York:20281002T090000
DTEND;TZID=America/New_York:20281002T110000
DTSTAMP:20260425T112826
CREATED:20230113T145846Z
LAST-MODIFIED:20230113T145846Z
UID:10003811-1854090000-1854097200@westoverepiscopalchurch.org
SUMMARY:Meals on Wheels
DESCRIPTION:Meals On Wheels (MOW) serves hot\, nutritious meals to the homebound elderly and/or disabled Monday through Friday.
URL:https://westoverepiscopalchurch.org/event/meals-on-wheels/2028-10-02/
END:VEVENT
BEGIN:VEVENT
DTSTART;TZID=America/New_York:20281003T090000
DTEND;TZID=America/New_York:20281003T110000
DTSTAMP:20260425T112826
CREATED:20230113T145846Z
LAST-MODIFIED:20230113T145846Z
UID:10003812-1854176400-1854183600@westoverepiscopalchurch.org
SUMMARY:Meals on Wheels
DESCRIPTION:Meals On Wheels (MOW) serves hot\, nutritious meals to the homebound elderly and/or disabled Monday through Friday.
URL:https://westoverepiscopalchurch.org/event/meals-on-wheels/2028-10-03/
END:VEVENT
BEGIN:VEVENT
DTSTART;TZID=America/New_York:20281004T090000
DTEND;TZID=America/New_York:20281004T110000
DTSTAMP:20260425T112826
CREATED:20230113T145846Z
LAST-MODIFIED:20230113T145846Z
UID:10003813-1854262800-1854270000@westoverepiscopalchurch.org
SUMMARY:Meals on Wheels
DESCRIPTION:Meals On Wheels (MOW) serves hot\, nutritious meals to the homebound elderly and/or disabled Monday through Friday.
URL:https://westoverepiscopalchurch.org/event/meals-on-wheels/2028-10-04/
END:VEVENT
BEGIN:VEVENT
DTSTART;TZID=America/New_York:20281005T090000
DTEND;TZID=America/New_York:20281005T110000
DTSTAMP:20260425T112826
CREATED:20230113T145846Z
LAST-MODIFIED:20230113T145846Z
UID:10003814-1854349200-1854356400@westoverepiscopalchurch.org
SUMMARY:Meals on Wheels
DESCRIPTION:Meals On Wheels (MOW) serves hot\, nutritious meals to the homebound elderly and/or disabled Monday through Friday.
URL:https://westoverepiscopalchurch.org/event/meals-on-wheels/2028-10-05/
END:VEVENT
BEGIN:VEVENT
DTSTART;TZID=America/New_York:20281006T090000
DTEND;TZID=America/New_York:20281006T110000
DTSTAMP:20260425T112826
CREATED:20230113T145846Z
LAST-MODIFIED:20230113T145846Z
UID:10003815-1854435600-1854442800@westoverepiscopalchurch.org
SUMMARY:Meals on Wheels
DESCRIPTION:Meals On Wheels (MOW) serves hot\, nutritious meals to the homebound elderly and/or disabled Monday through Friday.
URL:https://westoverepiscopalchurch.org/event/meals-on-wheels/2028-10-06/
END:VEVENT
BEGIN:VEVENT
DTSTART;TZID=America/New_York:20281009T090000
DTEND;TZID=America/New_York:20281009T110000
DTSTAMP:20260425T112826
CREATED:20230113T145846Z
LAST-MODIFIED:20230113T145846Z
UID:10003816-1854694800-1854702000@westoverepiscopalchurch.org
SUMMARY:Meals on Wheels
DESCRIPTION:Meals On Wheels (MOW) serves hot\, nutritious meals to the homebound elderly and/or disabled Monday through Friday.
URL:https://westoverepiscopalchurch.org/event/meals-on-wheels/2028-10-09/
END:VEVENT
BEGIN:VEVENT
DTSTART;TZID=America/New_York:20281010T090000
DTEND;TZID=America/New_York:20281010T110000
DTSTAMP:20260425T112826
CREATED:20230113T145846Z
LAST-MODIFIED:20230113T145846Z
UID:10003817-1854781200-1854788400@westoverepiscopalchurch.org
SUMMARY:Meals on Wheels
DESCRIPTION:Meals On Wheels (MOW) serves hot\, nutritious meals to the homebound elderly and/or disabled Monday through Friday.
URL:https://westoverepiscopalchurch.org/event/meals-on-wheels/2028-10-10/
END:VEVENT
BEGIN:VEVENT
DTSTART;TZID=America/New_York:20281011T090000
DTEND;TZID=America/New_York:20281011T110000
DTSTAMP:20260425T112826
CREATED:20230113T145846Z
LAST-MODIFIED:20230113T145846Z
UID:10003818-1854867600-1854874800@westoverepiscopalchurch.org
SUMMARY:Meals on Wheels
DESCRIPTION:Meals On Wheels (MOW) serves hot\, nutritious meals to the homebound elderly and/or disabled Monday through Friday.
URL:https://westoverepiscopalchurch.org/event/meals-on-wheels/2028-10-11/
END:VEVENT
BEGIN:VEVENT
DTSTART;TZID=America/New_York:20281012T090000
DTEND;TZID=America/New_York:20281012T110000
DTSTAMP:20260425T112826
CREATED:20230113T145846Z
LAST-MODIFIED:20230113T145846Z
UID:10003819-1854954000-1854961200@westoverepiscopalchurch.org
SUMMARY:Meals on Wheels
DESCRIPTION:Meals On Wheels (MOW) serves hot\, nutritious meals to the homebound elderly and/or disabled Monday through Friday.
URL:https://westoverepiscopalchurch.org/event/meals-on-wheels/2028-10-12/
END:VEVENT
BEGIN:VEVENT
DTSTART;TZID=America/New_York:20281013T090000
DTEND;TZID=America/New_York:20281013T110000
DTSTAMP:20260425T112826
CREATED:20230113T145846Z
LAST-MODIFIED:20230113T145846Z
UID:10003820-1855040400-1855047600@westoverepiscopalchurch.org
SUMMARY:Meals on Wheels
DESCRIPTION:Meals On Wheels (MOW) serves hot\, nutritious meals to the homebound elderly and/or disabled Monday through Friday.
URL:https://westoverepiscopalchurch.org/event/meals-on-wheels/2028-10-13/
END:VEVENT
BEGIN:VEVENT
DTSTART;TZID=America/New_York:20281016T090000
DTEND;TZID=America/New_York:20281016T110000
DTSTAMP:20260425T112826
CREATED:20230113T145846Z
LAST-MODIFIED:20230113T145846Z
UID:10003821-1855299600-1855306800@westoverepiscopalchurch.org
SUMMARY:Meals on Wheels
DESCRIPTION:Meals On Wheels (MOW) serves hot\, nutritious meals to the homebound elderly and/or disabled Monday through Friday.
URL:https://westoverepiscopalchurch.org/event/meals-on-wheels/2028-10-16/
END:VEVENT
END:VCALENDAR