BEGIN:VCALENDAR
VERSION:2.0
PRODID:-//Westover Episcopal Church - Charles City, VA - ECPv6.15.20//NONSGML v1.0//EN
CALSCALE:GREGORIAN
METHOD:PUBLISH
X-ORIGINAL-URL:https://westoverepiscopalchurch.org
X-WR-CALDESC:Events for Westover Episcopal Church - Charles City, VA
REFRESH-INTERVAL;VALUE=DURATION:PT1H
X-Robots-Tag:noindex
X-PUBLISHED-TTL:PT1H
BEGIN:VTIMEZONE
TZID:America/New_York
BEGIN:DAYLIGHT
TZOFFSETFROM:-0500
TZOFFSETTO:-0400
TZNAME:EDT
DTSTART:20220313T070000
END:DAYLIGHT
BEGIN:STANDARD
TZOFFSETFROM:-0400
TZOFFSETTO:-0500
TZNAME:EST
DTSTART:20221106T060000
END:STANDARD
BEGIN:DAYLIGHT
TZOFFSETFROM:-0500
TZOFFSETTO:-0400
TZNAME:EDT
DTSTART:20230312T070000
END:DAYLIGHT
BEGIN:STANDARD
TZOFFSETFROM:-0400
TZOFFSETTO:-0500
TZNAME:EST
DTSTART:20231105T060000
END:STANDARD
BEGIN:DAYLIGHT
TZOFFSETFROM:-0500
TZOFFSETTO:-0400
TZNAME:EDT
DTSTART:20240310T070000
END:DAYLIGHT
BEGIN:STANDARD
TZOFFSETFROM:-0400
TZOFFSETTO:-0500
TZNAME:EST
DTSTART:20241103T060000
END:STANDARD
BEGIN:DAYLIGHT
TZOFFSETFROM:-0500
TZOFFSETTO:-0400
TZNAME:EDT
DTSTART:20250309T070000
END:DAYLIGHT
BEGIN:STANDARD
TZOFFSETFROM:-0400
TZOFFSETTO:-0500
TZNAME:EST
DTSTART:20251102T060000
END:STANDARD
END:VTIMEZONE
BEGIN:VEVENT
DTSTART;TZID=America/New_York:20231222T090000
DTEND;TZID=America/New_York:20231222T110000
DTSTAMP:20260425T112225
CREATED:20230113T145846Z
LAST-MODIFIED:20230113T145846Z
UID:10000973-1703235600-1703242800@westoverepiscopalchurch.org
SUMMARY:Meals on Wheels
DESCRIPTION:Meals On Wheels (MOW) serves hot\, nutritious meals to the homebound elderly and/or disabled Monday through Friday.
URL:https://westoverepiscopalchurch.org/event/meals-on-wheels/2023-12-22/
END:VEVENT
BEGIN:VEVENT
DTSTART;TZID=America/New_York:20231224T100000
DTEND;TZID=America/New_York:20231224T110000
DTSTAMP:20260425T112225
CREATED:20230925T205131Z
LAST-MODIFIED:20230925T205131Z
UID:10001173-1703412000-1703415600@westoverepiscopalchurch.org
SUMMARY:No 10:00AM Service Today
DESCRIPTION:There is only one service today at 5:30PM
URL:https://westoverepiscopalchurch.org/event/no-1000am-service-today-2/
LOCATION:Westover Episcopal Church\, 6401 John Tyler Hwy.\, Charles City\, VA\, 23030\, United States
END:VEVENT
BEGIN:VEVENT
DTSTART;TZID=America/New_York:20231224T173000
DTEND;TZID=America/New_York:20231224T190000
DTSTAMP:20260425T112225
CREATED:20230925T205216Z
LAST-MODIFIED:20230925T205216Z
UID:10001174-1703439000-1703444400@westoverepiscopalchurch.org
SUMMARY:Fourth Sunday of Advent and Christmas Eve Service
DESCRIPTION:
URL:https://westoverepiscopalchurch.org/event/fourth-sunday-of-advent-and-christmas-eve-service/
END:VEVENT
BEGIN:VEVENT
DTSTART;TZID=America/New_York:20231225T090000
DTEND;TZID=America/New_York:20231225T110000
DTSTAMP:20260425T112225
CREATED:20230113T145846Z
LAST-MODIFIED:20230113T145846Z
UID:10000974-1703494800-1703502000@westoverepiscopalchurch.org
SUMMARY:Meals on Wheels
DESCRIPTION:Meals On Wheels (MOW) serves hot\, nutritious meals to the homebound elderly and/or disabled Monday through Friday.
URL:https://westoverepiscopalchurch.org/event/meals-on-wheels/2023-12-25/
END:VEVENT
BEGIN:VEVENT
DTSTART;TZID=America/New_York:20231226T090000
DTEND;TZID=America/New_York:20231226T110000
DTSTAMP:20260425T112225
CREATED:20230113T145846Z
LAST-MODIFIED:20230113T145846Z
UID:10000975-1703581200-1703588400@westoverepiscopalchurch.org
SUMMARY:Meals on Wheels
DESCRIPTION:Meals On Wheels (MOW) serves hot\, nutritious meals to the homebound elderly and/or disabled Monday through Friday.
URL:https://westoverepiscopalchurch.org/event/meals-on-wheels/2023-12-26/
END:VEVENT
BEGIN:VEVENT
DTSTART;TZID=America/New_York:20231227T090000
DTEND;TZID=America/New_York:20231227T110000
DTSTAMP:20260425T112225
CREATED:20230113T145846Z
LAST-MODIFIED:20230113T145846Z
UID:10000976-1703667600-1703674800@westoverepiscopalchurch.org
SUMMARY:Meals on Wheels
DESCRIPTION:Meals On Wheels (MOW) serves hot\, nutritious meals to the homebound elderly and/or disabled Monday through Friday.
URL:https://westoverepiscopalchurch.org/event/meals-on-wheels/2023-12-27/
END:VEVENT
BEGIN:VEVENT
DTSTART;TZID=America/New_York:20231228T090000
DTEND;TZID=America/New_York:20231228T110000
DTSTAMP:20260425T112225
CREATED:20230113T145846Z
LAST-MODIFIED:20230113T145846Z
UID:10000977-1703754000-1703761200@westoverepiscopalchurch.org
SUMMARY:Meals on Wheels
DESCRIPTION:Meals On Wheels (MOW) serves hot\, nutritious meals to the homebound elderly and/or disabled Monday through Friday.
URL:https://westoverepiscopalchurch.org/event/meals-on-wheels/2023-12-28/
END:VEVENT
BEGIN:VEVENT
DTSTART;TZID=America/New_York:20231228T100000
DTEND;TZID=America/New_York:20231228T110000
DTSTAMP:20260425T112225
CREATED:20230712T204456Z
LAST-MODIFIED:20230712T204456Z
UID:10001111-1703757600-1703761200@westoverepiscopalchurch.org
SUMMARY:Gentle Yoga with Rev. Becky
DESCRIPTION:
URL:https://westoverepiscopalchurch.org/event/gentle-yoga-with-rev-becky-3/2023-12-28/
END:VEVENT
BEGIN:VEVENT
DTSTART;TZID=America/New_York:20231229T090000
DTEND;TZID=America/New_York:20231229T110000
DTSTAMP:20260425T112225
CREATED:20230113T145846Z
LAST-MODIFIED:20230113T145846Z
UID:10000978-1703840400-1703847600@westoverepiscopalchurch.org
SUMMARY:Meals on Wheels
DESCRIPTION:Meals On Wheels (MOW) serves hot\, nutritious meals to the homebound elderly and/or disabled Monday through Friday.
URL:https://westoverepiscopalchurch.org/event/meals-on-wheels/2023-12-29/
END:VEVENT
BEGIN:VEVENT
DTSTART;TZID=America/New_York:20231231T100000
DTEND;TZID=America/New_York:20231231T110000
DTSTAMP:20260425T112225
CREATED:20240105T174941Z
LAST-MODIFIED:20240105T174941Z
UID:10001179-1704016800-1704020400@westoverepiscopalchurch.org
SUMMARY:Christmas Lessons and Carols
DESCRIPTION:
URL:https://westoverepiscopalchurch.org/event/christmas-lessons-and-carols-3/
LOCATION:Westover Episcopal Church\, 6401 John Tyler Hwy.\, Charles City\, VA\, 23030\, United States
END:VEVENT
BEGIN:VEVENT
DTSTART;TZID=America/New_York:20240101T090000
DTEND;TZID=America/New_York:20240101T110000
DTSTAMP:20260425T112225
CREATED:20230113T145846Z
LAST-MODIFIED:20230113T145846Z
UID:10000979-1704099600-1704106800@westoverepiscopalchurch.org
SUMMARY:Meals on Wheels
DESCRIPTION:Meals On Wheels (MOW) serves hot\, nutritious meals to the homebound elderly and/or disabled Monday through Friday.
URL:https://westoverepiscopalchurch.org/event/meals-on-wheels/2024-01-01/
END:VEVENT
BEGIN:VEVENT
DTSTART;TZID=America/New_York:20240102T090000
DTEND;TZID=America/New_York:20240102T110000
DTSTAMP:20260425T112225
CREATED:20230113T145846Z
LAST-MODIFIED:20230113T145846Z
UID:10000980-1704186000-1704193200@westoverepiscopalchurch.org
SUMMARY:Meals on Wheels
DESCRIPTION:Meals On Wheels (MOW) serves hot\, nutritious meals to the homebound elderly and/or disabled Monday through Friday.
URL:https://westoverepiscopalchurch.org/event/meals-on-wheels/2024-01-02/
END:VEVENT
BEGIN:VEVENT
DTSTART;TZID=America/New_York:20240103T090000
DTEND;TZID=America/New_York:20240103T110000
DTSTAMP:20260425T112225
CREATED:20230113T145846Z
LAST-MODIFIED:20230113T145846Z
UID:10000981-1704272400-1704279600@westoverepiscopalchurch.org
SUMMARY:Meals on Wheels
DESCRIPTION:Meals On Wheels (MOW) serves hot\, nutritious meals to the homebound elderly and/or disabled Monday through Friday.
URL:https://westoverepiscopalchurch.org/event/meals-on-wheels/2024-01-03/
END:VEVENT
BEGIN:VEVENT
DTSTART;TZID=America/New_York:20240104T090000
DTEND;TZID=America/New_York:20240104T110000
DTSTAMP:20260425T112225
CREATED:20230113T145846Z
LAST-MODIFIED:20230113T145846Z
UID:10000982-1704358800-1704366000@westoverepiscopalchurch.org
SUMMARY:Meals on Wheels
DESCRIPTION:Meals On Wheels (MOW) serves hot\, nutritious meals to the homebound elderly and/or disabled Monday through Friday.
URL:https://westoverepiscopalchurch.org/event/meals-on-wheels/2024-01-04/
END:VEVENT
BEGIN:VEVENT
DTSTART;TZID=America/New_York:20240104T100000
DTEND;TZID=America/New_York:20240104T110000
DTSTAMP:20260425T112225
CREATED:20230712T204456Z
LAST-MODIFIED:20230712T204456Z
UID:10001112-1704362400-1704366000@westoverepiscopalchurch.org
SUMMARY:Gentle Yoga with Rev. Becky
DESCRIPTION:
URL:https://westoverepiscopalchurch.org/event/gentle-yoga-with-rev-becky-3/2024-01-04/
END:VEVENT
BEGIN:VEVENT
DTSTART;TZID=America/New_York:20240105T090000
DTEND;TZID=America/New_York:20240105T100000
DTSTAMP:20260425T112225
CREATED:20240105T180356Z
LAST-MODIFIED:20240105T180356Z
UID:10001189-1704445200-1704448800@westoverepiscopalchurch.org
SUMMARY:Meals on Wheels
DESCRIPTION:
URL:https://westoverepiscopalchurch.org/event/meals-on-wheels-3/
END:VEVENT
BEGIN:VEVENT
DTSTART;TZID=America/New_York:20240105T090000
DTEND;TZID=America/New_York:20240105T110000
DTSTAMP:20260425T112225
CREATED:20230113T145846Z
LAST-MODIFIED:20230113T145846Z
UID:10000983-1704445200-1704452400@westoverepiscopalchurch.org
SUMMARY:Meals on Wheels
DESCRIPTION:Meals On Wheels (MOW) serves hot\, nutritious meals to the homebound elderly and/or disabled Monday through Friday.
URL:https://westoverepiscopalchurch.org/event/meals-on-wheels/2024-01-05/
END:VEVENT
BEGIN:VEVENT
DTSTART;TZID=America/New_York:20240107T100000
DTEND;TZID=America/New_York:20240107T110000
DTSTAMP:20260425T112225
CREATED:20240105T175038Z
LAST-MODIFIED:20240105T175038Z
UID:10001180-1704621600-1704625200@westoverepiscopalchurch.org
SUMMARY:The Feast of the Epiphany Service
DESCRIPTION:
URL:https://westoverepiscopalchurch.org/event/the-feast-of-the-epiphany-service/
LOCATION:Westover Episcopal Church\, 6401 John Tyler Hwy.\, Charles City\, VA\, 23030\, United States
END:VEVENT
BEGIN:VEVENT
DTSTART;TZID=America/New_York:20240108T090000
DTEND;TZID=America/New_York:20240108T110000
DTSTAMP:20260425T112225
CREATED:20230113T145846Z
LAST-MODIFIED:20230113T145846Z
UID:10000984-1704704400-1704711600@westoverepiscopalchurch.org
SUMMARY:Meals on Wheels
DESCRIPTION:Meals On Wheels (MOW) serves hot\, nutritious meals to the homebound elderly and/or disabled Monday through Friday.
URL:https://westoverepiscopalchurch.org/event/meals-on-wheels/2024-01-08/
END:VEVENT
BEGIN:VEVENT
DTSTART;TZID=America/New_York:20240109T090000
DTEND;TZID=America/New_York:20240109T110000
DTSTAMP:20260425T112225
CREATED:20230113T145846Z
LAST-MODIFIED:20230113T145846Z
UID:10000985-1704790800-1704798000@westoverepiscopalchurch.org
SUMMARY:Meals on Wheels
DESCRIPTION:Meals On Wheels (MOW) serves hot\, nutritious meals to the homebound elderly and/or disabled Monday through Friday.
URL:https://westoverepiscopalchurch.org/event/meals-on-wheels/2024-01-09/
END:VEVENT
BEGIN:VEVENT
DTSTART;TZID=America/New_York:20240110T090000
DTEND;TZID=America/New_York:20240110T110000
DTSTAMP:20260425T112225
CREATED:20230113T145846Z
LAST-MODIFIED:20230113T145846Z
UID:10000986-1704877200-1704884400@westoverepiscopalchurch.org
SUMMARY:Meals on Wheels
DESCRIPTION:Meals On Wheels (MOW) serves hot\, nutritious meals to the homebound elderly and/or disabled Monday through Friday.
URL:https://westoverepiscopalchurch.org/event/meals-on-wheels/2024-01-10/
END:VEVENT
BEGIN:VEVENT
DTSTART;TZID=America/New_York:20240111T090000
DTEND;TZID=America/New_York:20240111T110000
DTSTAMP:20260425T112225
CREATED:20230113T145846Z
LAST-MODIFIED:20230113T145846Z
UID:10000987-1704963600-1704970800@westoverepiscopalchurch.org
SUMMARY:Meals on Wheels
DESCRIPTION:Meals On Wheels (MOW) serves hot\, nutritious meals to the homebound elderly and/or disabled Monday through Friday.
URL:https://westoverepiscopalchurch.org/event/meals-on-wheels/2024-01-11/
END:VEVENT
BEGIN:VEVENT
DTSTART;TZID=America/New_York:20240111T100000
DTEND;TZID=America/New_York:20240111T110000
DTSTAMP:20260425T112225
CREATED:20230712T204456Z
LAST-MODIFIED:20230712T204456Z
UID:10001113-1704967200-1704970800@westoverepiscopalchurch.org
SUMMARY:Gentle Yoga with Rev. Becky
DESCRIPTION:
URL:https://westoverepiscopalchurch.org/event/gentle-yoga-with-rev-becky-3/2024-01-11/
END:VEVENT
BEGIN:VEVENT
DTSTART;TZID=America/New_York:20240112T090000
DTEND;TZID=America/New_York:20240112T110000
DTSTAMP:20260425T112225
CREATED:20230113T145846Z
LAST-MODIFIED:20230113T145846Z
UID:10000988-1705050000-1705057200@westoverepiscopalchurch.org
SUMMARY:Meals on Wheels
DESCRIPTION:Meals On Wheels (MOW) serves hot\, nutritious meals to the homebound elderly and/or disabled Monday through Friday.
URL:https://westoverepiscopalchurch.org/event/meals-on-wheels/2024-01-12/
END:VEVENT
BEGIN:VEVENT
DTSTART;TZID=America/New_York:20240114T100000
DTEND;TZID=America/New_York:20240114T110000
DTSTAMP:20260425T112225
CREATED:20240105T175159Z
LAST-MODIFIED:20240105T175159Z
UID:10001181-1705226400-1705230000@westoverepiscopalchurch.org
SUMMARY:Second Sunday after the Epiphany Service
DESCRIPTION:
URL:https://westoverepiscopalchurch.org/event/second-sunday-after-the-epiphany-service/
LOCATION:Westover Episcopal Church\, 6401 John Tyler Hwy.\, Charles City\, VA\, 23030\, United States
END:VEVENT
BEGIN:VEVENT
DTSTART;TZID=America/New_York:20240115T090000
DTEND;TZID=America/New_York:20240115T110000
DTSTAMP:20260425T112225
CREATED:20230113T145846Z
LAST-MODIFIED:20230113T145846Z
UID:10002581-1705309200-1705316400@westoverepiscopalchurch.org
SUMMARY:Meals on Wheels
DESCRIPTION:Meals On Wheels (MOW) serves hot\, nutritious meals to the homebound elderly and/or disabled Monday through Friday.
URL:https://westoverepiscopalchurch.org/event/meals-on-wheels/2024-01-15/
END:VEVENT
BEGIN:VEVENT
DTSTART;TZID=America/New_York:20240115T090000
DTEND;TZID=America/New_York:20240115T110000
DTSTAMP:20260425T112225
CREATED:20240105T180517Z
LAST-MODIFIED:20240105T180520Z
UID:10001190-1705309200-1705316400@westoverepiscopalchurch.org
SUMMARY:Meals on Wheels
DESCRIPTION:
URL:https://westoverepiscopalchurch.org/event/meals-on-wheels-3-2/2024-01-15/
END:VEVENT
BEGIN:VEVENT
DTSTART;TZID=America/New_York:20240116T090000
DTEND;TZID=America/New_York:20240116T110000
DTSTAMP:20260425T112225
CREATED:20230113T145846Z
LAST-MODIFIED:20230113T145846Z
UID:10002582-1705395600-1705402800@westoverepiscopalchurch.org
SUMMARY:Meals on Wheels
DESCRIPTION:Meals On Wheels (MOW) serves hot\, nutritious meals to the homebound elderly and/or disabled Monday through Friday.
URL:https://westoverepiscopalchurch.org/event/meals-on-wheels/2024-01-16/
END:VEVENT
BEGIN:VEVENT
DTSTART;TZID=America/New_York:20240116T090000
DTEND;TZID=America/New_York:20240116T110000
DTSTAMP:20260425T112225
CREATED:20240105T180517Z
LAST-MODIFIED:20240105T180520Z
UID:10001196-1705395600-1705402800@westoverepiscopalchurch.org
SUMMARY:Meals on Wheels
DESCRIPTION:
URL:https://westoverepiscopalchurch.org/event/meals-on-wheels-3-2/2024-01-16/
END:VEVENT
BEGIN:VEVENT
DTSTART;TZID=America/New_York:20240117T090000
DTEND;TZID=America/New_York:20240117T110000
DTSTAMP:20260425T112225
CREATED:20230113T145846Z
LAST-MODIFIED:20230113T145846Z
UID:10002583-1705482000-1705489200@westoverepiscopalchurch.org
SUMMARY:Meals on Wheels
DESCRIPTION:Meals On Wheels (MOW) serves hot\, nutritious meals to the homebound elderly and/or disabled Monday through Friday.
URL:https://westoverepiscopalchurch.org/event/meals-on-wheels/2024-01-17/
END:VEVENT
END:VCALENDAR