BEGIN:VCALENDAR
VERSION:2.0
PRODID:-//Westover Episcopal Church - Charles City, VA - ECPv6.15.20//NONSGML v1.0//EN
CALSCALE:GREGORIAN
METHOD:PUBLISH
X-WR-CALNAME:Westover Episcopal Church - Charles City, VA
X-ORIGINAL-URL:https://westoverepiscopalchurch.org
X-WR-CALDESC:Events for Westover Episcopal Church - Charles City, VA
REFRESH-INTERVAL;VALUE=DURATION:PT1H
X-Robots-Tag:noindex
X-PUBLISHED-TTL:PT1H
BEGIN:VTIMEZONE
TZID:America/New_York
BEGIN:DAYLIGHT
TZOFFSETFROM:-0500
TZOFFSETTO:-0400
TZNAME:EDT
DTSTART:20240310T070000
END:DAYLIGHT
BEGIN:STANDARD
TZOFFSETFROM:-0400
TZOFFSETTO:-0500
TZNAME:EST
DTSTART:20241103T060000
END:STANDARD
BEGIN:DAYLIGHT
TZOFFSETFROM:-0500
TZOFFSETTO:-0400
TZNAME:EDT
DTSTART:20250309T070000
END:DAYLIGHT
BEGIN:STANDARD
TZOFFSETFROM:-0400
TZOFFSETTO:-0500
TZNAME:EST
DTSTART:20251102T060000
END:STANDARD
BEGIN:DAYLIGHT
TZOFFSETFROM:-0500
TZOFFSETTO:-0400
TZNAME:EDT
DTSTART:20260308T070000
END:DAYLIGHT
BEGIN:STANDARD
TZOFFSETFROM:-0400
TZOFFSETTO:-0500
TZNAME:EST
DTSTART:20261101T060000
END:STANDARD
END:VTIMEZONE
BEGIN:VEVENT
DTSTART;TZID=America/New_York:20250403T090000
DTEND;TZID=America/New_York:20250403T110000
DTSTAMP:20260425T120141
CREATED:20230113T145846Z
LAST-MODIFIED:20230113T145846Z
UID:10002899-1743670800-1743678000@westoverepiscopalchurch.org
SUMMARY:Meals on Wheels
DESCRIPTION:Meals On Wheels (MOW) serves hot\, nutritious meals to the homebound elderly and/or disabled Monday through Friday.
URL:https://westoverepiscopalchurch.org/event/meals-on-wheels/2025-04-03/
END:VEVENT
BEGIN:VEVENT
DTSTART;TZID=America/New_York:20250402T090000
DTEND;TZID=America/New_York:20250402T110000
DTSTAMP:20260425T120141
CREATED:20250103T170003Z
LAST-MODIFIED:20250103T170126Z
UID:10001954-1743584400-1743591600@westoverepiscopalchurch.org
SUMMARY:Meals on Wheels
DESCRIPTION:
URL:https://westoverepiscopalchurch.org/event/meals-on-wheels-2/2025-04-02/
END:VEVENT
BEGIN:VEVENT
DTSTART;TZID=America/New_York:20250402T090000
DTEND;TZID=America/New_York:20250402T110000
DTSTAMP:20260425T120141
CREATED:20230113T145846Z
LAST-MODIFIED:20230113T145846Z
UID:10002898-1743584400-1743591600@westoverepiscopalchurch.org
SUMMARY:Meals on Wheels
DESCRIPTION:Meals On Wheels (MOW) serves hot\, nutritious meals to the homebound elderly and/or disabled Monday through Friday.
URL:https://westoverepiscopalchurch.org/event/meals-on-wheels/2025-04-02/
END:VEVENT
BEGIN:VEVENT
DTSTART;TZID=America/New_York:20250401T093000
DTEND;TZID=America/New_York:20250401T120000
DTSTAMP:20260425T120141
CREATED:20250314T145313Z
LAST-MODIFIED:20250314T145313Z
UID:10002164-1743499800-1743508800@westoverepiscopalchurch.org
SUMMARY:Lenten Study
DESCRIPTION:During the season of Lent\, we will be examining our faith through the Catechism of the Episcopal Church.  Offered in a question-and-answer format\, the Catechism found in the back of The Book of Common Prayer (pp. 845-862) helps teach the essential truths of the Christian faith and how Episcopalians live those truths. It is also intentionally organized so as to “provide a brief summary of the Church’s teaching for an inquiring stranger who picks up a Prayer Book.”  We will meet on Tuesdays March 18th and 25th and April 1st and 8th\, beginning at 9:30 in the church for a service of Morning Prayer. \nMarch 18th: Human Nature\, God the Father\, The Old Covenant\, The Ten Commandments \nMarch 25th: Sin and Redemption\, God the Son\, The New Covenant\, The Creeds\, The Holy Spirit \nApril 1st: The Holy Scriptures\, The Church\, The Ministry\, Prayer and Worship \nApril 8th: The Sacraments\, Holy Baptism\, The Holy Eucharist\, Other Sacramental Rites\, and The Christian Hope
URL:https://westoverepiscopalchurch.org/event/lenten-study/2025-04-01/
END:VEVENT
BEGIN:VEVENT
DTSTART;TZID=America/New_York:20250401T090000
DTEND;TZID=America/New_York:20250401T110000
DTSTAMP:20260425T120141
CREATED:20250103T170003Z
LAST-MODIFIED:20250103T170126Z
UID:10001953-1743498000-1743505200@westoverepiscopalchurch.org
SUMMARY:Meals on Wheels
DESCRIPTION:
URL:https://westoverepiscopalchurch.org/event/meals-on-wheels-2/2025-04-01/
END:VEVENT
BEGIN:VEVENT
DTSTART;TZID=America/New_York:20250401T090000
DTEND;TZID=America/New_York:20250401T110000
DTSTAMP:20260425T120141
CREATED:20230113T145846Z
LAST-MODIFIED:20230113T145846Z
UID:10002897-1743498000-1743505200@westoverepiscopalchurch.org
SUMMARY:Meals on Wheels
DESCRIPTION:Meals On Wheels (MOW) serves hot\, nutritious meals to the homebound elderly and/or disabled Monday through Friday.
URL:https://westoverepiscopalchurch.org/event/meals-on-wheels/2025-04-01/
END:VEVENT
BEGIN:VEVENT
DTSTART;TZID=America/New_York:20250331T090000
DTEND;TZID=America/New_York:20250331T110000
DTSTAMP:20260425T120141
CREATED:20250103T170003Z
LAST-MODIFIED:20250103T170126Z
UID:10001952-1743411600-1743418800@westoverepiscopalchurch.org
SUMMARY:Meals on Wheels
DESCRIPTION:
URL:https://westoverepiscopalchurch.org/event/meals-on-wheels-2/2025-03-31/
END:VEVENT
BEGIN:VEVENT
DTSTART;TZID=America/New_York:20250331T090000
DTEND;TZID=America/New_York:20250331T110000
DTSTAMP:20260425T120141
CREATED:20230113T145846Z
LAST-MODIFIED:20230113T145846Z
UID:10002896-1743411600-1743418800@westoverepiscopalchurch.org
SUMMARY:Meals on Wheels
DESCRIPTION:Meals On Wheels (MOW) serves hot\, nutritious meals to the homebound elderly and/or disabled Monday through Friday.
URL:https://westoverepiscopalchurch.org/event/meals-on-wheels/2025-03-31/
END:VEVENT
BEGIN:VEVENT
DTSTART;TZID=America/New_York:20250330T100000
DTEND;TZID=America/New_York:20250330T110000
DTSTAMP:20260425T120141
CREATED:20250103T171609Z
LAST-MODIFIED:20250103T171609Z
UID:10002158-1743328800-1743332400@westoverepiscopalchurch.org
SUMMARY:Fourth Sunday in Lent Service
DESCRIPTION:
URL:https://westoverepiscopalchurch.org/event/fourth-sunday-in-lent-service-2/
END:VEVENT
BEGIN:VEVENT
DTSTART;TZID=America/New_York:20250328T090000
DTEND;TZID=America/New_York:20250328T110000
DTSTAMP:20260425T120141
CREATED:20250103T170003Z
LAST-MODIFIED:20250103T170126Z
UID:10001951-1743152400-1743159600@westoverepiscopalchurch.org
SUMMARY:Meals on Wheels
DESCRIPTION:
URL:https://westoverepiscopalchurch.org/event/meals-on-wheels-2/2025-03-28/
END:VEVENT
BEGIN:VEVENT
DTSTART;TZID=America/New_York:20250328T090000
DTEND;TZID=America/New_York:20250328T110000
DTSTAMP:20260425T120141
CREATED:20230113T145846Z
LAST-MODIFIED:20230113T145846Z
UID:10002895-1743152400-1743159600@westoverepiscopalchurch.org
SUMMARY:Meals on Wheels
DESCRIPTION:Meals On Wheels (MOW) serves hot\, nutritious meals to the homebound elderly and/or disabled Monday through Friday.
URL:https://westoverepiscopalchurch.org/event/meals-on-wheels/2025-03-28/
END:VEVENT
BEGIN:VEVENT
DTSTART;TZID=America/New_York:20250327T100000
DTEND;TZID=America/New_York:20250327T110000
DTSTAMP:20260425T120141
CREATED:20241203T183802Z
LAST-MODIFIED:20250520T131430Z
UID:10001578-1743069600-1743073200@westoverepiscopalchurch.org
SUMMARY:Gentle Yoga with Rev. Becky
DESCRIPTION:
URL:https://westoverepiscopalchurch.org/event/gentle-yoga-with-rev-becky-6/2025-03-27/
END:VEVENT
BEGIN:VEVENT
DTSTART;TZID=America/New_York:20250327T090000
DTEND;TZID=America/New_York:20250327T110000
DTSTAMP:20260425T120141
CREATED:20250103T170003Z
LAST-MODIFIED:20250103T170126Z
UID:10001950-1743066000-1743073200@westoverepiscopalchurch.org
SUMMARY:Meals on Wheels
DESCRIPTION:
URL:https://westoverepiscopalchurch.org/event/meals-on-wheels-2/2025-03-27/
END:VEVENT
BEGIN:VEVENT
DTSTART;TZID=America/New_York:20250327T090000
DTEND;TZID=America/New_York:20250327T110000
DTSTAMP:20260425T120141
CREATED:20230113T145846Z
LAST-MODIFIED:20230113T145846Z
UID:10002894-1743066000-1743073200@westoverepiscopalchurch.org
SUMMARY:Meals on Wheels
DESCRIPTION:Meals On Wheels (MOW) serves hot\, nutritious meals to the homebound elderly and/or disabled Monday through Friday.
URL:https://westoverepiscopalchurch.org/event/meals-on-wheels/2025-03-27/
END:VEVENT
BEGIN:VEVENT
DTSTART;TZID=America/New_York:20250326T090000
DTEND;TZID=America/New_York:20250326T110000
DTSTAMP:20260425T120141
CREATED:20250103T170003Z
LAST-MODIFIED:20250103T170126Z
UID:10001949-1742979600-1742986800@westoverepiscopalchurch.org
SUMMARY:Meals on Wheels
DESCRIPTION:
URL:https://westoverepiscopalchurch.org/event/meals-on-wheels-2/2025-03-26/
END:VEVENT
BEGIN:VEVENT
DTSTART;TZID=America/New_York:20250326T090000
DTEND;TZID=America/New_York:20250326T110000
DTSTAMP:20260425T120141
CREATED:20230113T145846Z
LAST-MODIFIED:20230113T145846Z
UID:10002893-1742979600-1742986800@westoverepiscopalchurch.org
SUMMARY:Meals on Wheels
DESCRIPTION:Meals On Wheels (MOW) serves hot\, nutritious meals to the homebound elderly and/or disabled Monday through Friday.
URL:https://westoverepiscopalchurch.org/event/meals-on-wheels/2025-03-26/
END:VEVENT
BEGIN:VEVENT
DTSTART;TZID=America/New_York:20250325T093000
DTEND;TZID=America/New_York:20250325T120000
DTSTAMP:20260425T120141
CREATED:20250314T145313Z
LAST-MODIFIED:20250314T145313Z
UID:10002163-1742895000-1742904000@westoverepiscopalchurch.org
SUMMARY:Lenten Study
DESCRIPTION:During the season of Lent\, we will be examining our faith through the Catechism of the Episcopal Church.  Offered in a question-and-answer format\, the Catechism found in the back of The Book of Common Prayer (pp. 845-862) helps teach the essential truths of the Christian faith and how Episcopalians live those truths. It is also intentionally organized so as to “provide a brief summary of the Church’s teaching for an inquiring stranger who picks up a Prayer Book.”  We will meet on Tuesdays March 18th and 25th and April 1st and 8th\, beginning at 9:30 in the church for a service of Morning Prayer. \nMarch 18th: Human Nature\, God the Father\, The Old Covenant\, The Ten Commandments \nMarch 25th: Sin and Redemption\, God the Son\, The New Covenant\, The Creeds\, The Holy Spirit \nApril 1st: The Holy Scriptures\, The Church\, The Ministry\, Prayer and Worship \nApril 8th: The Sacraments\, Holy Baptism\, The Holy Eucharist\, Other Sacramental Rites\, and The Christian Hope
URL:https://westoverepiscopalchurch.org/event/lenten-study/2025-03-25/
END:VEVENT
BEGIN:VEVENT
DTSTART;TZID=America/New_York:20250325T090000
DTEND;TZID=America/New_York:20250325T110000
DTSTAMP:20260425T120141
CREATED:20250103T170003Z
LAST-MODIFIED:20250103T170126Z
UID:10001948-1742893200-1742900400@westoverepiscopalchurch.org
SUMMARY:Meals on Wheels
DESCRIPTION:
URL:https://westoverepiscopalchurch.org/event/meals-on-wheels-2/2025-03-25/
END:VEVENT
BEGIN:VEVENT
DTSTART;TZID=America/New_York:20250325T090000
DTEND;TZID=America/New_York:20250325T110000
DTSTAMP:20260425T120141
CREATED:20230113T145846Z
LAST-MODIFIED:20230113T145846Z
UID:10002892-1742893200-1742900400@westoverepiscopalchurch.org
SUMMARY:Meals on Wheels
DESCRIPTION:Meals On Wheels (MOW) serves hot\, nutritious meals to the homebound elderly and/or disabled Monday through Friday.
URL:https://westoverepiscopalchurch.org/event/meals-on-wheels/2025-03-25/
END:VEVENT
BEGIN:VEVENT
DTSTART;TZID=America/New_York:20250324T090000
DTEND;TZID=America/New_York:20250324T110000
DTSTAMP:20260425T120141
CREATED:20250103T170003Z
LAST-MODIFIED:20250103T170126Z
UID:10001947-1742806800-1742814000@westoverepiscopalchurch.org
SUMMARY:Meals on Wheels
DESCRIPTION:
URL:https://westoverepiscopalchurch.org/event/meals-on-wheels-2/2025-03-24/
END:VEVENT
BEGIN:VEVENT
DTSTART;TZID=America/New_York:20250324T090000
DTEND;TZID=America/New_York:20250324T110000
DTSTAMP:20260425T120141
CREATED:20230113T145846Z
LAST-MODIFIED:20230113T145846Z
UID:10002891-1742806800-1742814000@westoverepiscopalchurch.org
SUMMARY:Meals on Wheels
DESCRIPTION:Meals On Wheels (MOW) serves hot\, nutritious meals to the homebound elderly and/or disabled Monday through Friday.
URL:https://westoverepiscopalchurch.org/event/meals-on-wheels/2025-03-24/
END:VEVENT
BEGIN:VEVENT
DTSTART;TZID=America/New_York:20250323T173000
DTEND;TZID=America/New_York:20250323T183000
DTSTAMP:20260425T120141
CREATED:20250103T171535Z
LAST-MODIFIED:20250314T144635Z
UID:10002157-1742751000-1742754600@westoverepiscopalchurch.org
SUMMARY:Celtic Candlelight Service
DESCRIPTION:Join Westover Church for our Celtic Service with special music at 5:30PM followed by a Potluck Dinner.
URL:https://westoverepiscopalchurch.org/event/third-sunday-in-lent-service-2/
END:VEVENT
BEGIN:VEVENT
DTSTART;TZID=America/New_York:20250323T100000
DTEND;TZID=America/New_York:20250323T110000
DTSTAMP:20260425T120141
CREATED:20250314T144733Z
LAST-MODIFIED:20250314T144733Z
UID:10002161-1742724000-1742727600@westoverepiscopalchurch.org
SUMMARY:There will be NO 10:00AM service Today
DESCRIPTION:
URL:https://westoverepiscopalchurch.org/event/there-will-be-no-1000am-service-today/
END:VEVENT
BEGIN:VEVENT
DTSTART;TZID=America/New_York:20250321T090000
DTEND;TZID=America/New_York:20250321T110000
DTSTAMP:20260425T120141
CREATED:20250103T170003Z
LAST-MODIFIED:20250103T170126Z
UID:10001946-1742547600-1742554800@westoverepiscopalchurch.org
SUMMARY:Meals on Wheels
DESCRIPTION:
URL:https://westoverepiscopalchurch.org/event/meals-on-wheels-2/2025-03-21/
END:VEVENT
BEGIN:VEVENT
DTSTART;TZID=America/New_York:20250321T090000
DTEND;TZID=America/New_York:20250321T110000
DTSTAMP:20260425T120141
CREATED:20230113T145846Z
LAST-MODIFIED:20230113T145846Z
UID:10002890-1742547600-1742554800@westoverepiscopalchurch.org
SUMMARY:Meals on Wheels
DESCRIPTION:Meals On Wheels (MOW) serves hot\, nutritious meals to the homebound elderly and/or disabled Monday through Friday.
URL:https://westoverepiscopalchurch.org/event/meals-on-wheels/2025-03-21/
END:VEVENT
BEGIN:VEVENT
DTSTART;TZID=America/New_York:20250320T100000
DTEND;TZID=America/New_York:20250320T110000
DTSTAMP:20260425T120141
CREATED:20241203T183802Z
LAST-MODIFIED:20250520T131430Z
UID:10001577-1742464800-1742468400@westoverepiscopalchurch.org
SUMMARY:Gentle Yoga with Rev. Becky
DESCRIPTION:
URL:https://westoverepiscopalchurch.org/event/gentle-yoga-with-rev-becky-6/2025-03-20/
END:VEVENT
BEGIN:VEVENT
DTSTART;TZID=America/New_York:20250320T090000
DTEND;TZID=America/New_York:20250320T110000
DTSTAMP:20260425T120141
CREATED:20250103T170003Z
LAST-MODIFIED:20250103T170126Z
UID:10001945-1742461200-1742468400@westoverepiscopalchurch.org
SUMMARY:Meals on Wheels
DESCRIPTION:
URL:https://westoverepiscopalchurch.org/event/meals-on-wheels-2/2025-03-20/
END:VEVENT
BEGIN:VEVENT
DTSTART;TZID=America/New_York:20250320T090000
DTEND;TZID=America/New_York:20250320T110000
DTSTAMP:20260425T120141
CREATED:20230113T145846Z
LAST-MODIFIED:20230113T145846Z
UID:10002889-1742461200-1742468400@westoverepiscopalchurch.org
SUMMARY:Meals on Wheels
DESCRIPTION:Meals On Wheels (MOW) serves hot\, nutritious meals to the homebound elderly and/or disabled Monday through Friday.
URL:https://westoverepiscopalchurch.org/event/meals-on-wheels/2025-03-20/
END:VEVENT
BEGIN:VEVENT
DTSTART;TZID=America/New_York:20250319T090000
DTEND;TZID=America/New_York:20250319T110000
DTSTAMP:20260425T120141
CREATED:20250103T170003Z
LAST-MODIFIED:20250103T170126Z
UID:10001944-1742374800-1742382000@westoverepiscopalchurch.org
SUMMARY:Meals on Wheels
DESCRIPTION:
URL:https://westoverepiscopalchurch.org/event/meals-on-wheels-2/2025-03-19/
END:VEVENT
BEGIN:VEVENT
DTSTART;TZID=America/New_York:20250319T090000
DTEND;TZID=America/New_York:20250319T110000
DTSTAMP:20260425T120141
CREATED:20230113T145846Z
LAST-MODIFIED:20230113T145846Z
UID:10002888-1742374800-1742382000@westoverepiscopalchurch.org
SUMMARY:Meals on Wheels
DESCRIPTION:Meals On Wheels (MOW) serves hot\, nutritious meals to the homebound elderly and/or disabled Monday through Friday.
URL:https://westoverepiscopalchurch.org/event/meals-on-wheels/2025-03-19/
END:VEVENT
END:VCALENDAR