BEGIN:VCALENDAR
VERSION:2.0
PRODID:-//Westover Episcopal Church - Charles City, VA - ECPv6.15.20//NONSGML v1.0//EN
CALSCALE:GREGORIAN
METHOD:PUBLISH
X-WR-CALNAME:Westover Episcopal Church - Charles City, VA
X-ORIGINAL-URL:https://westoverepiscopalchurch.org
X-WR-CALDESC:Events for Westover Episcopal Church - Charles City, VA
REFRESH-INTERVAL;VALUE=DURATION:PT1H
X-Robots-Tag:noindex
X-PUBLISHED-TTL:PT1H
BEGIN:VTIMEZONE
TZID:America/New_York
BEGIN:DAYLIGHT
TZOFFSETFROM:-0500
TZOFFSETTO:-0400
TZNAME:EDT
DTSTART:20240310T070000
END:DAYLIGHT
BEGIN:STANDARD
TZOFFSETFROM:-0400
TZOFFSETTO:-0500
TZNAME:EST
DTSTART:20241103T060000
END:STANDARD
BEGIN:DAYLIGHT
TZOFFSETFROM:-0500
TZOFFSETTO:-0400
TZNAME:EDT
DTSTART:20250309T070000
END:DAYLIGHT
BEGIN:STANDARD
TZOFFSETFROM:-0400
TZOFFSETTO:-0500
TZNAME:EST
DTSTART:20251102T060000
END:STANDARD
BEGIN:DAYLIGHT
TZOFFSETFROM:-0500
TZOFFSETTO:-0400
TZNAME:EDT
DTSTART:20260308T070000
END:DAYLIGHT
BEGIN:STANDARD
TZOFFSETFROM:-0400
TZOFFSETTO:-0500
TZNAME:EST
DTSTART:20261101T060000
END:STANDARD
END:VTIMEZONE
BEGIN:VEVENT
DTSTART;TZID=America/New_York:20250713T100000
DTEND;TZID=America/New_York:20250713T110000
DTSTAMP:20260425T095420
CREATED:20250724T004523Z
LAST-MODIFIED:20250724T004523Z
UID:10002184-1752400800-1752404400@westoverepiscopalchurch.org
SUMMARY:Fifth Sunday after Pentecost Service
DESCRIPTION:
URL:https://westoverepiscopalchurch.org/event/fifth-sunday-after-pentecost-service-2/
END:VEVENT
BEGIN:VEVENT
DTSTART;TZID=America/New_York:20250711T090000
DTEND;TZID=America/New_York:20250711T110000
DTSTAMP:20260425T095420
CREATED:20250103T170003Z
LAST-MODIFIED:20250103T170126Z
UID:10002024-1752224400-1752231600@westoverepiscopalchurch.org
SUMMARY:Meals on Wheels
DESCRIPTION:
URL:https://westoverepiscopalchurch.org/event/meals-on-wheels-2/2025-07-11/
END:VEVENT
BEGIN:VEVENT
DTSTART;TZID=America/New_York:20250711T090000
DTEND;TZID=America/New_York:20250711T110000
DTSTAMP:20260425T095420
CREATED:20230113T145846Z
LAST-MODIFIED:20230113T145846Z
UID:10002970-1752224400-1752231600@westoverepiscopalchurch.org
SUMMARY:Meals on Wheels
DESCRIPTION:Meals On Wheels (MOW) serves hot\, nutritious meals to the homebound elderly and/or disabled Monday through Friday.
URL:https://westoverepiscopalchurch.org/event/meals-on-wheels/2025-07-11/
END:VEVENT
BEGIN:VEVENT
DTSTART;TZID=America/New_York:20250710T100000
DTEND;TZID=America/New_York:20250710T110000
DTSTAMP:20260425T095420
CREATED:20241203T183802Z
LAST-MODIFIED:20250520T131430Z
UID:10001593-1752141600-1752145200@westoverepiscopalchurch.org
SUMMARY:Gentle Yoga with Rev. Becky
DESCRIPTION:
URL:https://westoverepiscopalchurch.org/event/gentle-yoga-with-rev-becky-6/2025-07-10/
END:VEVENT
BEGIN:VEVENT
DTSTART;TZID=America/New_York:20250710T090000
DTEND;TZID=America/New_York:20250710T110000
DTSTAMP:20260425T095420
CREATED:20250103T170003Z
LAST-MODIFIED:20250103T170126Z
UID:10002023-1752138000-1752145200@westoverepiscopalchurch.org
SUMMARY:Meals on Wheels
DESCRIPTION:
URL:https://westoverepiscopalchurch.org/event/meals-on-wheels-2/2025-07-10/
END:VEVENT
BEGIN:VEVENT
DTSTART;TZID=America/New_York:20250710T090000
DTEND;TZID=America/New_York:20250710T110000
DTSTAMP:20260425T095420
CREATED:20230113T145846Z
LAST-MODIFIED:20230113T145846Z
UID:10002969-1752138000-1752145200@westoverepiscopalchurch.org
SUMMARY:Meals on Wheels
DESCRIPTION:Meals On Wheels (MOW) serves hot\, nutritious meals to the homebound elderly and/or disabled Monday through Friday.
URL:https://westoverepiscopalchurch.org/event/meals-on-wheels/2025-07-10/
END:VEVENT
BEGIN:VEVENT
DTSTART;TZID=America/New_York:20250709T090000
DTEND;TZID=America/New_York:20250709T110000
DTSTAMP:20260425T095420
CREATED:20250103T170003Z
LAST-MODIFIED:20250103T170126Z
UID:10002022-1752051600-1752058800@westoverepiscopalchurch.org
SUMMARY:Meals on Wheels
DESCRIPTION:
URL:https://westoverepiscopalchurch.org/event/meals-on-wheels-2/2025-07-09/
END:VEVENT
BEGIN:VEVENT
DTSTART;TZID=America/New_York:20250709T090000
DTEND;TZID=America/New_York:20250709T110000
DTSTAMP:20260425T095420
CREATED:20230113T145846Z
LAST-MODIFIED:20230113T145846Z
UID:10002968-1752051600-1752058800@westoverepiscopalchurch.org
SUMMARY:Meals on Wheels
DESCRIPTION:Meals On Wheels (MOW) serves hot\, nutritious meals to the homebound elderly and/or disabled Monday through Friday.
URL:https://westoverepiscopalchurch.org/event/meals-on-wheels/2025-07-09/
END:VEVENT
BEGIN:VEVENT
DTSTART;TZID=America/New_York:20250708T090000
DTEND;TZID=America/New_York:20250708T110000
DTSTAMP:20260425T095420
CREATED:20250103T170003Z
LAST-MODIFIED:20250103T170126Z
UID:10002021-1751965200-1751972400@westoverepiscopalchurch.org
SUMMARY:Meals on Wheels
DESCRIPTION:
URL:https://westoverepiscopalchurch.org/event/meals-on-wheels-2/2025-07-08/
END:VEVENT
BEGIN:VEVENT
DTSTART;TZID=America/New_York:20250708T090000
DTEND;TZID=America/New_York:20250708T110000
DTSTAMP:20260425T095420
CREATED:20230113T145846Z
LAST-MODIFIED:20230113T145846Z
UID:10002967-1751965200-1751972400@westoverepiscopalchurch.org
SUMMARY:Meals on Wheels
DESCRIPTION:Meals On Wheels (MOW) serves hot\, nutritious meals to the homebound elderly and/or disabled Monday through Friday.
URL:https://westoverepiscopalchurch.org/event/meals-on-wheels/2025-07-08/
END:VEVENT
BEGIN:VEVENT
DTSTART;TZID=America/New_York:20250707T090000
DTEND;TZID=America/New_York:20250707T110000
DTSTAMP:20260425T095420
CREATED:20250103T170003Z
LAST-MODIFIED:20250103T170126Z
UID:10002020-1751878800-1751886000@westoverepiscopalchurch.org
SUMMARY:Meals on Wheels
DESCRIPTION:
URL:https://westoverepiscopalchurch.org/event/meals-on-wheels-2/2025-07-07/
END:VEVENT
BEGIN:VEVENT
DTSTART;TZID=America/New_York:20250707T090000
DTEND;TZID=America/New_York:20250707T110000
DTSTAMP:20260425T095420
CREATED:20230113T145846Z
LAST-MODIFIED:20230113T145846Z
UID:10002966-1751878800-1751886000@westoverepiscopalchurch.org
SUMMARY:Meals on Wheels
DESCRIPTION:Meals On Wheels (MOW) serves hot\, nutritious meals to the homebound elderly and/or disabled Monday through Friday.
URL:https://westoverepiscopalchurch.org/event/meals-on-wheels/2025-07-07/
END:VEVENT
BEGIN:VEVENT
DTSTART;TZID=America/New_York:20250706T100000
DTEND;TZID=America/New_York:20250706T110000
DTSTAMP:20260425T095420
CREATED:20250724T003013Z
LAST-MODIFIED:20250724T003013Z
UID:10002183-1751796000-1751799600@westoverepiscopalchurch.org
SUMMARY:Fourth Sunday after Pentecost Service
DESCRIPTION:
URL:https://westoverepiscopalchurch.org/event/fourth-sunday-after-pentecost-service-2/
END:VEVENT
BEGIN:VEVENT
DTSTART;TZID=America/New_York:20250704T090000
DTEND;TZID=America/New_York:20250704T110000
DTSTAMP:20260425T095420
CREATED:20230113T145846Z
LAST-MODIFIED:20230113T145846Z
UID:10002965-1751619600-1751626800@westoverepiscopalchurch.org
SUMMARY:Meals on Wheels
DESCRIPTION:Meals On Wheels (MOW) serves hot\, nutritious meals to the homebound elderly and/or disabled Monday through Friday.
URL:https://westoverepiscopalchurch.org/event/meals-on-wheels/2025-07-04/
END:VEVENT
BEGIN:VEVENT
DTSTART;TZID=America/New_York:20250703T100000
DTEND;TZID=America/New_York:20250703T110000
DTSTAMP:20260425T095420
CREATED:20241203T183802Z
LAST-MODIFIED:20250520T131430Z
UID:10001592-1751536800-1751540400@westoverepiscopalchurch.org
SUMMARY:Gentle Yoga with Rev. Becky
DESCRIPTION:
URL:https://westoverepiscopalchurch.org/event/gentle-yoga-with-rev-becky-6/2025-07-03/
END:VEVENT
BEGIN:VEVENT
DTSTART;TZID=America/New_York:20250703T090000
DTEND;TZID=America/New_York:20250703T110000
DTSTAMP:20260425T095420
CREATED:20250103T170003Z
LAST-MODIFIED:20250103T170126Z
UID:10002019-1751533200-1751540400@westoverepiscopalchurch.org
SUMMARY:Meals on Wheels
DESCRIPTION:
URL:https://westoverepiscopalchurch.org/event/meals-on-wheels-2/2025-07-03/
END:VEVENT
BEGIN:VEVENT
DTSTART;TZID=America/New_York:20250703T090000
DTEND;TZID=America/New_York:20250703T110000
DTSTAMP:20260425T095420
CREATED:20230113T145846Z
LAST-MODIFIED:20230113T145846Z
UID:10002964-1751533200-1751540400@westoverepiscopalchurch.org
SUMMARY:Meals on Wheels
DESCRIPTION:Meals On Wheels (MOW) serves hot\, nutritious meals to the homebound elderly and/or disabled Monday through Friday.
URL:https://westoverepiscopalchurch.org/event/meals-on-wheels/2025-07-03/
END:VEVENT
BEGIN:VEVENT
DTSTART;TZID=America/New_York:20250702T090000
DTEND;TZID=America/New_York:20250702T110000
DTSTAMP:20260425T095420
CREATED:20250103T170003Z
LAST-MODIFIED:20250103T170126Z
UID:10002018-1751446800-1751454000@westoverepiscopalchurch.org
SUMMARY:Meals on Wheels
DESCRIPTION:
URL:https://westoverepiscopalchurch.org/event/meals-on-wheels-2/2025-07-02/
END:VEVENT
BEGIN:VEVENT
DTSTART;TZID=America/New_York:20250702T090000
DTEND;TZID=America/New_York:20250702T110000
DTSTAMP:20260425T095420
CREATED:20230113T145846Z
LAST-MODIFIED:20230113T145846Z
UID:10002963-1751446800-1751454000@westoverepiscopalchurch.org
SUMMARY:Meals on Wheels
DESCRIPTION:Meals On Wheels (MOW) serves hot\, nutritious meals to the homebound elderly and/or disabled Monday through Friday.
URL:https://westoverepiscopalchurch.org/event/meals-on-wheels/2025-07-02/
END:VEVENT
BEGIN:VEVENT
DTSTART;TZID=America/New_York:20250701T090000
DTEND;TZID=America/New_York:20250701T110000
DTSTAMP:20260425T095420
CREATED:20250103T170003Z
LAST-MODIFIED:20250103T170126Z
UID:10002017-1751360400-1751367600@westoverepiscopalchurch.org
SUMMARY:Meals on Wheels
DESCRIPTION:
URL:https://westoverepiscopalchurch.org/event/meals-on-wheels-2/2025-07-01/
END:VEVENT
BEGIN:VEVENT
DTSTART;TZID=America/New_York:20250701T090000
DTEND;TZID=America/New_York:20250701T110000
DTSTAMP:20260425T095420
CREATED:20230113T145846Z
LAST-MODIFIED:20230113T145846Z
UID:10002962-1751360400-1751367600@westoverepiscopalchurch.org
SUMMARY:Meals on Wheels
DESCRIPTION:Meals On Wheels (MOW) serves hot\, nutritious meals to the homebound elderly and/or disabled Monday through Friday.
URL:https://westoverepiscopalchurch.org/event/meals-on-wheels/2025-07-01/
END:VEVENT
BEGIN:VEVENT
DTSTART;TZID=America/New_York:20250630T090000
DTEND;TZID=America/New_York:20250630T110000
DTSTAMP:20260425T095420
CREATED:20250103T170003Z
LAST-MODIFIED:20250103T170126Z
UID:10002016-1751274000-1751281200@westoverepiscopalchurch.org
SUMMARY:Meals on Wheels
DESCRIPTION:
URL:https://westoverepiscopalchurch.org/event/meals-on-wheels-2/2025-06-30/
END:VEVENT
BEGIN:VEVENT
DTSTART;TZID=America/New_York:20250630T090000
DTEND;TZID=America/New_York:20250630T110000
DTSTAMP:20260425T095420
CREATED:20230113T145846Z
LAST-MODIFIED:20230113T145846Z
UID:10002961-1751274000-1751281200@westoverepiscopalchurch.org
SUMMARY:Meals on Wheels
DESCRIPTION:Meals On Wheels (MOW) serves hot\, nutritious meals to the homebound elderly and/or disabled Monday through Friday.
URL:https://westoverepiscopalchurch.org/event/meals-on-wheels/2025-06-30/
END:VEVENT
BEGIN:VEVENT
DTSTART;TZID=America/New_York:20250629T100000
DTEND;TZID=America/New_York:20250629T110000
DTSTAMP:20260425T095420
CREATED:20250416T175734Z
LAST-MODIFIED:20250416T175734Z
UID:10002181-1751191200-1751194800@westoverepiscopalchurch.org
SUMMARY:Third Sunday after Pentecost Service
DESCRIPTION:
URL:https://westoverepiscopalchurch.org/event/third-sunday-after-pentecost-service-2/
END:VEVENT
BEGIN:VEVENT
DTSTART;TZID=America/New_York:20250627T090000
DTEND;TZID=America/New_York:20250627T110000
DTSTAMP:20260425T095420
CREATED:20250103T170003Z
LAST-MODIFIED:20250103T170126Z
UID:10002015-1751014800-1751022000@westoverepiscopalchurch.org
SUMMARY:Meals on Wheels
DESCRIPTION:
URL:https://westoverepiscopalchurch.org/event/meals-on-wheels-2/2025-06-27/
END:VEVENT
BEGIN:VEVENT
DTSTART;TZID=America/New_York:20250627T090000
DTEND;TZID=America/New_York:20250627T110000
DTSTAMP:20260425T095420
CREATED:20230113T145846Z
LAST-MODIFIED:20230113T145846Z
UID:10002960-1751014800-1751022000@westoverepiscopalchurch.org
SUMMARY:Meals on Wheels
DESCRIPTION:Meals On Wheels (MOW) serves hot\, nutritious meals to the homebound elderly and/or disabled Monday through Friday.
URL:https://westoverepiscopalchurch.org/event/meals-on-wheels/2025-06-27/
END:VEVENT
BEGIN:VEVENT
DTSTART;TZID=America/New_York:20250626T090000
DTEND;TZID=America/New_York:20250626T110000
DTSTAMP:20260425T095420
CREATED:20250103T170003Z
LAST-MODIFIED:20250103T170126Z
UID:10002014-1750928400-1750935600@westoverepiscopalchurch.org
SUMMARY:Meals on Wheels
DESCRIPTION:
URL:https://westoverepiscopalchurch.org/event/meals-on-wheels-2/2025-06-26/
END:VEVENT
BEGIN:VEVENT
DTSTART;TZID=America/New_York:20250626T090000
DTEND;TZID=America/New_York:20250626T110000
DTSTAMP:20260425T095420
CREATED:20230113T145846Z
LAST-MODIFIED:20230113T145846Z
UID:10002959-1750928400-1750935600@westoverepiscopalchurch.org
SUMMARY:Meals on Wheels
DESCRIPTION:Meals On Wheels (MOW) serves hot\, nutritious meals to the homebound elderly and/or disabled Monday through Friday.
URL:https://westoverepiscopalchurch.org/event/meals-on-wheels/2025-06-26/
END:VEVENT
BEGIN:VEVENT
DTSTART;TZID=America/New_York:20250625T090000
DTEND;TZID=America/New_York:20250625T110000
DTSTAMP:20260425T095420
CREATED:20250103T170003Z
LAST-MODIFIED:20250103T170126Z
UID:10002013-1750842000-1750849200@westoverepiscopalchurch.org
SUMMARY:Meals on Wheels
DESCRIPTION:
URL:https://westoverepiscopalchurch.org/event/meals-on-wheels-2/2025-06-25/
END:VEVENT
BEGIN:VEVENT
DTSTART;TZID=America/New_York:20250625T090000
DTEND;TZID=America/New_York:20250625T110000
DTSTAMP:20260425T095420
CREATED:20230113T145846Z
LAST-MODIFIED:20230113T145846Z
UID:10002958-1750842000-1750849200@westoverepiscopalchurch.org
SUMMARY:Meals on Wheels
DESCRIPTION:Meals On Wheels (MOW) serves hot\, nutritious meals to the homebound elderly and/or disabled Monday through Friday.
URL:https://westoverepiscopalchurch.org/event/meals-on-wheels/2025-06-25/
END:VEVENT
END:VCALENDAR