BEGIN:VCALENDAR
VERSION:2.0
PRODID:-//Westover Episcopal Church - Charles City, VA - ECPv6.15.20//NONSGML v1.0//EN
CALSCALE:GREGORIAN
METHOD:PUBLISH
X-WR-CALNAME:Westover Episcopal Church - Charles City, VA
X-ORIGINAL-URL:https://westoverepiscopalchurch.org
X-WR-CALDESC:Events for Westover Episcopal Church - Charles City, VA
REFRESH-INTERVAL;VALUE=DURATION:PT1H
X-Robots-Tag:noindex
X-PUBLISHED-TTL:PT1H
BEGIN:VTIMEZONE
TZID:America/New_York
BEGIN:DAYLIGHT
TZOFFSETFROM:-0500
TZOFFSETTO:-0400
TZNAME:EDT
DTSTART:20240310T070000
END:DAYLIGHT
BEGIN:STANDARD
TZOFFSETFROM:-0400
TZOFFSETTO:-0500
TZNAME:EST
DTSTART:20241103T060000
END:STANDARD
BEGIN:DAYLIGHT
TZOFFSETFROM:-0500
TZOFFSETTO:-0400
TZNAME:EDT
DTSTART:20250309T070000
END:DAYLIGHT
BEGIN:STANDARD
TZOFFSETFROM:-0400
TZOFFSETTO:-0500
TZNAME:EST
DTSTART:20251102T060000
END:STANDARD
BEGIN:DAYLIGHT
TZOFFSETFROM:-0500
TZOFFSETTO:-0400
TZNAME:EDT
DTSTART:20260308T070000
END:DAYLIGHT
BEGIN:STANDARD
TZOFFSETFROM:-0400
TZOFFSETTO:-0500
TZNAME:EST
DTSTART:20261101T060000
END:STANDARD
END:VTIMEZONE
BEGIN:VEVENT
DTSTART;TZID=America/New_York:20250909T090000
DTEND;TZID=America/New_York:20250909T110000
DTSTAMP:20260425T082522
CREATED:20230113T145846Z
LAST-MODIFIED:20230113T145846Z
UID:10003012-1757408400-1757415600@westoverepiscopalchurch.org
SUMMARY:Meals on Wheels
DESCRIPTION:Meals On Wheels (MOW) serves hot\, nutritious meals to the homebound elderly and/or disabled Monday through Friday.
URL:https://westoverepiscopalchurch.org/event/meals-on-wheels/2025-09-09/
END:VEVENT
BEGIN:VEVENT
DTSTART;TZID=America/New_York:20250908T090000
DTEND;TZID=America/New_York:20250908T110000
DTSTAMP:20260425T082522
CREATED:20250103T170003Z
LAST-MODIFIED:20250103T170126Z
UID:10002064-1757322000-1757329200@westoverepiscopalchurch.org
SUMMARY:Meals on Wheels
DESCRIPTION:
URL:https://westoverepiscopalchurch.org/event/meals-on-wheels-2/2025-09-08/
END:VEVENT
BEGIN:VEVENT
DTSTART;TZID=America/New_York:20250908T090000
DTEND;TZID=America/New_York:20250908T110000
DTSTAMP:20260425T082522
CREATED:20230113T145846Z
LAST-MODIFIED:20230113T145846Z
UID:10003011-1757322000-1757329200@westoverepiscopalchurch.org
SUMMARY:Meals on Wheels
DESCRIPTION:Meals On Wheels (MOW) serves hot\, nutritious meals to the homebound elderly and/or disabled Monday through Friday.
URL:https://westoverepiscopalchurch.org/event/meals-on-wheels/2025-09-08/
END:VEVENT
BEGIN:VEVENT
DTSTART;TZID=America/New_York:20250907T100000
DTEND;TZID=America/New_York:20250907T110000
DTSTAMP:20260425T082522
CREATED:20250724T005246Z
LAST-MODIFIED:20250724T005246Z
UID:10002192-1757239200-1757242800@westoverepiscopalchurch.org
SUMMARY:Thirteenth Sunday after Pentecost Service
DESCRIPTION:
URL:https://westoverepiscopalchurch.org/event/thirteenth-sunday-after-pentecost-service/
END:VEVENT
BEGIN:VEVENT
DTSTART;TZID=America/New_York:20250905T090000
DTEND;TZID=America/New_York:20250905T110000
DTSTAMP:20260425T082522
CREATED:20250103T170003Z
LAST-MODIFIED:20250103T170126Z
UID:10002063-1757062800-1757070000@westoverepiscopalchurch.org
SUMMARY:Meals on Wheels
DESCRIPTION:
URL:https://westoverepiscopalchurch.org/event/meals-on-wheels-2/2025-09-05/
END:VEVENT
BEGIN:VEVENT
DTSTART;TZID=America/New_York:20250905T090000
DTEND;TZID=America/New_York:20250905T110000
DTSTAMP:20260425T082522
CREATED:20230113T145846Z
LAST-MODIFIED:20230113T145846Z
UID:10003010-1757062800-1757070000@westoverepiscopalchurch.org
SUMMARY:Meals on Wheels
DESCRIPTION:Meals On Wheels (MOW) serves hot\, nutritious meals to the homebound elderly and/or disabled Monday through Friday.
URL:https://westoverepiscopalchurch.org/event/meals-on-wheels/2025-09-05/
END:VEVENT
BEGIN:VEVENT
DTSTART;TZID=America/New_York:20250904T100000
DTEND;TZID=America/New_York:20250904T110000
DTSTAMP:20260425T082522
CREATED:20241203T183802Z
LAST-MODIFIED:20250520T131430Z
UID:10001601-1756980000-1756983600@westoverepiscopalchurch.org
SUMMARY:Gentle Yoga with Rev. Becky
DESCRIPTION:
URL:https://westoverepiscopalchurch.org/event/gentle-yoga-with-rev-becky-6/2025-09-04/
END:VEVENT
BEGIN:VEVENT
DTSTART;TZID=America/New_York:20250904T090000
DTEND;TZID=America/New_York:20250904T110000
DTSTAMP:20260425T082522
CREATED:20250103T170003Z
LAST-MODIFIED:20250103T170126Z
UID:10002062-1756976400-1756983600@westoverepiscopalchurch.org
SUMMARY:Meals on Wheels
DESCRIPTION:
URL:https://westoverepiscopalchurch.org/event/meals-on-wheels-2/2025-09-04/
END:VEVENT
BEGIN:VEVENT
DTSTART;TZID=America/New_York:20250904T090000
DTEND;TZID=America/New_York:20250904T110000
DTSTAMP:20260425T082522
CREATED:20230113T145846Z
LAST-MODIFIED:20230113T145846Z
UID:10003009-1756976400-1756983600@westoverepiscopalchurch.org
SUMMARY:Meals on Wheels
DESCRIPTION:Meals On Wheels (MOW) serves hot\, nutritious meals to the homebound elderly and/or disabled Monday through Friday.
URL:https://westoverepiscopalchurch.org/event/meals-on-wheels/2025-09-04/
END:VEVENT
BEGIN:VEVENT
DTSTART;TZID=America/New_York:20250903T090000
DTEND;TZID=America/New_York:20250903T110000
DTSTAMP:20260425T082522
CREATED:20250103T170003Z
LAST-MODIFIED:20250103T170126Z
UID:10002061-1756890000-1756897200@westoverepiscopalchurch.org
SUMMARY:Meals on Wheels
DESCRIPTION:
URL:https://westoverepiscopalchurch.org/event/meals-on-wheels-2/2025-09-03/
END:VEVENT
BEGIN:VEVENT
DTSTART;TZID=America/New_York:20250903T090000
DTEND;TZID=America/New_York:20250903T110000
DTSTAMP:20260425T082522
CREATED:20230113T145846Z
LAST-MODIFIED:20230113T145846Z
UID:10003008-1756890000-1756897200@westoverepiscopalchurch.org
SUMMARY:Meals on Wheels
DESCRIPTION:Meals On Wheels (MOW) serves hot\, nutritious meals to the homebound elderly and/or disabled Monday through Friday.
URL:https://westoverepiscopalchurch.org/event/meals-on-wheels/2025-09-03/
END:VEVENT
BEGIN:VEVENT
DTSTART;TZID=America/New_York:20250902T090000
DTEND;TZID=America/New_York:20250902T110000
DTSTAMP:20260425T082522
CREATED:20250103T170003Z
LAST-MODIFIED:20250103T170126Z
UID:10002060-1756803600-1756810800@westoverepiscopalchurch.org
SUMMARY:Meals on Wheels
DESCRIPTION:
URL:https://westoverepiscopalchurch.org/event/meals-on-wheels-2/2025-09-02/
END:VEVENT
BEGIN:VEVENT
DTSTART;TZID=America/New_York:20250902T090000
DTEND;TZID=America/New_York:20250902T110000
DTSTAMP:20260425T082522
CREATED:20230113T145846Z
LAST-MODIFIED:20230113T145846Z
UID:10003007-1756803600-1756810800@westoverepiscopalchurch.org
SUMMARY:Meals on Wheels
DESCRIPTION:Meals On Wheels (MOW) serves hot\, nutritious meals to the homebound elderly and/or disabled Monday through Friday.
URL:https://westoverepiscopalchurch.org/event/meals-on-wheels/2025-09-02/
END:VEVENT
BEGIN:VEVENT
DTSTART;TZID=America/New_York:20250901T090000
DTEND;TZID=America/New_York:20250901T110000
DTSTAMP:20260425T082522
CREATED:20230113T145846Z
LAST-MODIFIED:20230113T145846Z
UID:10003006-1756717200-1756724400@westoverepiscopalchurch.org
SUMMARY:Meals on Wheels
DESCRIPTION:Meals On Wheels (MOW) serves hot\, nutritious meals to the homebound elderly and/or disabled Monday through Friday.
URL:https://westoverepiscopalchurch.org/event/meals-on-wheels/2025-09-01/
END:VEVENT
BEGIN:VEVENT
DTSTART;TZID=America/New_York:20250831T100000
DTEND;TZID=America/New_York:20250831T110000
DTSTAMP:20260425T082522
CREATED:20250724T005205Z
LAST-MODIFIED:20250724T005205Z
UID:10002191-1756634400-1756638000@westoverepiscopalchurch.org
SUMMARY:Twelfth Sunday after Pentecost Service
DESCRIPTION:
URL:https://westoverepiscopalchurch.org/event/twelfth-sunday-after-pentecost-service/
END:VEVENT
BEGIN:VEVENT
DTSTART;TZID=America/New_York:20250829T090000
DTEND;TZID=America/New_York:20250829T110000
DTSTAMP:20260425T082522
CREATED:20250103T170003Z
LAST-MODIFIED:20250103T170126Z
UID:10002059-1756458000-1756465200@westoverepiscopalchurch.org
SUMMARY:Meals on Wheels
DESCRIPTION:
URL:https://westoverepiscopalchurch.org/event/meals-on-wheels-2/2025-08-29/
END:VEVENT
BEGIN:VEVENT
DTSTART;TZID=America/New_York:20250829T090000
DTEND;TZID=America/New_York:20250829T110000
DTSTAMP:20260425T082522
CREATED:20230113T145846Z
LAST-MODIFIED:20230113T145846Z
UID:10003005-1756458000-1756465200@westoverepiscopalchurch.org
SUMMARY:Meals on Wheels
DESCRIPTION:Meals On Wheels (MOW) serves hot\, nutritious meals to the homebound elderly and/or disabled Monday through Friday.
URL:https://westoverepiscopalchurch.org/event/meals-on-wheels/2025-08-29/
END:VEVENT
BEGIN:VEVENT
DTSTART;TZID=America/New_York:20250828T100000
DTEND;TZID=America/New_York:20250828T110000
DTSTAMP:20260425T082522
CREATED:20241203T183802Z
LAST-MODIFIED:20250520T131430Z
UID:10001600-1756375200-1756378800@westoverepiscopalchurch.org
SUMMARY:Gentle Yoga with Rev. Becky
DESCRIPTION:
URL:https://westoverepiscopalchurch.org/event/gentle-yoga-with-rev-becky-6/2025-08-28/
END:VEVENT
BEGIN:VEVENT
DTSTART;TZID=America/New_York:20250828T090000
DTEND;TZID=America/New_York:20250828T110000
DTSTAMP:20260425T082522
CREATED:20250103T170003Z
LAST-MODIFIED:20250103T170126Z
UID:10002058-1756371600-1756378800@westoverepiscopalchurch.org
SUMMARY:Meals on Wheels
DESCRIPTION:
URL:https://westoverepiscopalchurch.org/event/meals-on-wheels-2/2025-08-28/
END:VEVENT
BEGIN:VEVENT
DTSTART;TZID=America/New_York:20250828T090000
DTEND;TZID=America/New_York:20250828T110000
DTSTAMP:20260425T082522
CREATED:20230113T145846Z
LAST-MODIFIED:20230113T145846Z
UID:10003004-1756371600-1756378800@westoverepiscopalchurch.org
SUMMARY:Meals on Wheels
DESCRIPTION:Meals On Wheels (MOW) serves hot\, nutritious meals to the homebound elderly and/or disabled Monday through Friday.
URL:https://westoverepiscopalchurch.org/event/meals-on-wheels/2025-08-28/
END:VEVENT
BEGIN:VEVENT
DTSTART;TZID=America/New_York:20250827T090000
DTEND;TZID=America/New_York:20250827T110000
DTSTAMP:20260425T082522
CREATED:20250103T170003Z
LAST-MODIFIED:20250103T170126Z
UID:10002057-1756285200-1756292400@westoverepiscopalchurch.org
SUMMARY:Meals on Wheels
DESCRIPTION:
URL:https://westoverepiscopalchurch.org/event/meals-on-wheels-2/2025-08-27/
END:VEVENT
BEGIN:VEVENT
DTSTART;TZID=America/New_York:20250827T090000
DTEND;TZID=America/New_York:20250827T110000
DTSTAMP:20260425T082522
CREATED:20230113T145846Z
LAST-MODIFIED:20230113T145846Z
UID:10003003-1756285200-1756292400@westoverepiscopalchurch.org
SUMMARY:Meals on Wheels
DESCRIPTION:Meals On Wheels (MOW) serves hot\, nutritious meals to the homebound elderly and/or disabled Monday through Friday.
URL:https://westoverepiscopalchurch.org/event/meals-on-wheels/2025-08-27/
END:VEVENT
BEGIN:VEVENT
DTSTART;TZID=America/New_York:20250826T090000
DTEND;TZID=America/New_York:20250826T110000
DTSTAMP:20260425T082522
CREATED:20250103T170003Z
LAST-MODIFIED:20250103T170126Z
UID:10002056-1756198800-1756206000@westoverepiscopalchurch.org
SUMMARY:Meals on Wheels
DESCRIPTION:
URL:https://westoverepiscopalchurch.org/event/meals-on-wheels-2/2025-08-26/
END:VEVENT
BEGIN:VEVENT
DTSTART;TZID=America/New_York:20250826T090000
DTEND;TZID=America/New_York:20250826T110000
DTSTAMP:20260425T082522
CREATED:20230113T145846Z
LAST-MODIFIED:20230113T145846Z
UID:10003002-1756198800-1756206000@westoverepiscopalchurch.org
SUMMARY:Meals on Wheels
DESCRIPTION:Meals On Wheels (MOW) serves hot\, nutritious meals to the homebound elderly and/or disabled Monday through Friday.
URL:https://westoverepiscopalchurch.org/event/meals-on-wheels/2025-08-26/
END:VEVENT
BEGIN:VEVENT
DTSTART;TZID=America/New_York:20250825T090000
DTEND;TZID=America/New_York:20250825T110000
DTSTAMP:20260425T082522
CREATED:20250103T170003Z
LAST-MODIFIED:20250103T170126Z
UID:10002055-1756112400-1756119600@westoverepiscopalchurch.org
SUMMARY:Meals on Wheels
DESCRIPTION:
URL:https://westoverepiscopalchurch.org/event/meals-on-wheels-2/2025-08-25/
END:VEVENT
BEGIN:VEVENT
DTSTART;TZID=America/New_York:20250825T090000
DTEND;TZID=America/New_York:20250825T110000
DTSTAMP:20260425T082522
CREATED:20230113T145846Z
LAST-MODIFIED:20230113T145846Z
UID:10003001-1756112400-1756119600@westoverepiscopalchurch.org
SUMMARY:Meals on Wheels
DESCRIPTION:Meals On Wheels (MOW) serves hot\, nutritious meals to the homebound elderly and/or disabled Monday through Friday.
URL:https://westoverepiscopalchurch.org/event/meals-on-wheels/2025-08-25/
END:VEVENT
BEGIN:VEVENT
DTSTART;TZID=America/New_York:20250824T100000
DTEND;TZID=America/New_York:20250824T110000
DTSTAMP:20260425T082522
CREATED:20250724T005122Z
LAST-MODIFIED:20250724T005122Z
UID:10002190-1756029600-1756033200@westoverepiscopalchurch.org
SUMMARY:Eleventh Sunday after Pentecost Service
DESCRIPTION:
URL:https://westoverepiscopalchurch.org/event/eleventh-sunday-after-pentecost-service-2/
END:VEVENT
BEGIN:VEVENT
DTSTART;TZID=America/New_York:20250822T090000
DTEND;TZID=America/New_York:20250822T110000
DTSTAMP:20260425T082522
CREATED:20250103T170003Z
LAST-MODIFIED:20250103T170126Z
UID:10002054-1755853200-1755860400@westoverepiscopalchurch.org
SUMMARY:Meals on Wheels
DESCRIPTION:
URL:https://westoverepiscopalchurch.org/event/meals-on-wheels-2/2025-08-22/
END:VEVENT
BEGIN:VEVENT
DTSTART;TZID=America/New_York:20250822T090000
DTEND;TZID=America/New_York:20250822T110000
DTSTAMP:20260425T082522
CREATED:20230113T145846Z
LAST-MODIFIED:20230113T145846Z
UID:10003000-1755853200-1755860400@westoverepiscopalchurch.org
SUMMARY:Meals on Wheels
DESCRIPTION:Meals On Wheels (MOW) serves hot\, nutritious meals to the homebound elderly and/or disabled Monday through Friday.
URL:https://westoverepiscopalchurch.org/event/meals-on-wheels/2025-08-22/
END:VEVENT
BEGIN:VEVENT
DTSTART;TZID=America/New_York:20250821T100000
DTEND;TZID=America/New_York:20250821T110000
DTSTAMP:20260425T082522
CREATED:20241203T183802Z
LAST-MODIFIED:20250520T131430Z
UID:10001599-1755770400-1755774000@westoverepiscopalchurch.org
SUMMARY:Gentle Yoga with Rev. Becky
DESCRIPTION:
URL:https://westoverepiscopalchurch.org/event/gentle-yoga-with-rev-becky-6/2025-08-21/
END:VEVENT
END:VCALENDAR