BEGIN:VCALENDAR
VERSION:2.0
PRODID:-//Westover Episcopal Church - Charles City, VA - ECPv6.15.20//NONSGML v1.0//EN
CALSCALE:GREGORIAN
METHOD:PUBLISH
X-ORIGINAL-URL:https://westoverepiscopalchurch.org
X-WR-CALDESC:Events for Westover Episcopal Church - Charles City, VA
REFRESH-INTERVAL;VALUE=DURATION:PT1H
X-Robots-Tag:noindex
X-PUBLISHED-TTL:PT1H
BEGIN:VTIMEZONE
TZID:America/New_York
BEGIN:DAYLIGHT
TZOFFSETFROM:-0500
TZOFFSETTO:-0400
TZNAME:EDT
DTSTART:20260308T070000
END:DAYLIGHT
BEGIN:STANDARD
TZOFFSETFROM:-0400
TZOFFSETTO:-0500
TZNAME:EST
DTSTART:20261101T060000
END:STANDARD
BEGIN:DAYLIGHT
TZOFFSETFROM:-0500
TZOFFSETTO:-0400
TZNAME:EDT
DTSTART:20270314T070000
END:DAYLIGHT
BEGIN:STANDARD
TZOFFSETFROM:-0400
TZOFFSETTO:-0500
TZNAME:EST
DTSTART:20271107T060000
END:STANDARD
BEGIN:DAYLIGHT
TZOFFSETFROM:-0500
TZOFFSETTO:-0400
TZNAME:EDT
DTSTART:20280312T070000
END:DAYLIGHT
BEGIN:STANDARD
TZOFFSETFROM:-0400
TZOFFSETTO:-0500
TZNAME:EST
DTSTART:20281105T060000
END:STANDARD
END:VTIMEZONE
BEGIN:VEVENT
DTSTART;TZID=America/New_York:20270226T090000
DTEND;TZID=America/New_York:20270226T110000
DTSTAMP:20260424T063452
CREATED:20230113T145846Z
LAST-MODIFIED:20230113T145846Z
UID:10003395-1803632400-1803639600@westoverepiscopalchurch.org
SUMMARY:Meals on Wheels
DESCRIPTION:Meals On Wheels (MOW) serves hot\, nutritious meals to the homebound elderly and/or disabled Monday through Friday.
URL:https://westoverepiscopalchurch.org/event/meals-on-wheels/2027-02-26/
LOCATION:VA
END:VEVENT
BEGIN:VEVENT
DTSTART;TZID=America/New_York:20270301T090000
DTEND;TZID=America/New_York:20270301T110000
DTSTAMP:20260424T063452
CREATED:20230113T145846Z
LAST-MODIFIED:20230113T145846Z
UID:10003396-1803891600-1803898800@westoverepiscopalchurch.org
SUMMARY:Meals on Wheels
DESCRIPTION:Meals On Wheels (MOW) serves hot\, nutritious meals to the homebound elderly and/or disabled Monday through Friday.
URL:https://westoverepiscopalchurch.org/event/meals-on-wheels/2027-03-01/
LOCATION:VA
END:VEVENT
BEGIN:VEVENT
DTSTART;TZID=America/New_York:20270302T090000
DTEND;TZID=America/New_York:20270302T110000
DTSTAMP:20260424T063452
CREATED:20230113T145846Z
LAST-MODIFIED:20230113T145846Z
UID:10003397-1803978000-1803985200@westoverepiscopalchurch.org
SUMMARY:Meals on Wheels
DESCRIPTION:Meals On Wheels (MOW) serves hot\, nutritious meals to the homebound elderly and/or disabled Monday through Friday.
URL:https://westoverepiscopalchurch.org/event/meals-on-wheels/2027-03-02/
LOCATION:VA
END:VEVENT
BEGIN:VEVENT
DTSTART;TZID=America/New_York:20270303T090000
DTEND;TZID=America/New_York:20270303T110000
DTSTAMP:20260424T063452
CREATED:20230113T145846Z
LAST-MODIFIED:20230113T145846Z
UID:10003398-1804064400-1804071600@westoverepiscopalchurch.org
SUMMARY:Meals on Wheels
DESCRIPTION:Meals On Wheels (MOW) serves hot\, nutritious meals to the homebound elderly and/or disabled Monday through Friday.
URL:https://westoverepiscopalchurch.org/event/meals-on-wheels/2027-03-03/
LOCATION:VA
END:VEVENT
BEGIN:VEVENT
DTSTART;TZID=America/New_York:20270304T090000
DTEND;TZID=America/New_York:20270304T110000
DTSTAMP:20260424T063452
CREATED:20230113T145846Z
LAST-MODIFIED:20230113T145846Z
UID:10003399-1804150800-1804158000@westoverepiscopalchurch.org
SUMMARY:Meals on Wheels
DESCRIPTION:Meals On Wheels (MOW) serves hot\, nutritious meals to the homebound elderly and/or disabled Monday through Friday.
URL:https://westoverepiscopalchurch.org/event/meals-on-wheels/2027-03-04/
LOCATION:VA
END:VEVENT
BEGIN:VEVENT
DTSTART;TZID=America/New_York:20270305T090000
DTEND;TZID=America/New_York:20270305T110000
DTSTAMP:20260424T063452
CREATED:20230113T145846Z
LAST-MODIFIED:20230113T145846Z
UID:10003400-1804237200-1804244400@westoverepiscopalchurch.org
SUMMARY:Meals on Wheels
DESCRIPTION:Meals On Wheels (MOW) serves hot\, nutritious meals to the homebound elderly and/or disabled Monday through Friday.
URL:https://westoverepiscopalchurch.org/event/meals-on-wheels/2027-03-05/
LOCATION:VA
END:VEVENT
BEGIN:VEVENT
DTSTART;TZID=America/New_York:20270308T090000
DTEND;TZID=America/New_York:20270308T110000
DTSTAMP:20260424T063452
CREATED:20230113T145846Z
LAST-MODIFIED:20230113T145846Z
UID:10003401-1804496400-1804503600@westoverepiscopalchurch.org
SUMMARY:Meals on Wheels
DESCRIPTION:Meals On Wheels (MOW) serves hot\, nutritious meals to the homebound elderly and/or disabled Monday through Friday.
URL:https://westoverepiscopalchurch.org/event/meals-on-wheels/2027-03-08/
LOCATION:VA
END:VEVENT
BEGIN:VEVENT
DTSTART;TZID=America/New_York:20270309T090000
DTEND;TZID=America/New_York:20270309T110000
DTSTAMP:20260424T063452
CREATED:20230113T145846Z
LAST-MODIFIED:20230113T145846Z
UID:10003402-1804582800-1804590000@westoverepiscopalchurch.org
SUMMARY:Meals on Wheels
DESCRIPTION:Meals On Wheels (MOW) serves hot\, nutritious meals to the homebound elderly and/or disabled Monday through Friday.
URL:https://westoverepiscopalchurch.org/event/meals-on-wheels/2027-03-09/
LOCATION:VA
END:VEVENT
BEGIN:VEVENT
DTSTART;TZID=America/New_York:20270310T090000
DTEND;TZID=America/New_York:20270310T110000
DTSTAMP:20260424T063452
CREATED:20230113T145846Z
LAST-MODIFIED:20230113T145846Z
UID:10003403-1804669200-1804676400@westoverepiscopalchurch.org
SUMMARY:Meals on Wheels
DESCRIPTION:Meals On Wheels (MOW) serves hot\, nutritious meals to the homebound elderly and/or disabled Monday through Friday.
URL:https://westoverepiscopalchurch.org/event/meals-on-wheels/2027-03-10/
LOCATION:VA
END:VEVENT
BEGIN:VEVENT
DTSTART;TZID=America/New_York:20270311T090000
DTEND;TZID=America/New_York:20270311T110000
DTSTAMP:20260424T063452
CREATED:20230113T145846Z
LAST-MODIFIED:20230113T145846Z
UID:10003404-1804755600-1804762800@westoverepiscopalchurch.org
SUMMARY:Meals on Wheels
DESCRIPTION:Meals On Wheels (MOW) serves hot\, nutritious meals to the homebound elderly and/or disabled Monday through Friday.
URL:https://westoverepiscopalchurch.org/event/meals-on-wheels/2027-03-11/
LOCATION:VA
END:VEVENT
BEGIN:VEVENT
DTSTART;TZID=America/New_York:20270312T090000
DTEND;TZID=America/New_York:20270312T110000
DTSTAMP:20260424T063452
CREATED:20230113T145846Z
LAST-MODIFIED:20230113T145846Z
UID:10003405-1804842000-1804849200@westoverepiscopalchurch.org
SUMMARY:Meals on Wheels
DESCRIPTION:Meals On Wheels (MOW) serves hot\, nutritious meals to the homebound elderly and/or disabled Monday through Friday.
URL:https://westoverepiscopalchurch.org/event/meals-on-wheels/2027-03-12/
LOCATION:VA
END:VEVENT
BEGIN:VEVENT
DTSTART;TZID=America/New_York:20270315T090000
DTEND;TZID=America/New_York:20270315T110000
DTSTAMP:20260424T063452
CREATED:20230113T145846Z
LAST-MODIFIED:20230113T145846Z
UID:10003406-1805101200-1805108400@westoverepiscopalchurch.org
SUMMARY:Meals on Wheels
DESCRIPTION:Meals On Wheels (MOW) serves hot\, nutritious meals to the homebound elderly and/or disabled Monday through Friday.
URL:https://westoverepiscopalchurch.org/event/meals-on-wheels/2027-03-15/
LOCATION:VA
END:VEVENT
BEGIN:VEVENT
DTSTART;TZID=America/New_York:20270316T090000
DTEND;TZID=America/New_York:20270316T110000
DTSTAMP:20260424T063452
CREATED:20230113T145846Z
LAST-MODIFIED:20230113T145846Z
UID:10003407-1805187600-1805194800@westoverepiscopalchurch.org
SUMMARY:Meals on Wheels
DESCRIPTION:Meals On Wheels (MOW) serves hot\, nutritious meals to the homebound elderly and/or disabled Monday through Friday.
URL:https://westoverepiscopalchurch.org/event/meals-on-wheels/2027-03-16/
LOCATION:VA
END:VEVENT
BEGIN:VEVENT
DTSTART;TZID=America/New_York:20270317T090000
DTEND;TZID=America/New_York:20270317T110000
DTSTAMP:20260424T063452
CREATED:20230113T145846Z
LAST-MODIFIED:20230113T145846Z
UID:10003408-1805274000-1805281200@westoverepiscopalchurch.org
SUMMARY:Meals on Wheels
DESCRIPTION:Meals On Wheels (MOW) serves hot\, nutritious meals to the homebound elderly and/or disabled Monday through Friday.
URL:https://westoverepiscopalchurch.org/event/meals-on-wheels/2027-03-17/
LOCATION:VA
END:VEVENT
BEGIN:VEVENT
DTSTART;TZID=America/New_York:20270318T090000
DTEND;TZID=America/New_York:20270318T110000
DTSTAMP:20260424T063452
CREATED:20230113T145846Z
LAST-MODIFIED:20230113T145846Z
UID:10003409-1805360400-1805367600@westoverepiscopalchurch.org
SUMMARY:Meals on Wheels
DESCRIPTION:Meals On Wheels (MOW) serves hot\, nutritious meals to the homebound elderly and/or disabled Monday through Friday.
URL:https://westoverepiscopalchurch.org/event/meals-on-wheels/2027-03-18/
LOCATION:VA
END:VEVENT
BEGIN:VEVENT
DTSTART;TZID=America/New_York:20270319T090000
DTEND;TZID=America/New_York:20270319T110000
DTSTAMP:20260424T063452
CREATED:20230113T145846Z
LAST-MODIFIED:20230113T145846Z
UID:10003410-1805446800-1805454000@westoverepiscopalchurch.org
SUMMARY:Meals on Wheels
DESCRIPTION:Meals On Wheels (MOW) serves hot\, nutritious meals to the homebound elderly and/or disabled Monday through Friday.
URL:https://westoverepiscopalchurch.org/event/meals-on-wheels/2027-03-19/
LOCATION:VA
END:VEVENT
BEGIN:VEVENT
DTSTART;TZID=America/New_York:20270322T090000
DTEND;TZID=America/New_York:20270322T110000
DTSTAMP:20260424T063452
CREATED:20230113T145846Z
LAST-MODIFIED:20230113T145846Z
UID:10003411-1805706000-1805713200@westoverepiscopalchurch.org
SUMMARY:Meals on Wheels
DESCRIPTION:Meals On Wheels (MOW) serves hot\, nutritious meals to the homebound elderly and/or disabled Monday through Friday.
URL:https://westoverepiscopalchurch.org/event/meals-on-wheels/2027-03-22/
LOCATION:VA
END:VEVENT
BEGIN:VEVENT
DTSTART;TZID=America/New_York:20270323T090000
DTEND;TZID=America/New_York:20270323T110000
DTSTAMP:20260424T063452
CREATED:20230113T145846Z
LAST-MODIFIED:20230113T145846Z
UID:10003412-1805792400-1805799600@westoverepiscopalchurch.org
SUMMARY:Meals on Wheels
DESCRIPTION:Meals On Wheels (MOW) serves hot\, nutritious meals to the homebound elderly and/or disabled Monday through Friday.
URL:https://westoverepiscopalchurch.org/event/meals-on-wheels/2027-03-23/
LOCATION:VA
END:VEVENT
BEGIN:VEVENT
DTSTART;TZID=America/New_York:20270324T090000
DTEND;TZID=America/New_York:20270324T110000
DTSTAMP:20260424T063452
CREATED:20230113T145846Z
LAST-MODIFIED:20230113T145846Z
UID:10003413-1805878800-1805886000@westoverepiscopalchurch.org
SUMMARY:Meals on Wheels
DESCRIPTION:Meals On Wheels (MOW) serves hot\, nutritious meals to the homebound elderly and/or disabled Monday through Friday.
URL:https://westoverepiscopalchurch.org/event/meals-on-wheels/2027-03-24/
LOCATION:VA
END:VEVENT
BEGIN:VEVENT
DTSTART;TZID=America/New_York:20270325T090000
DTEND;TZID=America/New_York:20270325T110000
DTSTAMP:20260424T063452
CREATED:20230113T145846Z
LAST-MODIFIED:20230113T145846Z
UID:10003414-1805965200-1805972400@westoverepiscopalchurch.org
SUMMARY:Meals on Wheels
DESCRIPTION:Meals On Wheels (MOW) serves hot\, nutritious meals to the homebound elderly and/or disabled Monday through Friday.
URL:https://westoverepiscopalchurch.org/event/meals-on-wheels/2027-03-25/
LOCATION:VA
END:VEVENT
BEGIN:VEVENT
DTSTART;TZID=America/New_York:20270326T090000
DTEND;TZID=America/New_York:20270326T110000
DTSTAMP:20260424T063452
CREATED:20230113T145846Z
LAST-MODIFIED:20230113T145846Z
UID:10003415-1806051600-1806058800@westoverepiscopalchurch.org
SUMMARY:Meals on Wheels
DESCRIPTION:Meals On Wheels (MOW) serves hot\, nutritious meals to the homebound elderly and/or disabled Monday through Friday.
URL:https://westoverepiscopalchurch.org/event/meals-on-wheels/2027-03-26/
LOCATION:VA
END:VEVENT
BEGIN:VEVENT
DTSTART;TZID=America/New_York:20270329T090000
DTEND;TZID=America/New_York:20270329T110000
DTSTAMP:20260424T063452
CREATED:20230113T145846Z
LAST-MODIFIED:20230113T145846Z
UID:10003416-1806310800-1806318000@westoverepiscopalchurch.org
SUMMARY:Meals on Wheels
DESCRIPTION:Meals On Wheels (MOW) serves hot\, nutritious meals to the homebound elderly and/or disabled Monday through Friday.
URL:https://westoverepiscopalchurch.org/event/meals-on-wheels/2027-03-29/
LOCATION:VA
END:VEVENT
BEGIN:VEVENT
DTSTART;TZID=America/New_York:20270330T090000
DTEND;TZID=America/New_York:20270330T110000
DTSTAMP:20260424T063452
CREATED:20230113T145846Z
LAST-MODIFIED:20230113T145846Z
UID:10003417-1806397200-1806404400@westoverepiscopalchurch.org
SUMMARY:Meals on Wheels
DESCRIPTION:Meals On Wheels (MOW) serves hot\, nutritious meals to the homebound elderly and/or disabled Monday through Friday.
URL:https://westoverepiscopalchurch.org/event/meals-on-wheels/2027-03-30/
LOCATION:VA
END:VEVENT
BEGIN:VEVENT
DTSTART;TZID=America/New_York:20270331T090000
DTEND;TZID=America/New_York:20270331T110000
DTSTAMP:20260424T063452
CREATED:20230113T145846Z
LAST-MODIFIED:20230113T145846Z
UID:10003418-1806483600-1806490800@westoverepiscopalchurch.org
SUMMARY:Meals on Wheels
DESCRIPTION:Meals On Wheels (MOW) serves hot\, nutritious meals to the homebound elderly and/or disabled Monday through Friday.
URL:https://westoverepiscopalchurch.org/event/meals-on-wheels/2027-03-31/
LOCATION:VA
END:VEVENT
BEGIN:VEVENT
DTSTART;TZID=America/New_York:20270401T090000
DTEND;TZID=America/New_York:20270401T110000
DTSTAMP:20260424T063452
CREATED:20230113T145846Z
LAST-MODIFIED:20230113T145846Z
UID:10003419-1806570000-1806577200@westoverepiscopalchurch.org
SUMMARY:Meals on Wheels
DESCRIPTION:Meals On Wheels (MOW) serves hot\, nutritious meals to the homebound elderly and/or disabled Monday through Friday.
URL:https://westoverepiscopalchurch.org/event/meals-on-wheels/2027-04-01/
LOCATION:VA
END:VEVENT
BEGIN:VEVENT
DTSTART;TZID=America/New_York:20270402T090000
DTEND;TZID=America/New_York:20270402T110000
DTSTAMP:20260424T063452
CREATED:20230113T145846Z
LAST-MODIFIED:20230113T145846Z
UID:10003420-1806656400-1806663600@westoverepiscopalchurch.org
SUMMARY:Meals on Wheels
DESCRIPTION:Meals On Wheels (MOW) serves hot\, nutritious meals to the homebound elderly and/or disabled Monday through Friday.
URL:https://westoverepiscopalchurch.org/event/meals-on-wheels/2027-04-02/
LOCATION:VA
END:VEVENT
BEGIN:VEVENT
DTSTART;TZID=America/New_York:20270405T090000
DTEND;TZID=America/New_York:20270405T110000
DTSTAMP:20260424T063452
CREATED:20230113T145846Z
LAST-MODIFIED:20230113T145846Z
UID:10003421-1806915600-1806922800@westoverepiscopalchurch.org
SUMMARY:Meals on Wheels
DESCRIPTION:Meals On Wheels (MOW) serves hot\, nutritious meals to the homebound elderly and/or disabled Monday through Friday.
URL:https://westoverepiscopalchurch.org/event/meals-on-wheels/2027-04-05/
LOCATION:VA
END:VEVENT
BEGIN:VEVENT
DTSTART;TZID=America/New_York:20270406T090000
DTEND;TZID=America/New_York:20270406T110000
DTSTAMP:20260424T063452
CREATED:20230113T145846Z
LAST-MODIFIED:20230113T145846Z
UID:10003422-1807002000-1807009200@westoverepiscopalchurch.org
SUMMARY:Meals on Wheels
DESCRIPTION:Meals On Wheels (MOW) serves hot\, nutritious meals to the homebound elderly and/or disabled Monday through Friday.
URL:https://westoverepiscopalchurch.org/event/meals-on-wheels/2027-04-06/
LOCATION:VA
END:VEVENT
BEGIN:VEVENT
DTSTART;TZID=America/New_York:20270407T090000
DTEND;TZID=America/New_York:20270407T110000
DTSTAMP:20260424T063452
CREATED:20230113T145846Z
LAST-MODIFIED:20230113T145846Z
UID:10003423-1807088400-1807095600@westoverepiscopalchurch.org
SUMMARY:Meals on Wheels
DESCRIPTION:Meals On Wheels (MOW) serves hot\, nutritious meals to the homebound elderly and/or disabled Monday through Friday.
URL:https://westoverepiscopalchurch.org/event/meals-on-wheels/2027-04-07/
LOCATION:VA
END:VEVENT
BEGIN:VEVENT
DTSTART;TZID=America/New_York:20270408T090000
DTEND;TZID=America/New_York:20270408T110000
DTSTAMP:20260424T063452
CREATED:20230113T145846Z
LAST-MODIFIED:20230113T145846Z
UID:10003424-1807174800-1807182000@westoverepiscopalchurch.org
SUMMARY:Meals on Wheels
DESCRIPTION:Meals On Wheels (MOW) serves hot\, nutritious meals to the homebound elderly and/or disabled Monday through Friday.
URL:https://westoverepiscopalchurch.org/event/meals-on-wheels/2027-04-08/
LOCATION:VA
END:VEVENT
END:VCALENDAR