BEGIN:VCALENDAR
VERSION:2.0
PRODID:-//Westover Episcopal Church - Charles City, VA - ECPv6.15.20//NONSGML v1.0//EN
CALSCALE:GREGORIAN
METHOD:PUBLISH
X-ORIGINAL-URL:https://westoverepiscopalchurch.org
X-WR-CALDESC:Events for Westover Episcopal Church - Charles City, VA
REFRESH-INTERVAL;VALUE=DURATION:PT1H
X-Robots-Tag:noindex
X-PUBLISHED-TTL:PT1H
BEGIN:VTIMEZONE
TZID:America/New_York
BEGIN:DAYLIGHT
TZOFFSETFROM:-0500
TZOFFSETTO:-0400
TZNAME:EDT
DTSTART:20280312T070000
END:DAYLIGHT
BEGIN:STANDARD
TZOFFSETFROM:-0400
TZOFFSETTO:-0500
TZNAME:EST
DTSTART:20281105T060000
END:STANDARD
BEGIN:DAYLIGHT
TZOFFSETFROM:-0500
TZOFFSETTO:-0400
TZNAME:EDT
DTSTART:20290311T070000
END:DAYLIGHT
BEGIN:STANDARD
TZOFFSETFROM:-0400
TZOFFSETTO:-0500
TZNAME:EST
DTSTART:20291104T060000
END:STANDARD
BEGIN:DAYLIGHT
TZOFFSETFROM:-0500
TZOFFSETTO:-0400
TZNAME:EDT
DTSTART:20300310T070000
END:DAYLIGHT
BEGIN:STANDARD
TZOFFSETFROM:-0400
TZOFFSETTO:-0500
TZNAME:EST
DTSTART:20301103T060000
END:STANDARD
END:VTIMEZONE
BEGIN:VEVENT
DTSTART;TZID=America/New_York:20290320T090000
DTEND;TZID=America/New_York:20290320T110000
DTSTAMP:20260425T200014
CREATED:20230113T145846Z
LAST-MODIFIED:20230113T145846Z
UID:10003932-1868691600-1868698800@westoverepiscopalchurch.org
SUMMARY:Meals on Wheels
DESCRIPTION:Meals On Wheels (MOW) serves hot\, nutritious meals to the homebound elderly and/or disabled Monday through Friday.
URL:https://westoverepiscopalchurch.org/event/meals-on-wheels/2029-03-20/
LOCATION:VA
END:VEVENT
BEGIN:VEVENT
DTSTART;TZID=America/New_York:20290321T090000
DTEND;TZID=America/New_York:20290321T110000
DTSTAMP:20260425T200014
CREATED:20230113T145846Z
LAST-MODIFIED:20230113T145846Z
UID:10003933-1868778000-1868785200@westoverepiscopalchurch.org
SUMMARY:Meals on Wheels
DESCRIPTION:Meals On Wheels (MOW) serves hot\, nutritious meals to the homebound elderly and/or disabled Monday through Friday.
URL:https://westoverepiscopalchurch.org/event/meals-on-wheels/2029-03-21/
LOCATION:VA
END:VEVENT
BEGIN:VEVENT
DTSTART;TZID=America/New_York:20290322T090000
DTEND;TZID=America/New_York:20290322T110000
DTSTAMP:20260425T200014
CREATED:20230113T145846Z
LAST-MODIFIED:20230113T145846Z
UID:10003934-1868864400-1868871600@westoverepiscopalchurch.org
SUMMARY:Meals on Wheels
DESCRIPTION:Meals On Wheels (MOW) serves hot\, nutritious meals to the homebound elderly and/or disabled Monday through Friday.
URL:https://westoverepiscopalchurch.org/event/meals-on-wheels/2029-03-22/
LOCATION:VA
END:VEVENT
BEGIN:VEVENT
DTSTART;TZID=America/New_York:20290323T090000
DTEND;TZID=America/New_York:20290323T110000
DTSTAMP:20260425T200014
CREATED:20230113T145846Z
LAST-MODIFIED:20230113T145846Z
UID:10003935-1868950800-1868958000@westoverepiscopalchurch.org
SUMMARY:Meals on Wheels
DESCRIPTION:Meals On Wheels (MOW) serves hot\, nutritious meals to the homebound elderly and/or disabled Monday through Friday.
URL:https://westoverepiscopalchurch.org/event/meals-on-wheels/2029-03-23/
LOCATION:VA
END:VEVENT
BEGIN:VEVENT
DTSTART;TZID=America/New_York:20290326T090000
DTEND;TZID=America/New_York:20290326T110000
DTSTAMP:20260425T200014
CREATED:20230113T145846Z
LAST-MODIFIED:20230113T145846Z
UID:10003936-1869210000-1869217200@westoverepiscopalchurch.org
SUMMARY:Meals on Wheels
DESCRIPTION:Meals On Wheels (MOW) serves hot\, nutritious meals to the homebound elderly and/or disabled Monday through Friday.
URL:https://westoverepiscopalchurch.org/event/meals-on-wheels/2029-03-26/
LOCATION:VA
END:VEVENT
BEGIN:VEVENT
DTSTART;TZID=America/New_York:20290327T090000
DTEND;TZID=America/New_York:20290327T110000
DTSTAMP:20260425T200014
CREATED:20230113T145846Z
LAST-MODIFIED:20230113T145846Z
UID:10003937-1869296400-1869303600@westoverepiscopalchurch.org
SUMMARY:Meals on Wheels
DESCRIPTION:Meals On Wheels (MOW) serves hot\, nutritious meals to the homebound elderly and/or disabled Monday through Friday.
URL:https://westoverepiscopalchurch.org/event/meals-on-wheels/2029-03-27/
LOCATION:VA
END:VEVENT
BEGIN:VEVENT
DTSTART;TZID=America/New_York:20290328T090000
DTEND;TZID=America/New_York:20290328T110000
DTSTAMP:20260425T200014
CREATED:20230113T145846Z
LAST-MODIFIED:20230113T145846Z
UID:10003938-1869382800-1869390000@westoverepiscopalchurch.org
SUMMARY:Meals on Wheels
DESCRIPTION:Meals On Wheels (MOW) serves hot\, nutritious meals to the homebound elderly and/or disabled Monday through Friday.
URL:https://westoverepiscopalchurch.org/event/meals-on-wheels/2029-03-28/
LOCATION:VA
END:VEVENT
BEGIN:VEVENT
DTSTART;TZID=America/New_York:20290329T090000
DTEND;TZID=America/New_York:20290329T110000
DTSTAMP:20260425T200014
CREATED:20230113T145846Z
LAST-MODIFIED:20230113T145846Z
UID:10003939-1869469200-1869476400@westoverepiscopalchurch.org
SUMMARY:Meals on Wheels
DESCRIPTION:Meals On Wheels (MOW) serves hot\, nutritious meals to the homebound elderly and/or disabled Monday through Friday.
URL:https://westoverepiscopalchurch.org/event/meals-on-wheels/2029-03-29/
LOCATION:VA
END:VEVENT
BEGIN:VEVENT
DTSTART;TZID=America/New_York:20290330T090000
DTEND;TZID=America/New_York:20290330T110000
DTSTAMP:20260425T200014
CREATED:20230113T145846Z
LAST-MODIFIED:20230113T145846Z
UID:10003940-1869555600-1869562800@westoverepiscopalchurch.org
SUMMARY:Meals on Wheels
DESCRIPTION:Meals On Wheels (MOW) serves hot\, nutritious meals to the homebound elderly and/or disabled Monday through Friday.
URL:https://westoverepiscopalchurch.org/event/meals-on-wheels/2029-03-30/
LOCATION:VA
END:VEVENT
BEGIN:VEVENT
DTSTART;TZID=America/New_York:20290402T090000
DTEND;TZID=America/New_York:20290402T110000
DTSTAMP:20260425T200014
CREATED:20230113T145846Z
LAST-MODIFIED:20230113T145846Z
UID:10003941-1869814800-1869822000@westoverepiscopalchurch.org
SUMMARY:Meals on Wheels
DESCRIPTION:Meals On Wheels (MOW) serves hot\, nutritious meals to the homebound elderly and/or disabled Monday through Friday.
URL:https://westoverepiscopalchurch.org/event/meals-on-wheels/2029-04-02/
LOCATION:VA
END:VEVENT
BEGIN:VEVENT
DTSTART;TZID=America/New_York:20290403T090000
DTEND;TZID=America/New_York:20290403T110000
DTSTAMP:20260425T200014
CREATED:20230113T145846Z
LAST-MODIFIED:20230113T145846Z
UID:10003942-1869901200-1869908400@westoverepiscopalchurch.org
SUMMARY:Meals on Wheels
DESCRIPTION:Meals On Wheels (MOW) serves hot\, nutritious meals to the homebound elderly and/or disabled Monday through Friday.
URL:https://westoverepiscopalchurch.org/event/meals-on-wheels/2029-04-03/
LOCATION:VA
END:VEVENT
BEGIN:VEVENT
DTSTART;TZID=America/New_York:20290404T090000
DTEND;TZID=America/New_York:20290404T110000
DTSTAMP:20260425T200014
CREATED:20230113T145846Z
LAST-MODIFIED:20230113T145846Z
UID:10003943-1869987600-1869994800@westoverepiscopalchurch.org
SUMMARY:Meals on Wheels
DESCRIPTION:Meals On Wheels (MOW) serves hot\, nutritious meals to the homebound elderly and/or disabled Monday through Friday.
URL:https://westoverepiscopalchurch.org/event/meals-on-wheels/2029-04-04/
LOCATION:VA
END:VEVENT
BEGIN:VEVENT
DTSTART;TZID=America/New_York:20290405T090000
DTEND;TZID=America/New_York:20290405T110000
DTSTAMP:20260425T200014
CREATED:20230113T145846Z
LAST-MODIFIED:20230113T145846Z
UID:10003944-1870074000-1870081200@westoverepiscopalchurch.org
SUMMARY:Meals on Wheels
DESCRIPTION:Meals On Wheels (MOW) serves hot\, nutritious meals to the homebound elderly and/or disabled Monday through Friday.
URL:https://westoverepiscopalchurch.org/event/meals-on-wheels/2029-04-05/
LOCATION:VA
END:VEVENT
BEGIN:VEVENT
DTSTART;TZID=America/New_York:20290406T090000
DTEND;TZID=America/New_York:20290406T110000
DTSTAMP:20260425T200014
CREATED:20230113T145846Z
LAST-MODIFIED:20230113T145846Z
UID:10003945-1870160400-1870167600@westoverepiscopalchurch.org
SUMMARY:Meals on Wheels
DESCRIPTION:Meals On Wheels (MOW) serves hot\, nutritious meals to the homebound elderly and/or disabled Monday through Friday.
URL:https://westoverepiscopalchurch.org/event/meals-on-wheels/2029-04-06/
LOCATION:VA
END:VEVENT
BEGIN:VEVENT
DTSTART;TZID=America/New_York:20290409T090000
DTEND;TZID=America/New_York:20290409T110000
DTSTAMP:20260425T200014
CREATED:20230113T145846Z
LAST-MODIFIED:20230113T145846Z
UID:10003946-1870419600-1870426800@westoverepiscopalchurch.org
SUMMARY:Meals on Wheels
DESCRIPTION:Meals On Wheels (MOW) serves hot\, nutritious meals to the homebound elderly and/or disabled Monday through Friday.
URL:https://westoverepiscopalchurch.org/event/meals-on-wheels/2029-04-09/
LOCATION:VA
END:VEVENT
BEGIN:VEVENT
DTSTART;TZID=America/New_York:20290410T090000
DTEND;TZID=America/New_York:20290410T110000
DTSTAMP:20260425T200014
CREATED:20230113T145846Z
LAST-MODIFIED:20230113T145846Z
UID:10003947-1870506000-1870513200@westoverepiscopalchurch.org
SUMMARY:Meals on Wheels
DESCRIPTION:Meals On Wheels (MOW) serves hot\, nutritious meals to the homebound elderly and/or disabled Monday through Friday.
URL:https://westoverepiscopalchurch.org/event/meals-on-wheels/2029-04-10/
LOCATION:VA
END:VEVENT
BEGIN:VEVENT
DTSTART;TZID=America/New_York:20290411T090000
DTEND;TZID=America/New_York:20290411T110000
DTSTAMP:20260425T200014
CREATED:20230113T145846Z
LAST-MODIFIED:20230113T145846Z
UID:10003948-1870592400-1870599600@westoverepiscopalchurch.org
SUMMARY:Meals on Wheels
DESCRIPTION:Meals On Wheels (MOW) serves hot\, nutritious meals to the homebound elderly and/or disabled Monday through Friday.
URL:https://westoverepiscopalchurch.org/event/meals-on-wheels/2029-04-11/
LOCATION:VA
END:VEVENT
BEGIN:VEVENT
DTSTART;TZID=America/New_York:20290412T090000
DTEND;TZID=America/New_York:20290412T110000
DTSTAMP:20260425T200014
CREATED:20230113T145846Z
LAST-MODIFIED:20230113T145846Z
UID:10003949-1870678800-1870686000@westoverepiscopalchurch.org
SUMMARY:Meals on Wheels
DESCRIPTION:Meals On Wheels (MOW) serves hot\, nutritious meals to the homebound elderly and/or disabled Monday through Friday.
URL:https://westoverepiscopalchurch.org/event/meals-on-wheels/2029-04-12/
LOCATION:VA
END:VEVENT
BEGIN:VEVENT
DTSTART;TZID=America/New_York:20290413T090000
DTEND;TZID=America/New_York:20290413T110000
DTSTAMP:20260425T200014
CREATED:20230113T145846Z
LAST-MODIFIED:20230113T145846Z
UID:10003950-1870765200-1870772400@westoverepiscopalchurch.org
SUMMARY:Meals on Wheels
DESCRIPTION:Meals On Wheels (MOW) serves hot\, nutritious meals to the homebound elderly and/or disabled Monday through Friday.
URL:https://westoverepiscopalchurch.org/event/meals-on-wheels/2029-04-13/
LOCATION:VA
END:VEVENT
BEGIN:VEVENT
DTSTART;TZID=America/New_York:20290416T090000
DTEND;TZID=America/New_York:20290416T110000
DTSTAMP:20260425T200014
CREATED:20230113T145846Z
LAST-MODIFIED:20230113T145846Z
UID:10003951-1871024400-1871031600@westoverepiscopalchurch.org
SUMMARY:Meals on Wheels
DESCRIPTION:Meals On Wheels (MOW) serves hot\, nutritious meals to the homebound elderly and/or disabled Monday through Friday.
URL:https://westoverepiscopalchurch.org/event/meals-on-wheels/2029-04-16/
LOCATION:VA
END:VEVENT
BEGIN:VEVENT
DTSTART;TZID=America/New_York:20290417T090000
DTEND;TZID=America/New_York:20290417T110000
DTSTAMP:20260425T200014
CREATED:20230113T145846Z
LAST-MODIFIED:20230113T145846Z
UID:10003952-1871110800-1871118000@westoverepiscopalchurch.org
SUMMARY:Meals on Wheels
DESCRIPTION:Meals On Wheels (MOW) serves hot\, nutritious meals to the homebound elderly and/or disabled Monday through Friday.
URL:https://westoverepiscopalchurch.org/event/meals-on-wheels/2029-04-17/
LOCATION:VA
END:VEVENT
BEGIN:VEVENT
DTSTART;TZID=America/New_York:20290418T090000
DTEND;TZID=America/New_York:20290418T110000
DTSTAMP:20260425T200014
CREATED:20230113T145846Z
LAST-MODIFIED:20230113T145846Z
UID:10003953-1871197200-1871204400@westoverepiscopalchurch.org
SUMMARY:Meals on Wheels
DESCRIPTION:Meals On Wheels (MOW) serves hot\, nutritious meals to the homebound elderly and/or disabled Monday through Friday.
URL:https://westoverepiscopalchurch.org/event/meals-on-wheels/2029-04-18/
LOCATION:VA
END:VEVENT
BEGIN:VEVENT
DTSTART;TZID=America/New_York:20290419T090000
DTEND;TZID=America/New_York:20290419T110000
DTSTAMP:20260425T200014
CREATED:20230113T145846Z
LAST-MODIFIED:20230113T145846Z
UID:10003954-1871283600-1871290800@westoverepiscopalchurch.org
SUMMARY:Meals on Wheels
DESCRIPTION:Meals On Wheels (MOW) serves hot\, nutritious meals to the homebound elderly and/or disabled Monday through Friday.
URL:https://westoverepiscopalchurch.org/event/meals-on-wheels/2029-04-19/
LOCATION:VA
END:VEVENT
BEGIN:VEVENT
DTSTART;TZID=America/New_York:20290420T090000
DTEND;TZID=America/New_York:20290420T110000
DTSTAMP:20260425T200014
CREATED:20230113T145846Z
LAST-MODIFIED:20230113T145846Z
UID:10003955-1871370000-1871377200@westoverepiscopalchurch.org
SUMMARY:Meals on Wheels
DESCRIPTION:Meals On Wheels (MOW) serves hot\, nutritious meals to the homebound elderly and/or disabled Monday through Friday.
URL:https://westoverepiscopalchurch.org/event/meals-on-wheels/2029-04-20/
LOCATION:VA
END:VEVENT
BEGIN:VEVENT
DTSTART;TZID=America/New_York:20290423T090000
DTEND;TZID=America/New_York:20290423T110000
DTSTAMP:20260425T200014
CREATED:20230113T145846Z
LAST-MODIFIED:20230113T145846Z
UID:10003956-1871629200-1871636400@westoverepiscopalchurch.org
SUMMARY:Meals on Wheels
DESCRIPTION:Meals On Wheels (MOW) serves hot\, nutritious meals to the homebound elderly and/or disabled Monday through Friday.
URL:https://westoverepiscopalchurch.org/event/meals-on-wheels/2029-04-23/
LOCATION:VA
END:VEVENT
BEGIN:VEVENT
DTSTART;TZID=America/New_York:20290424T090000
DTEND;TZID=America/New_York:20290424T110000
DTSTAMP:20260425T200014
CREATED:20230113T145846Z
LAST-MODIFIED:20230113T145846Z
UID:10003957-1871715600-1871722800@westoverepiscopalchurch.org
SUMMARY:Meals on Wheels
DESCRIPTION:Meals On Wheels (MOW) serves hot\, nutritious meals to the homebound elderly and/or disabled Monday through Friday.
URL:https://westoverepiscopalchurch.org/event/meals-on-wheels/2029-04-24/
LOCATION:VA
END:VEVENT
BEGIN:VEVENT
DTSTART;TZID=America/New_York:20290425T090000
DTEND;TZID=America/New_York:20290425T110000
DTSTAMP:20260425T200014
CREATED:20230113T145846Z
LAST-MODIFIED:20230113T145846Z
UID:10003958-1871802000-1871809200@westoverepiscopalchurch.org
SUMMARY:Meals on Wheels
DESCRIPTION:Meals On Wheels (MOW) serves hot\, nutritious meals to the homebound elderly and/or disabled Monday through Friday.
URL:https://westoverepiscopalchurch.org/event/meals-on-wheels/2029-04-25/
LOCATION:VA
END:VEVENT
BEGIN:VEVENT
DTSTART;TZID=America/New_York:20290426T090000
DTEND;TZID=America/New_York:20290426T110000
DTSTAMP:20260425T200014
CREATED:20230113T145846Z
LAST-MODIFIED:20230113T145846Z
UID:10003959-1871888400-1871895600@westoverepiscopalchurch.org
SUMMARY:Meals on Wheels
DESCRIPTION:Meals On Wheels (MOW) serves hot\, nutritious meals to the homebound elderly and/or disabled Monday through Friday.
URL:https://westoverepiscopalchurch.org/event/meals-on-wheels/2029-04-26/
LOCATION:VA
END:VEVENT
BEGIN:VEVENT
DTSTART;TZID=America/New_York:20290427T090000
DTEND;TZID=America/New_York:20290427T110000
DTSTAMP:20260425T200014
CREATED:20230113T145846Z
LAST-MODIFIED:20230113T145846Z
UID:10003960-1871974800-1871982000@westoverepiscopalchurch.org
SUMMARY:Meals on Wheels
DESCRIPTION:Meals On Wheels (MOW) serves hot\, nutritious meals to the homebound elderly and/or disabled Monday through Friday.
URL:https://westoverepiscopalchurch.org/event/meals-on-wheels/2029-04-27/
LOCATION:VA
END:VEVENT
BEGIN:VEVENT
DTSTART;TZID=America/New_York:20290430T090000
DTEND;TZID=America/New_York:20290430T110000
DTSTAMP:20260425T200014
CREATED:20230113T145846Z
LAST-MODIFIED:20230113T145846Z
UID:10003961-1872234000-1872241200@westoverepiscopalchurch.org
SUMMARY:Meals on Wheels
DESCRIPTION:Meals On Wheels (MOW) serves hot\, nutritious meals to the homebound elderly and/or disabled Monday through Friday.
URL:https://westoverepiscopalchurch.org/event/meals-on-wheels/2029-04-30/
LOCATION:VA
END:VEVENT
END:VCALENDAR