BEGIN:VCALENDAR
VERSION:2.0
PRODID:-//Westover Episcopal Church - Charles City, VA - ECPv6.15.20//NONSGML v1.0//EN
CALSCALE:GREGORIAN
METHOD:PUBLISH
X-WR-CALNAME:Westover Episcopal Church - Charles City, VA
X-ORIGINAL-URL:https://westoverepiscopalchurch.org
X-WR-CALDESC:Events for Westover Episcopal Church - Charles City, VA
REFRESH-INTERVAL;VALUE=DURATION:PT1H
X-Robots-Tag:noindex
X-PUBLISHED-TTL:PT1H
BEGIN:VTIMEZONE
TZID:America/New_York
BEGIN:DAYLIGHT
TZOFFSETFROM:-0500
TZOFFSETTO:-0400
TZNAME:EDT
DTSTART:20270314T070000
END:DAYLIGHT
BEGIN:STANDARD
TZOFFSETFROM:-0400
TZOFFSETTO:-0500
TZNAME:EST
DTSTART:20271107T060000
END:STANDARD
BEGIN:DAYLIGHT
TZOFFSETFROM:-0500
TZOFFSETTO:-0400
TZNAME:EDT
DTSTART:20280312T070000
END:DAYLIGHT
BEGIN:STANDARD
TZOFFSETFROM:-0400
TZOFFSETTO:-0500
TZNAME:EST
DTSTART:20281105T060000
END:STANDARD
BEGIN:DAYLIGHT
TZOFFSETFROM:-0500
TZOFFSETTO:-0400
TZNAME:EDT
DTSTART:20290311T070000
END:DAYLIGHT
BEGIN:STANDARD
TZOFFSETFROM:-0400
TZOFFSETTO:-0500
TZNAME:EST
DTSTART:20291104T060000
END:STANDARD
END:VTIMEZONE
BEGIN:VEVENT
DTSTART;TZID=America/New_York:20280414T090000
DTEND;TZID=America/New_York:20280414T110000
DTSTAMP:20260425T101606
CREATED:20230113T145846Z
LAST-MODIFIED:20230113T145846Z
UID:10003690-1839315600-1839322800@westoverepiscopalchurch.org
SUMMARY:Meals on Wheels
DESCRIPTION:Meals On Wheels (MOW) serves hot\, nutritious meals to the homebound elderly and/or disabled Monday through Friday.
URL:https://westoverepiscopalchurch.org/event/meals-on-wheels/2028-04-14/
LOCATION:VA
END:VEVENT
BEGIN:VEVENT
DTSTART;TZID=America/New_York:20280413T090000
DTEND;TZID=America/New_York:20280413T110000
DTSTAMP:20260425T101606
CREATED:20230113T145846Z
LAST-MODIFIED:20230113T145846Z
UID:10003689-1839229200-1839236400@westoverepiscopalchurch.org
SUMMARY:Meals on Wheels
DESCRIPTION:Meals On Wheels (MOW) serves hot\, nutritious meals to the homebound elderly and/or disabled Monday through Friday.
URL:https://westoverepiscopalchurch.org/event/meals-on-wheels/2028-04-13/
LOCATION:VA
END:VEVENT
BEGIN:VEVENT
DTSTART;TZID=America/New_York:20280412T090000
DTEND;TZID=America/New_York:20280412T110000
DTSTAMP:20260425T101606
CREATED:20230113T145846Z
LAST-MODIFIED:20230113T145846Z
UID:10003688-1839142800-1839150000@westoverepiscopalchurch.org
SUMMARY:Meals on Wheels
DESCRIPTION:Meals On Wheels (MOW) serves hot\, nutritious meals to the homebound elderly and/or disabled Monday through Friday.
URL:https://westoverepiscopalchurch.org/event/meals-on-wheels/2028-04-12/
LOCATION:VA
END:VEVENT
BEGIN:VEVENT
DTSTART;TZID=America/New_York:20280411T090000
DTEND;TZID=America/New_York:20280411T110000
DTSTAMP:20260425T101606
CREATED:20230113T145846Z
LAST-MODIFIED:20230113T145846Z
UID:10003687-1839056400-1839063600@westoverepiscopalchurch.org
SUMMARY:Meals on Wheels
DESCRIPTION:Meals On Wheels (MOW) serves hot\, nutritious meals to the homebound elderly and/or disabled Monday through Friday.
URL:https://westoverepiscopalchurch.org/event/meals-on-wheels/2028-04-11/
LOCATION:VA
END:VEVENT
BEGIN:VEVENT
DTSTART;TZID=America/New_York:20280410T090000
DTEND;TZID=America/New_York:20280410T110000
DTSTAMP:20260425T101606
CREATED:20230113T145846Z
LAST-MODIFIED:20230113T145846Z
UID:10003686-1838970000-1838977200@westoverepiscopalchurch.org
SUMMARY:Meals on Wheels
DESCRIPTION:Meals On Wheels (MOW) serves hot\, nutritious meals to the homebound elderly and/or disabled Monday through Friday.
URL:https://westoverepiscopalchurch.org/event/meals-on-wheels/2028-04-10/
LOCATION:VA
END:VEVENT
BEGIN:VEVENT
DTSTART;TZID=America/New_York:20280407T090000
DTEND;TZID=America/New_York:20280407T110000
DTSTAMP:20260425T101606
CREATED:20230113T145846Z
LAST-MODIFIED:20230113T145846Z
UID:10003685-1838710800-1838718000@westoverepiscopalchurch.org
SUMMARY:Meals on Wheels
DESCRIPTION:Meals On Wheels (MOW) serves hot\, nutritious meals to the homebound elderly and/or disabled Monday through Friday.
URL:https://westoverepiscopalchurch.org/event/meals-on-wheels/2028-04-07/
LOCATION:VA
END:VEVENT
BEGIN:VEVENT
DTSTART;TZID=America/New_York:20280406T090000
DTEND;TZID=America/New_York:20280406T110000
DTSTAMP:20260425T101606
CREATED:20230113T145846Z
LAST-MODIFIED:20230113T145846Z
UID:10003684-1838624400-1838631600@westoverepiscopalchurch.org
SUMMARY:Meals on Wheels
DESCRIPTION:Meals On Wheels (MOW) serves hot\, nutritious meals to the homebound elderly and/or disabled Monday through Friday.
URL:https://westoverepiscopalchurch.org/event/meals-on-wheels/2028-04-06/
LOCATION:VA
END:VEVENT
BEGIN:VEVENT
DTSTART;TZID=America/New_York:20280405T090000
DTEND;TZID=America/New_York:20280405T110000
DTSTAMP:20260425T101606
CREATED:20230113T145846Z
LAST-MODIFIED:20230113T145846Z
UID:10003683-1838538000-1838545200@westoverepiscopalchurch.org
SUMMARY:Meals on Wheels
DESCRIPTION:Meals On Wheels (MOW) serves hot\, nutritious meals to the homebound elderly and/or disabled Monday through Friday.
URL:https://westoverepiscopalchurch.org/event/meals-on-wheels/2028-04-05/
LOCATION:VA
END:VEVENT
BEGIN:VEVENT
DTSTART;TZID=America/New_York:20280404T090000
DTEND;TZID=America/New_York:20280404T110000
DTSTAMP:20260425T101606
CREATED:20230113T145846Z
LAST-MODIFIED:20230113T145846Z
UID:10003682-1838451600-1838458800@westoverepiscopalchurch.org
SUMMARY:Meals on Wheels
DESCRIPTION:Meals On Wheels (MOW) serves hot\, nutritious meals to the homebound elderly and/or disabled Monday through Friday.
URL:https://westoverepiscopalchurch.org/event/meals-on-wheels/2028-04-04/
LOCATION:VA
END:VEVENT
BEGIN:VEVENT
DTSTART;TZID=America/New_York:20280403T090000
DTEND;TZID=America/New_York:20280403T110000
DTSTAMP:20260425T101606
CREATED:20230113T145846Z
LAST-MODIFIED:20230113T145846Z
UID:10003681-1838365200-1838372400@westoverepiscopalchurch.org
SUMMARY:Meals on Wheels
DESCRIPTION:Meals On Wheels (MOW) serves hot\, nutritious meals to the homebound elderly and/or disabled Monday through Friday.
URL:https://westoverepiscopalchurch.org/event/meals-on-wheels/2028-04-03/
LOCATION:VA
END:VEVENT
BEGIN:VEVENT
DTSTART;TZID=America/New_York:20280331T090000
DTEND;TZID=America/New_York:20280331T110000
DTSTAMP:20260425T101606
CREATED:20230113T145846Z
LAST-MODIFIED:20230113T145846Z
UID:10003680-1838106000-1838113200@westoverepiscopalchurch.org
SUMMARY:Meals on Wheels
DESCRIPTION:Meals On Wheels (MOW) serves hot\, nutritious meals to the homebound elderly and/or disabled Monday through Friday.
URL:https://westoverepiscopalchurch.org/event/meals-on-wheels/2028-03-31/
LOCATION:VA
END:VEVENT
BEGIN:VEVENT
DTSTART;TZID=America/New_York:20280330T090000
DTEND;TZID=America/New_York:20280330T110000
DTSTAMP:20260425T101606
CREATED:20230113T145846Z
LAST-MODIFIED:20230113T145846Z
UID:10003679-1838019600-1838026800@westoverepiscopalchurch.org
SUMMARY:Meals on Wheels
DESCRIPTION:Meals On Wheels (MOW) serves hot\, nutritious meals to the homebound elderly and/or disabled Monday through Friday.
URL:https://westoverepiscopalchurch.org/event/meals-on-wheels/2028-03-30/
LOCATION:VA
END:VEVENT
BEGIN:VEVENT
DTSTART;TZID=America/New_York:20280329T090000
DTEND;TZID=America/New_York:20280329T110000
DTSTAMP:20260425T101606
CREATED:20230113T145846Z
LAST-MODIFIED:20230113T145846Z
UID:10003678-1837933200-1837940400@westoverepiscopalchurch.org
SUMMARY:Meals on Wheels
DESCRIPTION:Meals On Wheels (MOW) serves hot\, nutritious meals to the homebound elderly and/or disabled Monday through Friday.
URL:https://westoverepiscopalchurch.org/event/meals-on-wheels/2028-03-29/
LOCATION:VA
END:VEVENT
BEGIN:VEVENT
DTSTART;TZID=America/New_York:20280328T090000
DTEND;TZID=America/New_York:20280328T110000
DTSTAMP:20260425T101606
CREATED:20230113T145846Z
LAST-MODIFIED:20230113T145846Z
UID:10003677-1837846800-1837854000@westoverepiscopalchurch.org
SUMMARY:Meals on Wheels
DESCRIPTION:Meals On Wheels (MOW) serves hot\, nutritious meals to the homebound elderly and/or disabled Monday through Friday.
URL:https://westoverepiscopalchurch.org/event/meals-on-wheels/2028-03-28/
LOCATION:VA
END:VEVENT
BEGIN:VEVENT
DTSTART;TZID=America/New_York:20280327T090000
DTEND;TZID=America/New_York:20280327T110000
DTSTAMP:20260425T101606
CREATED:20230113T145846Z
LAST-MODIFIED:20230113T145846Z
UID:10003676-1837760400-1837767600@westoverepiscopalchurch.org
SUMMARY:Meals on Wheels
DESCRIPTION:Meals On Wheels (MOW) serves hot\, nutritious meals to the homebound elderly and/or disabled Monday through Friday.
URL:https://westoverepiscopalchurch.org/event/meals-on-wheels/2028-03-27/
LOCATION:VA
END:VEVENT
BEGIN:VEVENT
DTSTART;TZID=America/New_York:20280324T090000
DTEND;TZID=America/New_York:20280324T110000
DTSTAMP:20260425T101606
CREATED:20230113T145846Z
LAST-MODIFIED:20230113T145846Z
UID:10003675-1837501200-1837508400@westoverepiscopalchurch.org
SUMMARY:Meals on Wheels
DESCRIPTION:Meals On Wheels (MOW) serves hot\, nutritious meals to the homebound elderly and/or disabled Monday through Friday.
URL:https://westoverepiscopalchurch.org/event/meals-on-wheels/2028-03-24/
LOCATION:VA
END:VEVENT
BEGIN:VEVENT
DTSTART;TZID=America/New_York:20280323T090000
DTEND;TZID=America/New_York:20280323T110000
DTSTAMP:20260425T101606
CREATED:20230113T145846Z
LAST-MODIFIED:20230113T145846Z
UID:10003674-1837414800-1837422000@westoverepiscopalchurch.org
SUMMARY:Meals on Wheels
DESCRIPTION:Meals On Wheels (MOW) serves hot\, nutritious meals to the homebound elderly and/or disabled Monday through Friday.
URL:https://westoverepiscopalchurch.org/event/meals-on-wheels/2028-03-23/
LOCATION:VA
END:VEVENT
BEGIN:VEVENT
DTSTART;TZID=America/New_York:20280322T090000
DTEND;TZID=America/New_York:20280322T110000
DTSTAMP:20260425T101606
CREATED:20230113T145846Z
LAST-MODIFIED:20230113T145846Z
UID:10003673-1837328400-1837335600@westoverepiscopalchurch.org
SUMMARY:Meals on Wheels
DESCRIPTION:Meals On Wheels (MOW) serves hot\, nutritious meals to the homebound elderly and/or disabled Monday through Friday.
URL:https://westoverepiscopalchurch.org/event/meals-on-wheels/2028-03-22/
LOCATION:VA
END:VEVENT
BEGIN:VEVENT
DTSTART;TZID=America/New_York:20280321T090000
DTEND;TZID=America/New_York:20280321T110000
DTSTAMP:20260425T101606
CREATED:20230113T145846Z
LAST-MODIFIED:20230113T145846Z
UID:10003672-1837242000-1837249200@westoverepiscopalchurch.org
SUMMARY:Meals on Wheels
DESCRIPTION:Meals On Wheels (MOW) serves hot\, nutritious meals to the homebound elderly and/or disabled Monday through Friday.
URL:https://westoverepiscopalchurch.org/event/meals-on-wheels/2028-03-21/
LOCATION:VA
END:VEVENT
BEGIN:VEVENT
DTSTART;TZID=America/New_York:20280320T090000
DTEND;TZID=America/New_York:20280320T110000
DTSTAMP:20260425T101606
CREATED:20230113T145846Z
LAST-MODIFIED:20230113T145846Z
UID:10003671-1837155600-1837162800@westoverepiscopalchurch.org
SUMMARY:Meals on Wheels
DESCRIPTION:Meals On Wheels (MOW) serves hot\, nutritious meals to the homebound elderly and/or disabled Monday through Friday.
URL:https://westoverepiscopalchurch.org/event/meals-on-wheels/2028-03-20/
LOCATION:VA
END:VEVENT
BEGIN:VEVENT
DTSTART;TZID=America/New_York:20280317T090000
DTEND;TZID=America/New_York:20280317T110000
DTSTAMP:20260425T101606
CREATED:20230113T145846Z
LAST-MODIFIED:20230113T145846Z
UID:10003670-1836896400-1836903600@westoverepiscopalchurch.org
SUMMARY:Meals on Wheels
DESCRIPTION:Meals On Wheels (MOW) serves hot\, nutritious meals to the homebound elderly and/or disabled Monday through Friday.
URL:https://westoverepiscopalchurch.org/event/meals-on-wheels/2028-03-17/
LOCATION:VA
END:VEVENT
BEGIN:VEVENT
DTSTART;TZID=America/New_York:20280316T090000
DTEND;TZID=America/New_York:20280316T110000
DTSTAMP:20260425T101606
CREATED:20230113T145846Z
LAST-MODIFIED:20230113T145846Z
UID:10003669-1836810000-1836817200@westoverepiscopalchurch.org
SUMMARY:Meals on Wheels
DESCRIPTION:Meals On Wheels (MOW) serves hot\, nutritious meals to the homebound elderly and/or disabled Monday through Friday.
URL:https://westoverepiscopalchurch.org/event/meals-on-wheels/2028-03-16/
LOCATION:VA
END:VEVENT
BEGIN:VEVENT
DTSTART;TZID=America/New_York:20280315T090000
DTEND;TZID=America/New_York:20280315T110000
DTSTAMP:20260425T101606
CREATED:20230113T145846Z
LAST-MODIFIED:20230113T145846Z
UID:10003668-1836723600-1836730800@westoverepiscopalchurch.org
SUMMARY:Meals on Wheels
DESCRIPTION:Meals On Wheels (MOW) serves hot\, nutritious meals to the homebound elderly and/or disabled Monday through Friday.
URL:https://westoverepiscopalchurch.org/event/meals-on-wheels/2028-03-15/
LOCATION:VA
END:VEVENT
BEGIN:VEVENT
DTSTART;TZID=America/New_York:20280314T090000
DTEND;TZID=America/New_York:20280314T110000
DTSTAMP:20260425T101606
CREATED:20230113T145846Z
LAST-MODIFIED:20230113T145846Z
UID:10003667-1836637200-1836644400@westoverepiscopalchurch.org
SUMMARY:Meals on Wheels
DESCRIPTION:Meals On Wheels (MOW) serves hot\, nutritious meals to the homebound elderly and/or disabled Monday through Friday.
URL:https://westoverepiscopalchurch.org/event/meals-on-wheels/2028-03-14/
LOCATION:VA
END:VEVENT
BEGIN:VEVENT
DTSTART;TZID=America/New_York:20280313T090000
DTEND;TZID=America/New_York:20280313T110000
DTSTAMP:20260425T101606
CREATED:20230113T145846Z
LAST-MODIFIED:20230113T145846Z
UID:10003666-1836550800-1836558000@westoverepiscopalchurch.org
SUMMARY:Meals on Wheels
DESCRIPTION:Meals On Wheels (MOW) serves hot\, nutritious meals to the homebound elderly and/or disabled Monday through Friday.
URL:https://westoverepiscopalchurch.org/event/meals-on-wheels/2028-03-13/
LOCATION:VA
END:VEVENT
BEGIN:VEVENT
DTSTART;TZID=America/New_York:20280310T090000
DTEND;TZID=America/New_York:20280310T110000
DTSTAMP:20260425T101606
CREATED:20230113T145846Z
LAST-MODIFIED:20230113T145846Z
UID:10003665-1836291600-1836298800@westoverepiscopalchurch.org
SUMMARY:Meals on Wheels
DESCRIPTION:Meals On Wheels (MOW) serves hot\, nutritious meals to the homebound elderly and/or disabled Monday through Friday.
URL:https://westoverepiscopalchurch.org/event/meals-on-wheels/2028-03-10/
LOCATION:VA
END:VEVENT
BEGIN:VEVENT
DTSTART;TZID=America/New_York:20280309T090000
DTEND;TZID=America/New_York:20280309T110000
DTSTAMP:20260425T101606
CREATED:20230113T145846Z
LAST-MODIFIED:20230113T145846Z
UID:10003664-1836205200-1836212400@westoverepiscopalchurch.org
SUMMARY:Meals on Wheels
DESCRIPTION:Meals On Wheels (MOW) serves hot\, nutritious meals to the homebound elderly and/or disabled Monday through Friday.
URL:https://westoverepiscopalchurch.org/event/meals-on-wheels/2028-03-09/
LOCATION:VA
END:VEVENT
BEGIN:VEVENT
DTSTART;TZID=America/New_York:20280308T090000
DTEND;TZID=America/New_York:20280308T110000
DTSTAMP:20260425T101606
CREATED:20230113T145846Z
LAST-MODIFIED:20230113T145846Z
UID:10003663-1836118800-1836126000@westoverepiscopalchurch.org
SUMMARY:Meals on Wheels
DESCRIPTION:Meals On Wheels (MOW) serves hot\, nutritious meals to the homebound elderly and/or disabled Monday through Friday.
URL:https://westoverepiscopalchurch.org/event/meals-on-wheels/2028-03-08/
LOCATION:VA
END:VEVENT
BEGIN:VEVENT
DTSTART;TZID=America/New_York:20280307T090000
DTEND;TZID=America/New_York:20280307T110000
DTSTAMP:20260425T101606
CREATED:20230113T145846Z
LAST-MODIFIED:20230113T145846Z
UID:10003662-1836032400-1836039600@westoverepiscopalchurch.org
SUMMARY:Meals on Wheels
DESCRIPTION:Meals On Wheels (MOW) serves hot\, nutritious meals to the homebound elderly and/or disabled Monday through Friday.
URL:https://westoverepiscopalchurch.org/event/meals-on-wheels/2028-03-07/
LOCATION:VA
END:VEVENT
BEGIN:VEVENT
DTSTART;TZID=America/New_York:20280306T090000
DTEND;TZID=America/New_York:20280306T110000
DTSTAMP:20260425T101606
CREATED:20230113T145846Z
LAST-MODIFIED:20230113T145846Z
UID:10003661-1835946000-1835953200@westoverepiscopalchurch.org
SUMMARY:Meals on Wheels
DESCRIPTION:Meals On Wheels (MOW) serves hot\, nutritious meals to the homebound elderly and/or disabled Monday through Friday.
URL:https://westoverepiscopalchurch.org/event/meals-on-wheels/2028-03-06/
LOCATION:VA
END:VEVENT
END:VCALENDAR