BEGIN:VCALENDAR
VERSION:2.0
PRODID:-//Westover Episcopal Church - Charles City, VA - ECPv6.15.20//NONSGML v1.0//EN
CALSCALE:GREGORIAN
METHOD:PUBLISH
X-WR-CALNAME:Westover Episcopal Church - Charles City, VA
X-ORIGINAL-URL:https://westoverepiscopalchurch.org
X-WR-CALDESC:Events for Westover Episcopal Church - Charles City, VA
REFRESH-INTERVAL;VALUE=DURATION:PT1H
X-Robots-Tag:noindex
X-PUBLISHED-TTL:PT1H
BEGIN:VTIMEZONE
TZID:America/New_York
BEGIN:DAYLIGHT
TZOFFSETFROM:-0500
TZOFFSETTO:-0400
TZNAME:EDT
DTSTART:20280312T070000
END:DAYLIGHT
BEGIN:STANDARD
TZOFFSETFROM:-0400
TZOFFSETTO:-0500
TZNAME:EST
DTSTART:20281105T060000
END:STANDARD
BEGIN:DAYLIGHT
TZOFFSETFROM:-0500
TZOFFSETTO:-0400
TZNAME:EDT
DTSTART:20290311T070000
END:DAYLIGHT
BEGIN:STANDARD
TZOFFSETFROM:-0400
TZOFFSETTO:-0500
TZNAME:EST
DTSTART:20291104T060000
END:STANDARD
BEGIN:DAYLIGHT
TZOFFSETFROM:-0500
TZOFFSETTO:-0400
TZNAME:EDT
DTSTART:20300310T070000
END:DAYLIGHT
BEGIN:STANDARD
TZOFFSETFROM:-0400
TZOFFSETTO:-0500
TZNAME:EST
DTSTART:20301103T060000
END:STANDARD
END:VTIMEZONE
BEGIN:VEVENT
DTSTART;TZID=America/New_York:20290501T090000
DTEND;TZID=America/New_York:20290501T110000
DTSTAMP:20260425T230921
CREATED:20230113T145846Z
LAST-MODIFIED:20230113T145846Z
UID:10003962-1872320400-1872327600@westoverepiscopalchurch.org
SUMMARY:Meals on Wheels
DESCRIPTION:Meals On Wheels (MOW) serves hot\, nutritious meals to the homebound elderly and/or disabled Monday through Friday.
URL:https://westoverepiscopalchurch.org/event/meals-on-wheels/2029-05-01/
LOCATION:VA
END:VEVENT
BEGIN:VEVENT
DTSTART;TZID=America/New_York:20290502T090000
DTEND;TZID=America/New_York:20290502T110000
DTSTAMP:20260425T230921
CREATED:20230113T145846Z
LAST-MODIFIED:20230113T145846Z
UID:10003963-1872406800-1872414000@westoverepiscopalchurch.org
SUMMARY:Meals on Wheels
DESCRIPTION:Meals On Wheels (MOW) serves hot\, nutritious meals to the homebound elderly and/or disabled Monday through Friday.
URL:https://westoverepiscopalchurch.org/event/meals-on-wheels/2029-05-02/
LOCATION:VA
END:VEVENT
BEGIN:VEVENT
DTSTART;TZID=America/New_York:20290503T090000
DTEND;TZID=America/New_York:20290503T110000
DTSTAMP:20260425T230921
CREATED:20230113T145846Z
LAST-MODIFIED:20230113T145846Z
UID:10003964-1872493200-1872500400@westoverepiscopalchurch.org
SUMMARY:Meals on Wheels
DESCRIPTION:Meals On Wheels (MOW) serves hot\, nutritious meals to the homebound elderly and/or disabled Monday through Friday.
URL:https://westoverepiscopalchurch.org/event/meals-on-wheels/2029-05-03/
LOCATION:VA
END:VEVENT
BEGIN:VEVENT
DTSTART;TZID=America/New_York:20290504T090000
DTEND;TZID=America/New_York:20290504T110000
DTSTAMP:20260425T230921
CREATED:20230113T145846Z
LAST-MODIFIED:20230113T145846Z
UID:10003965-1872579600-1872586800@westoverepiscopalchurch.org
SUMMARY:Meals on Wheels
DESCRIPTION:Meals On Wheels (MOW) serves hot\, nutritious meals to the homebound elderly and/or disabled Monday through Friday.
URL:https://westoverepiscopalchurch.org/event/meals-on-wheels/2029-05-04/
LOCATION:VA
END:VEVENT
BEGIN:VEVENT
DTSTART;TZID=America/New_York:20290507T090000
DTEND;TZID=America/New_York:20290507T110000
DTSTAMP:20260425T230921
CREATED:20230113T145846Z
LAST-MODIFIED:20230113T145846Z
UID:10003966-1872838800-1872846000@westoverepiscopalchurch.org
SUMMARY:Meals on Wheels
DESCRIPTION:Meals On Wheels (MOW) serves hot\, nutritious meals to the homebound elderly and/or disabled Monday through Friday.
URL:https://westoverepiscopalchurch.org/event/meals-on-wheels/2029-05-07/
LOCATION:VA
END:VEVENT
BEGIN:VEVENT
DTSTART;TZID=America/New_York:20290508T090000
DTEND;TZID=America/New_York:20290508T110000
DTSTAMP:20260425T230921
CREATED:20230113T145846Z
LAST-MODIFIED:20230113T145846Z
UID:10003967-1872925200-1872932400@westoverepiscopalchurch.org
SUMMARY:Meals on Wheels
DESCRIPTION:Meals On Wheels (MOW) serves hot\, nutritious meals to the homebound elderly and/or disabled Monday through Friday.
URL:https://westoverepiscopalchurch.org/event/meals-on-wheels/2029-05-08/
LOCATION:VA
END:VEVENT
BEGIN:VEVENT
DTSTART;TZID=America/New_York:20290509T090000
DTEND;TZID=America/New_York:20290509T110000
DTSTAMP:20260425T230921
CREATED:20230113T145846Z
LAST-MODIFIED:20230113T145846Z
UID:10003968-1873011600-1873018800@westoverepiscopalchurch.org
SUMMARY:Meals on Wheels
DESCRIPTION:Meals On Wheels (MOW) serves hot\, nutritious meals to the homebound elderly and/or disabled Monday through Friday.
URL:https://westoverepiscopalchurch.org/event/meals-on-wheels/2029-05-09/
LOCATION:VA
END:VEVENT
BEGIN:VEVENT
DTSTART;TZID=America/New_York:20290510T090000
DTEND;TZID=America/New_York:20290510T110000
DTSTAMP:20260425T230921
CREATED:20230113T145846Z
LAST-MODIFIED:20230113T145846Z
UID:10003969-1873098000-1873105200@westoverepiscopalchurch.org
SUMMARY:Meals on Wheels
DESCRIPTION:Meals On Wheels (MOW) serves hot\, nutritious meals to the homebound elderly and/or disabled Monday through Friday.
URL:https://westoverepiscopalchurch.org/event/meals-on-wheels/2029-05-10/
LOCATION:VA
END:VEVENT
BEGIN:VEVENT
DTSTART;TZID=America/New_York:20290511T090000
DTEND;TZID=America/New_York:20290511T110000
DTSTAMP:20260425T230921
CREATED:20230113T145846Z
LAST-MODIFIED:20230113T145846Z
UID:10003970-1873184400-1873191600@westoverepiscopalchurch.org
SUMMARY:Meals on Wheels
DESCRIPTION:Meals On Wheels (MOW) serves hot\, nutritious meals to the homebound elderly and/or disabled Monday through Friday.
URL:https://westoverepiscopalchurch.org/event/meals-on-wheels/2029-05-11/
LOCATION:VA
END:VEVENT
BEGIN:VEVENT
DTSTART;TZID=America/New_York:20290514T090000
DTEND;TZID=America/New_York:20290514T110000
DTSTAMP:20260425T230921
CREATED:20230113T145846Z
LAST-MODIFIED:20230113T145846Z
UID:10003971-1873443600-1873450800@westoverepiscopalchurch.org
SUMMARY:Meals on Wheels
DESCRIPTION:Meals On Wheels (MOW) serves hot\, nutritious meals to the homebound elderly and/or disabled Monday through Friday.
URL:https://westoverepiscopalchurch.org/event/meals-on-wheels/2029-05-14/
LOCATION:VA
END:VEVENT
BEGIN:VEVENT
DTSTART;TZID=America/New_York:20290515T090000
DTEND;TZID=America/New_York:20290515T110000
DTSTAMP:20260425T230921
CREATED:20230113T145846Z
LAST-MODIFIED:20230113T145846Z
UID:10003972-1873530000-1873537200@westoverepiscopalchurch.org
SUMMARY:Meals on Wheels
DESCRIPTION:Meals On Wheels (MOW) serves hot\, nutritious meals to the homebound elderly and/or disabled Monday through Friday.
URL:https://westoverepiscopalchurch.org/event/meals-on-wheels/2029-05-15/
LOCATION:VA
END:VEVENT
BEGIN:VEVENT
DTSTART;TZID=America/New_York:20290516T090000
DTEND;TZID=America/New_York:20290516T110000
DTSTAMP:20260425T230921
CREATED:20230113T145846Z
LAST-MODIFIED:20230113T145846Z
UID:10003973-1873616400-1873623600@westoverepiscopalchurch.org
SUMMARY:Meals on Wheels
DESCRIPTION:Meals On Wheels (MOW) serves hot\, nutritious meals to the homebound elderly and/or disabled Monday through Friday.
URL:https://westoverepiscopalchurch.org/event/meals-on-wheels/2029-05-16/
LOCATION:VA
END:VEVENT
BEGIN:VEVENT
DTSTART;TZID=America/New_York:20290517T090000
DTEND;TZID=America/New_York:20290517T110000
DTSTAMP:20260425T230921
CREATED:20230113T145846Z
LAST-MODIFIED:20230113T145846Z
UID:10003974-1873702800-1873710000@westoverepiscopalchurch.org
SUMMARY:Meals on Wheels
DESCRIPTION:Meals On Wheels (MOW) serves hot\, nutritious meals to the homebound elderly and/or disabled Monday through Friday.
URL:https://westoverepiscopalchurch.org/event/meals-on-wheels/2029-05-17/
LOCATION:VA
END:VEVENT
BEGIN:VEVENT
DTSTART;TZID=America/New_York:20290518T090000
DTEND;TZID=America/New_York:20290518T110000
DTSTAMP:20260425T230921
CREATED:20230113T145846Z
LAST-MODIFIED:20230113T145846Z
UID:10003975-1873789200-1873796400@westoverepiscopalchurch.org
SUMMARY:Meals on Wheels
DESCRIPTION:Meals On Wheels (MOW) serves hot\, nutritious meals to the homebound elderly and/or disabled Monday through Friday.
URL:https://westoverepiscopalchurch.org/event/meals-on-wheels/2029-05-18/
LOCATION:VA
END:VEVENT
BEGIN:VEVENT
DTSTART;TZID=America/New_York:20290521T090000
DTEND;TZID=America/New_York:20290521T110000
DTSTAMP:20260425T230921
CREATED:20230113T145846Z
LAST-MODIFIED:20230113T145846Z
UID:10003976-1874048400-1874055600@westoverepiscopalchurch.org
SUMMARY:Meals on Wheels
DESCRIPTION:Meals On Wheels (MOW) serves hot\, nutritious meals to the homebound elderly and/or disabled Monday through Friday.
URL:https://westoverepiscopalchurch.org/event/meals-on-wheels/2029-05-21/
LOCATION:VA
END:VEVENT
BEGIN:VEVENT
DTSTART;TZID=America/New_York:20290522T090000
DTEND;TZID=America/New_York:20290522T110000
DTSTAMP:20260425T230921
CREATED:20230113T145846Z
LAST-MODIFIED:20230113T145846Z
UID:10003977-1874134800-1874142000@westoverepiscopalchurch.org
SUMMARY:Meals on Wheels
DESCRIPTION:Meals On Wheels (MOW) serves hot\, nutritious meals to the homebound elderly and/or disabled Monday through Friday.
URL:https://westoverepiscopalchurch.org/event/meals-on-wheels/2029-05-22/
LOCATION:VA
END:VEVENT
BEGIN:VEVENT
DTSTART;TZID=America/New_York:20290523T090000
DTEND;TZID=America/New_York:20290523T110000
DTSTAMP:20260425T230921
CREATED:20230113T145846Z
LAST-MODIFIED:20230113T145846Z
UID:10003978-1874221200-1874228400@westoverepiscopalchurch.org
SUMMARY:Meals on Wheels
DESCRIPTION:Meals On Wheels (MOW) serves hot\, nutritious meals to the homebound elderly and/or disabled Monday through Friday.
URL:https://westoverepiscopalchurch.org/event/meals-on-wheels/2029-05-23/
LOCATION:VA
END:VEVENT
BEGIN:VEVENT
DTSTART;TZID=America/New_York:20290524T090000
DTEND;TZID=America/New_York:20290524T110000
DTSTAMP:20260425T230921
CREATED:20230113T145846Z
LAST-MODIFIED:20230113T145846Z
UID:10003979-1874307600-1874314800@westoverepiscopalchurch.org
SUMMARY:Meals on Wheels
DESCRIPTION:Meals On Wheels (MOW) serves hot\, nutritious meals to the homebound elderly and/or disabled Monday through Friday.
URL:https://westoverepiscopalchurch.org/event/meals-on-wheels/2029-05-24/
LOCATION:VA
END:VEVENT
BEGIN:VEVENT
DTSTART;TZID=America/New_York:20290525T090000
DTEND;TZID=America/New_York:20290525T110000
DTSTAMP:20260425T230921
CREATED:20230113T145846Z
LAST-MODIFIED:20230113T145846Z
UID:10003980-1874394000-1874401200@westoverepiscopalchurch.org
SUMMARY:Meals on Wheels
DESCRIPTION:Meals On Wheels (MOW) serves hot\, nutritious meals to the homebound elderly and/or disabled Monday through Friday.
URL:https://westoverepiscopalchurch.org/event/meals-on-wheels/2029-05-25/
LOCATION:VA
END:VEVENT
BEGIN:VEVENT
DTSTART;TZID=America/New_York:20290528T090000
DTEND;TZID=America/New_York:20290528T110000
DTSTAMP:20260425T230921
CREATED:20230113T145846Z
LAST-MODIFIED:20230113T145846Z
UID:10003981-1874653200-1874660400@westoverepiscopalchurch.org
SUMMARY:Meals on Wheels
DESCRIPTION:Meals On Wheels (MOW) serves hot\, nutritious meals to the homebound elderly and/or disabled Monday through Friday.
URL:https://westoverepiscopalchurch.org/event/meals-on-wheels/2029-05-28/
LOCATION:VA
END:VEVENT
BEGIN:VEVENT
DTSTART;TZID=America/New_York:20290529T090000
DTEND;TZID=America/New_York:20290529T110000
DTSTAMP:20260425T230921
CREATED:20230113T145846Z
LAST-MODIFIED:20230113T145846Z
UID:10003982-1874739600-1874746800@westoverepiscopalchurch.org
SUMMARY:Meals on Wheels
DESCRIPTION:Meals On Wheels (MOW) serves hot\, nutritious meals to the homebound elderly and/or disabled Monday through Friday.
URL:https://westoverepiscopalchurch.org/event/meals-on-wheels/2029-05-29/
LOCATION:VA
END:VEVENT
BEGIN:VEVENT
DTSTART;TZID=America/New_York:20290530T090000
DTEND;TZID=America/New_York:20290530T110000
DTSTAMP:20260425T230921
CREATED:20230113T145846Z
LAST-MODIFIED:20230113T145846Z
UID:10003983-1874826000-1874833200@westoverepiscopalchurch.org
SUMMARY:Meals on Wheels
DESCRIPTION:Meals On Wheels (MOW) serves hot\, nutritious meals to the homebound elderly and/or disabled Monday through Friday.
URL:https://westoverepiscopalchurch.org/event/meals-on-wheels/2029-05-30/
LOCATION:VA
END:VEVENT
BEGIN:VEVENT
DTSTART;TZID=America/New_York:20290531T090000
DTEND;TZID=America/New_York:20290531T110000
DTSTAMP:20260425T230921
CREATED:20230113T145846Z
LAST-MODIFIED:20230113T145846Z
UID:10003984-1874912400-1874919600@westoverepiscopalchurch.org
SUMMARY:Meals on Wheels
DESCRIPTION:Meals On Wheels (MOW) serves hot\, nutritious meals to the homebound elderly and/or disabled Monday through Friday.
URL:https://westoverepiscopalchurch.org/event/meals-on-wheels/2029-05-31/
LOCATION:VA
END:VEVENT
BEGIN:VEVENT
DTSTART;TZID=America/New_York:20290601T090000
DTEND;TZID=America/New_York:20290601T110000
DTSTAMP:20260425T230921
CREATED:20230113T145846Z
LAST-MODIFIED:20230113T145846Z
UID:10003985-1874998800-1875006000@westoverepiscopalchurch.org
SUMMARY:Meals on Wheels
DESCRIPTION:Meals On Wheels (MOW) serves hot\, nutritious meals to the homebound elderly and/or disabled Monday through Friday.
URL:https://westoverepiscopalchurch.org/event/meals-on-wheels/2029-06-01/
LOCATION:VA
END:VEVENT
BEGIN:VEVENT
DTSTART;TZID=America/New_York:20290604T090000
DTEND;TZID=America/New_York:20290604T110000
DTSTAMP:20260425T230921
CREATED:20230113T145846Z
LAST-MODIFIED:20230113T145846Z
UID:10003986-1875258000-1875265200@westoverepiscopalchurch.org
SUMMARY:Meals on Wheels
DESCRIPTION:Meals On Wheels (MOW) serves hot\, nutritious meals to the homebound elderly and/or disabled Monday through Friday.
URL:https://westoverepiscopalchurch.org/event/meals-on-wheels/2029-06-04/
LOCATION:VA
END:VEVENT
BEGIN:VEVENT
DTSTART;TZID=America/New_York:20290605T090000
DTEND;TZID=America/New_York:20290605T110000
DTSTAMP:20260425T230921
CREATED:20230113T145846Z
LAST-MODIFIED:20230113T145846Z
UID:10003987-1875344400-1875351600@westoverepiscopalchurch.org
SUMMARY:Meals on Wheels
DESCRIPTION:Meals On Wheels (MOW) serves hot\, nutritious meals to the homebound elderly and/or disabled Monday through Friday.
URL:https://westoverepiscopalchurch.org/event/meals-on-wheels/2029-06-05/
LOCATION:VA
END:VEVENT
BEGIN:VEVENT
DTSTART;TZID=America/New_York:20290606T090000
DTEND;TZID=America/New_York:20290606T110000
DTSTAMP:20260425T230921
CREATED:20230113T145846Z
LAST-MODIFIED:20230113T145846Z
UID:10003988-1875430800-1875438000@westoverepiscopalchurch.org
SUMMARY:Meals on Wheels
DESCRIPTION:Meals On Wheels (MOW) serves hot\, nutritious meals to the homebound elderly and/or disabled Monday through Friday.
URL:https://westoverepiscopalchurch.org/event/meals-on-wheels/2029-06-06/
LOCATION:VA
END:VEVENT
BEGIN:VEVENT
DTSTART;TZID=America/New_York:20290607T090000
DTEND;TZID=America/New_York:20290607T110000
DTSTAMP:20260425T230921
CREATED:20230113T145846Z
LAST-MODIFIED:20230113T145846Z
UID:10003989-1875517200-1875524400@westoverepiscopalchurch.org
SUMMARY:Meals on Wheels
DESCRIPTION:Meals On Wheels (MOW) serves hot\, nutritious meals to the homebound elderly and/or disabled Monday through Friday.
URL:https://westoverepiscopalchurch.org/event/meals-on-wheels/2029-06-07/
LOCATION:VA
END:VEVENT
BEGIN:VEVENT
DTSTART;TZID=America/New_York:20290608T090000
DTEND;TZID=America/New_York:20290608T110000
DTSTAMP:20260425T230921
CREATED:20230113T145846Z
LAST-MODIFIED:20230113T145846Z
UID:10003990-1875603600-1875610800@westoverepiscopalchurch.org
SUMMARY:Meals on Wheels
DESCRIPTION:Meals On Wheels (MOW) serves hot\, nutritious meals to the homebound elderly and/or disabled Monday through Friday.
URL:https://westoverepiscopalchurch.org/event/meals-on-wheels/2029-06-08/
LOCATION:VA
END:VEVENT
BEGIN:VEVENT
DTSTART;TZID=America/New_York:20290611T090000
DTEND;TZID=America/New_York:20290611T110000
DTSTAMP:20260425T230921
CREATED:20230113T145846Z
LAST-MODIFIED:20230113T145846Z
UID:10003991-1875862800-1875870000@westoverepiscopalchurch.org
SUMMARY:Meals on Wheels
DESCRIPTION:Meals On Wheels (MOW) serves hot\, nutritious meals to the homebound elderly and/or disabled Monday through Friday.
URL:https://westoverepiscopalchurch.org/event/meals-on-wheels/2029-06-11/
LOCATION:VA
END:VEVENT
END:VCALENDAR