BEGIN:VCALENDAR
VERSION:2.0
PRODID:-//Westover Episcopal Church - Charles City, VA - ECPv6.15.20//NONSGML v1.0//EN
CALSCALE:GREGORIAN
METHOD:PUBLISH
X-ORIGINAL-URL:https://westoverepiscopalchurch.org
X-WR-CALDESC:Events for Westover Episcopal Church - Charles City, VA
REFRESH-INTERVAL;VALUE=DURATION:PT1H
X-Robots-Tag:noindex
X-PUBLISHED-TTL:PT1H
BEGIN:VTIMEZONE
TZID:America/New_York
BEGIN:DAYLIGHT
TZOFFSETFROM:-0500
TZOFFSETTO:-0400
TZNAME:EDT
DTSTART:20230312T070000
END:DAYLIGHT
BEGIN:STANDARD
TZOFFSETFROM:-0400
TZOFFSETTO:-0500
TZNAME:EST
DTSTART:20231105T060000
END:STANDARD
BEGIN:DAYLIGHT
TZOFFSETFROM:-0500
TZOFFSETTO:-0400
TZNAME:EDT
DTSTART:20240310T070000
END:DAYLIGHT
BEGIN:STANDARD
TZOFFSETFROM:-0400
TZOFFSETTO:-0500
TZNAME:EST
DTSTART:20241103T060000
END:STANDARD
BEGIN:DAYLIGHT
TZOFFSETFROM:-0500
TZOFFSETTO:-0400
TZNAME:EDT
DTSTART:20250309T070000
END:DAYLIGHT
BEGIN:STANDARD
TZOFFSETFROM:-0400
TZOFFSETTO:-0500
TZNAME:EST
DTSTART:20251102T060000
END:STANDARD
END:VTIMEZONE
BEGIN:VEVENT
DTSTART;TZID=America/New_York:20240313T090000
DTEND;TZID=America/New_York:20240313T110000
DTSTAMP:20260425T104017
CREATED:20240105T180517Z
LAST-MODIFIED:20240105T180520Z
UID:10001237-1710320400-1710327600@westoverepiscopalchurch.org
SUMMARY:Meals on Wheels
DESCRIPTION:
URL:https://westoverepiscopalchurch.org/event/meals-on-wheels-3-2/2024-03-13/
LOCATION:VA
END:VEVENT
BEGIN:VEVENT
DTSTART;TZID=America/New_York:20240314T090000
DTEND;TZID=America/New_York:20240314T110000
DTSTAMP:20260425T104017
CREATED:20230113T145846Z
LAST-MODIFIED:20230113T145846Z
UID:10002624-1710406800-1710414000@westoverepiscopalchurch.org
SUMMARY:Meals on Wheels
DESCRIPTION:Meals On Wheels (MOW) serves hot\, nutritious meals to the homebound elderly and/or disabled Monday through Friday.
URL:https://westoverepiscopalchurch.org/event/meals-on-wheels/2024-03-14/
LOCATION:VA
END:VEVENT
BEGIN:VEVENT
DTSTART;TZID=America/New_York:20240314T090000
DTEND;TZID=America/New_York:20240314T110000
DTSTAMP:20260425T104017
CREATED:20240105T180517Z
LAST-MODIFIED:20240105T180520Z
UID:10001238-1710406800-1710414000@westoverepiscopalchurch.org
SUMMARY:Meals on Wheels
DESCRIPTION:
URL:https://westoverepiscopalchurch.org/event/meals-on-wheels-3-2/2024-03-14/
LOCATION:VA
END:VEVENT
BEGIN:VEVENT
DTSTART;TZID=America/New_York:20240314T100000
DTEND;TZID=America/New_York:20240314T110000
DTSTAMP:20260425T104017
CREATED:20230712T204456Z
LAST-MODIFIED:20230712T204456Z
UID:10001122-1710410400-1710414000@westoverepiscopalchurch.org
SUMMARY:Gentle Yoga with Rev. Becky
DESCRIPTION:
URL:https://westoverepiscopalchurch.org/event/gentle-yoga-with-rev-becky-3/2024-03-14/
LOCATION:VA
END:VEVENT
BEGIN:VEVENT
DTSTART;TZID=America/New_York:20240315T090000
DTEND;TZID=America/New_York:20240315T110000
DTSTAMP:20260425T104017
CREATED:20230113T145846Z
LAST-MODIFIED:20230113T145846Z
UID:10002625-1710493200-1710500400@westoverepiscopalchurch.org
SUMMARY:Meals on Wheels
DESCRIPTION:Meals On Wheels (MOW) serves hot\, nutritious meals to the homebound elderly and/or disabled Monday through Friday.
URL:https://westoverepiscopalchurch.org/event/meals-on-wheels/2024-03-15/
LOCATION:VA
END:VEVENT
BEGIN:VEVENT
DTSTART;TZID=America/New_York:20240315T090000
DTEND;TZID=America/New_York:20240315T110000
DTSTAMP:20260425T104017
CREATED:20240105T180517Z
LAST-MODIFIED:20240105T180520Z
UID:10001239-1710493200-1710500400@westoverepiscopalchurch.org
SUMMARY:Meals on Wheels
DESCRIPTION:
URL:https://westoverepiscopalchurch.org/event/meals-on-wheels-3-2/2024-03-15/
LOCATION:VA
END:VEVENT
BEGIN:VEVENT
DTSTART;TZID=America/New_York:20240317T100000
DTEND;TZID=America/New_York:20240317T110000
DTSTAMP:20260425T104017
CREATED:20240307T150445Z
LAST-MODIFIED:20240307T150445Z
UID:10001454-1710669600-1710673200@westoverepiscopalchurch.org
SUMMARY:No 10:00 AM Service
DESCRIPTION:
URL:https://westoverepiscopalchurch.org/event/no-1000-am-service/
LOCATION:Westover Episcopal Church\, 6401 John Tyler Hwy.\, Charles City\, VA\, 23030\, United States
END:VEVENT
BEGIN:VEVENT
DTSTART;TZID=America/New_York:20240317T173000
DTEND;TZID=America/New_York:20240317T183000
DTSTAMP:20260425T104017
CREATED:20240307T150631Z
LAST-MODIFIED:20240307T150631Z
UID:10001455-1710696600-1710700200@westoverepiscopalchurch.org
SUMMARY:Celtic Communion Service
DESCRIPTION:A Potluck Dinner will follow the service.
URL:https://westoverepiscopalchurch.org/event/celtic-communion-service/
LOCATION:Westover Episcopal Church\, 6401 John Tyler Hwy.\, Charles City\, VA\, 23030\, United States
END:VEVENT
BEGIN:VEVENT
DTSTART;TZID=America/New_York:20240318T090000
DTEND;TZID=America/New_York:20240318T110000
DTSTAMP:20260425T104017
CREATED:20230113T145846Z
LAST-MODIFIED:20230113T145846Z
UID:10002626-1710752400-1710759600@westoverepiscopalchurch.org
SUMMARY:Meals on Wheels
DESCRIPTION:Meals On Wheels (MOW) serves hot\, nutritious meals to the homebound elderly and/or disabled Monday through Friday.
URL:https://westoverepiscopalchurch.org/event/meals-on-wheels/2024-03-18/
LOCATION:VA
END:VEVENT
BEGIN:VEVENT
DTSTART;TZID=America/New_York:20240318T090000
DTEND;TZID=America/New_York:20240318T110000
DTSTAMP:20260425T104017
CREATED:20240105T180517Z
LAST-MODIFIED:20240105T180520Z
UID:10001240-1710752400-1710759600@westoverepiscopalchurch.org
SUMMARY:Meals on Wheels
DESCRIPTION:
URL:https://westoverepiscopalchurch.org/event/meals-on-wheels-3-2/2024-03-18/
LOCATION:VA
END:VEVENT
BEGIN:VEVENT
DTSTART;TZID=America/New_York:20240319T090000
DTEND;TZID=America/New_York:20240319T110000
DTSTAMP:20260425T104017
CREATED:20230113T145846Z
LAST-MODIFIED:20230113T145846Z
UID:10002627-1710838800-1710846000@westoverepiscopalchurch.org
SUMMARY:Meals on Wheels
DESCRIPTION:Meals On Wheels (MOW) serves hot\, nutritious meals to the homebound elderly and/or disabled Monday through Friday.
URL:https://westoverepiscopalchurch.org/event/meals-on-wheels/2024-03-19/
LOCATION:VA
END:VEVENT
BEGIN:VEVENT
DTSTART;TZID=America/New_York:20240319T090000
DTEND;TZID=America/New_York:20240319T110000
DTSTAMP:20260425T104017
CREATED:20240105T180517Z
LAST-MODIFIED:20240105T180520Z
UID:10001241-1710838800-1710846000@westoverepiscopalchurch.org
SUMMARY:Meals on Wheels
DESCRIPTION:
URL:https://westoverepiscopalchurch.org/event/meals-on-wheels-3-2/2024-03-19/
LOCATION:VA
END:VEVENT
BEGIN:VEVENT
DTSTART;TZID=America/New_York:20240320T090000
DTEND;TZID=America/New_York:20240320T110000
DTSTAMP:20260425T104017
CREATED:20230113T145846Z
LAST-MODIFIED:20230113T145846Z
UID:10002628-1710925200-1710932400@westoverepiscopalchurch.org
SUMMARY:Meals on Wheels
DESCRIPTION:Meals On Wheels (MOW) serves hot\, nutritious meals to the homebound elderly and/or disabled Monday through Friday.
URL:https://westoverepiscopalchurch.org/event/meals-on-wheels/2024-03-20/
LOCATION:VA
END:VEVENT
BEGIN:VEVENT
DTSTART;TZID=America/New_York:20240320T090000
DTEND;TZID=America/New_York:20240320T110000
DTSTAMP:20260425T104017
CREATED:20240105T180517Z
LAST-MODIFIED:20240105T180520Z
UID:10001242-1710925200-1710932400@westoverepiscopalchurch.org
SUMMARY:Meals on Wheels
DESCRIPTION:
URL:https://westoverepiscopalchurch.org/event/meals-on-wheels-3-2/2024-03-20/
LOCATION:VA
END:VEVENT
BEGIN:VEVENT
DTSTART;TZID=America/New_York:20240321T090000
DTEND;TZID=America/New_York:20240321T110000
DTSTAMP:20260425T104017
CREATED:20230113T145846Z
LAST-MODIFIED:20230113T145846Z
UID:10002629-1711011600-1711018800@westoverepiscopalchurch.org
SUMMARY:Meals on Wheels
DESCRIPTION:Meals On Wheels (MOW) serves hot\, nutritious meals to the homebound elderly and/or disabled Monday through Friday.
URL:https://westoverepiscopalchurch.org/event/meals-on-wheels/2024-03-21/
LOCATION:VA
END:VEVENT
BEGIN:VEVENT
DTSTART;TZID=America/New_York:20240321T090000
DTEND;TZID=America/New_York:20240321T110000
DTSTAMP:20260425T104017
CREATED:20240105T180517Z
LAST-MODIFIED:20240105T180520Z
UID:10001243-1711011600-1711018800@westoverepiscopalchurch.org
SUMMARY:Meals on Wheels
DESCRIPTION:
URL:https://westoverepiscopalchurch.org/event/meals-on-wheels-3-2/2024-03-21/
LOCATION:VA
END:VEVENT
BEGIN:VEVENT
DTSTART;TZID=America/New_York:20240321T100000
DTEND;TZID=America/New_York:20240321T110000
DTSTAMP:20260425T104017
CREATED:20230712T204456Z
LAST-MODIFIED:20230712T204456Z
UID:10001123-1711015200-1711018800@westoverepiscopalchurch.org
SUMMARY:Gentle Yoga with Rev. Becky
DESCRIPTION:
URL:https://westoverepiscopalchurch.org/event/gentle-yoga-with-rev-becky-3/2024-03-21/
LOCATION:VA
END:VEVENT
BEGIN:VEVENT
DTSTART;TZID=America/New_York:20240322T090000
DTEND;TZID=America/New_York:20240322T110000
DTSTAMP:20260425T104017
CREATED:20230113T145846Z
LAST-MODIFIED:20230113T145846Z
UID:10002630-1711098000-1711105200@westoverepiscopalchurch.org
SUMMARY:Meals on Wheels
DESCRIPTION:Meals On Wheels (MOW) serves hot\, nutritious meals to the homebound elderly and/or disabled Monday through Friday.
URL:https://westoverepiscopalchurch.org/event/meals-on-wheels/2024-03-22/
LOCATION:VA
END:VEVENT
BEGIN:VEVENT
DTSTART;TZID=America/New_York:20240322T090000
DTEND;TZID=America/New_York:20240322T110000
DTSTAMP:20260425T104017
CREATED:20240105T180517Z
LAST-MODIFIED:20240105T180520Z
UID:10001244-1711098000-1711105200@westoverepiscopalchurch.org
SUMMARY:Meals on Wheels
DESCRIPTION:
URL:https://westoverepiscopalchurch.org/event/meals-on-wheels-3-2/2024-03-22/
LOCATION:VA
END:VEVENT
BEGIN:VEVENT
DTSTART;TZID=America/New_York:20240324T100000
DTEND;TZID=America/New_York:20240324T110000
DTSTAMP:20260425T104017
CREATED:20240307T150715Z
LAST-MODIFIED:20240307T150715Z
UID:10001456-1711274400-1711278000@westoverepiscopalchurch.org
SUMMARY:Palm Sunday Service
DESCRIPTION:
URL:https://westoverepiscopalchurch.org/event/palm-sunday-service-2/
LOCATION:Westover Episcopal Church\, 6401 John Tyler Hwy.\, Charles City\, VA\, 23030\, United States
END:VEVENT
BEGIN:VEVENT
DTSTART;TZID=America/New_York:20240325T090000
DTEND;TZID=America/New_York:20240325T110000
DTSTAMP:20260425T104017
CREATED:20230113T145846Z
LAST-MODIFIED:20230113T145846Z
UID:10002631-1711357200-1711364400@westoverepiscopalchurch.org
SUMMARY:Meals on Wheels
DESCRIPTION:Meals On Wheels (MOW) serves hot\, nutritious meals to the homebound elderly and/or disabled Monday through Friday.
URL:https://westoverepiscopalchurch.org/event/meals-on-wheels/2024-03-25/
LOCATION:VA
END:VEVENT
BEGIN:VEVENT
DTSTART;TZID=America/New_York:20240325T090000
DTEND;TZID=America/New_York:20240325T110000
DTSTAMP:20260425T104017
CREATED:20240105T180517Z
LAST-MODIFIED:20240105T180520Z
UID:10001245-1711357200-1711364400@westoverepiscopalchurch.org
SUMMARY:Meals on Wheels
DESCRIPTION:
URL:https://westoverepiscopalchurch.org/event/meals-on-wheels-3-2/2024-03-25/
LOCATION:VA
END:VEVENT
BEGIN:VEVENT
DTSTART;TZID=America/New_York:20240326T090000
DTEND;TZID=America/New_York:20240326T110000
DTSTAMP:20260425T104017
CREATED:20230113T145846Z
LAST-MODIFIED:20230113T145846Z
UID:10002632-1711443600-1711450800@westoverepiscopalchurch.org
SUMMARY:Meals on Wheels
DESCRIPTION:Meals On Wheels (MOW) serves hot\, nutritious meals to the homebound elderly and/or disabled Monday through Friday.
URL:https://westoverepiscopalchurch.org/event/meals-on-wheels/2024-03-26/
LOCATION:VA
END:VEVENT
BEGIN:VEVENT
DTSTART;TZID=America/New_York:20240326T090000
DTEND;TZID=America/New_York:20240326T110000
DTSTAMP:20260425T104017
CREATED:20240105T180517Z
LAST-MODIFIED:20240105T180520Z
UID:10001246-1711443600-1711450800@westoverepiscopalchurch.org
SUMMARY:Meals on Wheels
DESCRIPTION:
URL:https://westoverepiscopalchurch.org/event/meals-on-wheels-3-2/2024-03-26/
LOCATION:VA
END:VEVENT
BEGIN:VEVENT
DTSTART;TZID=America/New_York:20240327T090000
DTEND;TZID=America/New_York:20240327T110000
DTSTAMP:20260425T104017
CREATED:20230113T145846Z
LAST-MODIFIED:20230113T145846Z
UID:10002633-1711530000-1711537200@westoverepiscopalchurch.org
SUMMARY:Meals on Wheels
DESCRIPTION:Meals On Wheels (MOW) serves hot\, nutritious meals to the homebound elderly and/or disabled Monday through Friday.
URL:https://westoverepiscopalchurch.org/event/meals-on-wheels/2024-03-27/
LOCATION:VA
END:VEVENT
BEGIN:VEVENT
DTSTART;TZID=America/New_York:20240327T090000
DTEND;TZID=America/New_York:20240327T110000
DTSTAMP:20260425T104017
CREATED:20240105T180517Z
LAST-MODIFIED:20240105T180520Z
UID:10001247-1711530000-1711537200@westoverepiscopalchurch.org
SUMMARY:Meals on Wheels
DESCRIPTION:
URL:https://westoverepiscopalchurch.org/event/meals-on-wheels-3-2/2024-03-27/
LOCATION:VA
END:VEVENT
BEGIN:VEVENT
DTSTART;TZID=America/New_York:20240328T090000
DTEND;TZID=America/New_York:20240328T110000
DTSTAMP:20260425T104017
CREATED:20230113T145846Z
LAST-MODIFIED:20230113T145846Z
UID:10002634-1711616400-1711623600@westoverepiscopalchurch.org
SUMMARY:Meals on Wheels
DESCRIPTION:Meals On Wheels (MOW) serves hot\, nutritious meals to the homebound elderly and/or disabled Monday through Friday.
URL:https://westoverepiscopalchurch.org/event/meals-on-wheels/2024-03-28/
LOCATION:VA
END:VEVENT
BEGIN:VEVENT
DTSTART;TZID=America/New_York:20240328T090000
DTEND;TZID=America/New_York:20240328T110000
DTSTAMP:20260425T104017
CREATED:20240105T180517Z
LAST-MODIFIED:20240105T180520Z
UID:10001248-1711616400-1711623600@westoverepiscopalchurch.org
SUMMARY:Meals on Wheels
DESCRIPTION:
URL:https://westoverepiscopalchurch.org/event/meals-on-wheels-3-2/2024-03-28/
LOCATION:VA
END:VEVENT
BEGIN:VEVENT
DTSTART;TZID=America/New_York:20240328T100000
DTEND;TZID=America/New_York:20240328T110000
DTSTAMP:20260425T104017
CREATED:20230712T204456Z
LAST-MODIFIED:20230712T204456Z
UID:10001124-1711620000-1711623600@westoverepiscopalchurch.org
SUMMARY:Gentle Yoga with Rev. Becky
DESCRIPTION:
URL:https://westoverepiscopalchurch.org/event/gentle-yoga-with-rev-becky-3/2024-03-28/
LOCATION:VA
END:VEVENT
BEGIN:VEVENT
DTSTART;TZID=America/New_York:20240328T180000
DTEND;TZID=America/New_York:20240328T190000
DTSTAMP:20260425T104017
CREATED:20240326T124436Z
LAST-MODIFIED:20240326T124436Z
UID:10001464-1711648800-1711652400@westoverepiscopalchurch.org
SUMMARY:Maundy Thursday Service
DESCRIPTION:
URL:https://westoverepiscopalchurch.org/event/maundy-thursday-service-2/
LOCATION:Westover Episcopal Church\, 6401 John Tyler Hwy.\, Charles City\, VA\, 23030\, United States
END:VEVENT
END:VCALENDAR