BEGIN:VCALENDAR
VERSION:2.0
PRODID:-//Westover Episcopal Church - Charles City, VA - ECPv6.15.20//NONSGML v1.0//EN
CALSCALE:GREGORIAN
METHOD:PUBLISH
X-ORIGINAL-URL:https://westoverepiscopalchurch.org
X-WR-CALDESC:Events for Westover Episcopal Church - Charles City, VA
REFRESH-INTERVAL;VALUE=DURATION:PT1H
X-Robots-Tag:noindex
X-PUBLISHED-TTL:PT1H
BEGIN:VTIMEZONE
TZID:America/New_York
BEGIN:DAYLIGHT
TZOFFSETFROM:-0500
TZOFFSETTO:-0400
TZNAME:EDT
DTSTART:20240310T070000
END:DAYLIGHT
BEGIN:STANDARD
TZOFFSETFROM:-0400
TZOFFSETTO:-0500
TZNAME:EST
DTSTART:20241103T060000
END:STANDARD
BEGIN:DAYLIGHT
TZOFFSETFROM:-0500
TZOFFSETTO:-0400
TZNAME:EDT
DTSTART:20250309T070000
END:DAYLIGHT
BEGIN:STANDARD
TZOFFSETFROM:-0400
TZOFFSETTO:-0500
TZNAME:EST
DTSTART:20251102T060000
END:STANDARD
BEGIN:DAYLIGHT
TZOFFSETFROM:-0500
TZOFFSETTO:-0400
TZNAME:EDT
DTSTART:20260308T070000
END:DAYLIGHT
BEGIN:STANDARD
TZOFFSETFROM:-0400
TZOFFSETTO:-0500
TZNAME:EST
DTSTART:20261101T060000
END:STANDARD
END:VTIMEZONE
BEGIN:VEVENT
DTSTART;TZID=America/New_York:20251017T090000
DTEND;TZID=America/New_York:20251017T110000
DTSTAMP:20260424T034952
CREATED:20250103T170003Z
LAST-MODIFIED:20250103T170126Z
UID:10002093-1760691600-1760698800@westoverepiscopalchurch.org
SUMMARY:Meals on Wheels
DESCRIPTION:
URL:https://westoverepiscopalchurch.org/event/meals-on-wheels-2/2025-10-17/
LOCATION:VA
END:VEVENT
BEGIN:VEVENT
DTSTART;TZID=America/New_York:20251020T090000
DTEND;TZID=America/New_York:20251020T110000
DTSTAMP:20260424T034952
CREATED:20230113T145846Z
LAST-MODIFIED:20230113T145846Z
UID:10003041-1760950800-1760958000@westoverepiscopalchurch.org
SUMMARY:Meals on Wheels
DESCRIPTION:Meals On Wheels (MOW) serves hot\, nutritious meals to the homebound elderly and/or disabled Monday through Friday.
URL:https://westoverepiscopalchurch.org/event/meals-on-wheels/2025-10-20/
LOCATION:VA
END:VEVENT
BEGIN:VEVENT
DTSTART;TZID=America/New_York:20251020T090000
DTEND;TZID=America/New_York:20251020T110000
DTSTAMP:20260424T034952
CREATED:20250103T170003Z
LAST-MODIFIED:20250103T170126Z
UID:10002094-1760950800-1760958000@westoverepiscopalchurch.org
SUMMARY:Meals on Wheels
DESCRIPTION:
URL:https://westoverepiscopalchurch.org/event/meals-on-wheels-2/2025-10-20/
LOCATION:VA
END:VEVENT
BEGIN:VEVENT
DTSTART;TZID=America/New_York:20251021T090000
DTEND;TZID=America/New_York:20251021T110000
DTSTAMP:20260424T034952
CREATED:20230113T145846Z
LAST-MODIFIED:20230113T145846Z
UID:10003042-1761037200-1761044400@westoverepiscopalchurch.org
SUMMARY:Meals on Wheels
DESCRIPTION:Meals On Wheels (MOW) serves hot\, nutritious meals to the homebound elderly and/or disabled Monday through Friday.
URL:https://westoverepiscopalchurch.org/event/meals-on-wheels/2025-10-21/
LOCATION:VA
END:VEVENT
BEGIN:VEVENT
DTSTART;TZID=America/New_York:20251021T090000
DTEND;TZID=America/New_York:20251021T110000
DTSTAMP:20260424T034952
CREATED:20250103T170003Z
LAST-MODIFIED:20250103T170126Z
UID:10002095-1761037200-1761044400@westoverepiscopalchurch.org
SUMMARY:Meals on Wheels
DESCRIPTION:
URL:https://westoverepiscopalchurch.org/event/meals-on-wheels-2/2025-10-21/
LOCATION:VA
END:VEVENT
BEGIN:VEVENT
DTSTART;TZID=America/New_York:20251022T090000
DTEND;TZID=America/New_York:20251022T110000
DTSTAMP:20260424T034952
CREATED:20230113T145846Z
LAST-MODIFIED:20230113T145846Z
UID:10003043-1761123600-1761130800@westoverepiscopalchurch.org
SUMMARY:Meals on Wheels
DESCRIPTION:Meals On Wheels (MOW) serves hot\, nutritious meals to the homebound elderly and/or disabled Monday through Friday.
URL:https://westoverepiscopalchurch.org/event/meals-on-wheels/2025-10-22/
LOCATION:VA
END:VEVENT
BEGIN:VEVENT
DTSTART;TZID=America/New_York:20251022T090000
DTEND;TZID=America/New_York:20251022T110000
DTSTAMP:20260424T034952
CREATED:20250103T170003Z
LAST-MODIFIED:20250103T170126Z
UID:10002096-1761123600-1761130800@westoverepiscopalchurch.org
SUMMARY:Meals on Wheels
DESCRIPTION:
URL:https://westoverepiscopalchurch.org/event/meals-on-wheels-2/2025-10-22/
LOCATION:VA
END:VEVENT
BEGIN:VEVENT
DTSTART;TZID=America/New_York:20251023T090000
DTEND;TZID=America/New_York:20251023T110000
DTSTAMP:20260424T034952
CREATED:20230113T145846Z
LAST-MODIFIED:20230113T145846Z
UID:10003044-1761210000-1761217200@westoverepiscopalchurch.org
SUMMARY:Meals on Wheels
DESCRIPTION:Meals On Wheels (MOW) serves hot\, nutritious meals to the homebound elderly and/or disabled Monday through Friday.
URL:https://westoverepiscopalchurch.org/event/meals-on-wheels/2025-10-23/
LOCATION:VA
END:VEVENT
BEGIN:VEVENT
DTSTART;TZID=America/New_York:20251023T090000
DTEND;TZID=America/New_York:20251023T110000
DTSTAMP:20260424T034952
CREATED:20250103T170003Z
LAST-MODIFIED:20250103T170126Z
UID:10002097-1761210000-1761217200@westoverepiscopalchurch.org
SUMMARY:Meals on Wheels
DESCRIPTION:
URL:https://westoverepiscopalchurch.org/event/meals-on-wheels-2/2025-10-23/
LOCATION:VA
END:VEVENT
BEGIN:VEVENT
DTSTART;TZID=America/New_York:20251023T100000
DTEND;TZID=America/New_York:20251023T110000
DTSTAMP:20260424T034952
CREATED:20241203T183802Z
LAST-MODIFIED:20250520T131430Z
UID:10001608-1761213600-1761217200@westoverepiscopalchurch.org
SUMMARY:Gentle Yoga with Rev. Becky
DESCRIPTION:
URL:https://westoverepiscopalchurch.org/event/gentle-yoga-with-rev-becky-6/2025-10-23/
LOCATION:VA
END:VEVENT
BEGIN:VEVENT
DTSTART;TZID=America/New_York:20251024T090000
DTEND;TZID=America/New_York:20251024T110000
DTSTAMP:20260424T034952
CREATED:20230113T145846Z
LAST-MODIFIED:20230113T145846Z
UID:10003045-1761296400-1761303600@westoverepiscopalchurch.org
SUMMARY:Meals on Wheels
DESCRIPTION:Meals On Wheels (MOW) serves hot\, nutritious meals to the homebound elderly and/or disabled Monday through Friday.
URL:https://westoverepiscopalchurch.org/event/meals-on-wheels/2025-10-24/
LOCATION:VA
END:VEVENT
BEGIN:VEVENT
DTSTART;TZID=America/New_York:20251024T090000
DTEND;TZID=America/New_York:20251024T110000
DTSTAMP:20260424T034952
CREATED:20250103T170003Z
LAST-MODIFIED:20250103T170126Z
UID:10002098-1761296400-1761303600@westoverepiscopalchurch.org
SUMMARY:Meals on Wheels
DESCRIPTION:
URL:https://westoverepiscopalchurch.org/event/meals-on-wheels-2/2025-10-24/
LOCATION:VA
END:VEVENT
BEGIN:VEVENT
DTSTART;TZID=America/New_York:20251027T090000
DTEND;TZID=America/New_York:20251027T110000
DTSTAMP:20260424T034952
CREATED:20230113T145846Z
LAST-MODIFIED:20230113T145846Z
UID:10003046-1761555600-1761562800@westoverepiscopalchurch.org
SUMMARY:Meals on Wheels
DESCRIPTION:Meals On Wheels (MOW) serves hot\, nutritious meals to the homebound elderly and/or disabled Monday through Friday.
URL:https://westoverepiscopalchurch.org/event/meals-on-wheels/2025-10-27/
LOCATION:VA
END:VEVENT
BEGIN:VEVENT
DTSTART;TZID=America/New_York:20251027T090000
DTEND;TZID=America/New_York:20251027T110000
DTSTAMP:20260424T034952
CREATED:20250103T170003Z
LAST-MODIFIED:20250103T170126Z
UID:10002099-1761555600-1761562800@westoverepiscopalchurch.org
SUMMARY:Meals on Wheels
DESCRIPTION:
URL:https://westoverepiscopalchurch.org/event/meals-on-wheels-2/2025-10-27/
LOCATION:VA
END:VEVENT
BEGIN:VEVENT
DTSTART;TZID=America/New_York:20251028T090000
DTEND;TZID=America/New_York:20251028T110000
DTSTAMP:20260424T034952
CREATED:20230113T145846Z
LAST-MODIFIED:20230113T145846Z
UID:10003047-1761642000-1761649200@westoverepiscopalchurch.org
SUMMARY:Meals on Wheels
DESCRIPTION:Meals On Wheels (MOW) serves hot\, nutritious meals to the homebound elderly and/or disabled Monday through Friday.
URL:https://westoverepiscopalchurch.org/event/meals-on-wheels/2025-10-28/
LOCATION:VA
END:VEVENT
BEGIN:VEVENT
DTSTART;TZID=America/New_York:20251028T090000
DTEND;TZID=America/New_York:20251028T110000
DTSTAMP:20260424T034952
CREATED:20250103T170003Z
LAST-MODIFIED:20250103T170126Z
UID:10002100-1761642000-1761649200@westoverepiscopalchurch.org
SUMMARY:Meals on Wheels
DESCRIPTION:
URL:https://westoverepiscopalchurch.org/event/meals-on-wheels-2/2025-10-28/
LOCATION:VA
END:VEVENT
BEGIN:VEVENT
DTSTART;TZID=America/New_York:20251029T090000
DTEND;TZID=America/New_York:20251029T110000
DTSTAMP:20260424T034952
CREATED:20230113T145846Z
LAST-MODIFIED:20230113T145846Z
UID:10003048-1761728400-1761735600@westoverepiscopalchurch.org
SUMMARY:Meals on Wheels
DESCRIPTION:Meals On Wheels (MOW) serves hot\, nutritious meals to the homebound elderly and/or disabled Monday through Friday.
URL:https://westoverepiscopalchurch.org/event/meals-on-wheels/2025-10-29/
LOCATION:VA
END:VEVENT
BEGIN:VEVENT
DTSTART;TZID=America/New_York:20251029T090000
DTEND;TZID=America/New_York:20251029T110000
DTSTAMP:20260424T034952
CREATED:20250103T170003Z
LAST-MODIFIED:20250103T170126Z
UID:10002101-1761728400-1761735600@westoverepiscopalchurch.org
SUMMARY:Meals on Wheels
DESCRIPTION:
URL:https://westoverepiscopalchurch.org/event/meals-on-wheels-2/2025-10-29/
LOCATION:VA
END:VEVENT
BEGIN:VEVENT
DTSTART;TZID=America/New_York:20251030T090000
DTEND;TZID=America/New_York:20251030T110000
DTSTAMP:20260424T034952
CREATED:20230113T145846Z
LAST-MODIFIED:20230113T145846Z
UID:10003049-1761814800-1761822000@westoverepiscopalchurch.org
SUMMARY:Meals on Wheels
DESCRIPTION:Meals On Wheels (MOW) serves hot\, nutritious meals to the homebound elderly and/or disabled Monday through Friday.
URL:https://westoverepiscopalchurch.org/event/meals-on-wheels/2025-10-30/
LOCATION:VA
END:VEVENT
BEGIN:VEVENT
DTSTART;TZID=America/New_York:20251030T090000
DTEND;TZID=America/New_York:20251030T110000
DTSTAMP:20260424T034952
CREATED:20250103T170003Z
LAST-MODIFIED:20250103T170126Z
UID:10002102-1761814800-1761822000@westoverepiscopalchurch.org
SUMMARY:Meals on Wheels
DESCRIPTION:
URL:https://westoverepiscopalchurch.org/event/meals-on-wheels-2/2025-10-30/
LOCATION:VA
END:VEVENT
BEGIN:VEVENT
DTSTART;TZID=America/New_York:20251030T100000
DTEND;TZID=America/New_York:20251030T110000
DTSTAMP:20260424T034952
CREATED:20241203T183802Z
LAST-MODIFIED:20250520T131430Z
UID:10001609-1761818400-1761822000@westoverepiscopalchurch.org
SUMMARY:Gentle Yoga with Rev. Becky
DESCRIPTION:
URL:https://westoverepiscopalchurch.org/event/gentle-yoga-with-rev-becky-6/2025-10-30/
LOCATION:VA
END:VEVENT
BEGIN:VEVENT
DTSTART;TZID=America/New_York:20251031T090000
DTEND;TZID=America/New_York:20251031T110000
DTSTAMP:20260424T034952
CREATED:20230113T145846Z
LAST-MODIFIED:20230113T145846Z
UID:10003050-1761901200-1761908400@westoverepiscopalchurch.org
SUMMARY:Meals on Wheels
DESCRIPTION:Meals On Wheels (MOW) serves hot\, nutritious meals to the homebound elderly and/or disabled Monday through Friday.
URL:https://westoverepiscopalchurch.org/event/meals-on-wheels/2025-10-31/
LOCATION:VA
END:VEVENT
BEGIN:VEVENT
DTSTART;TZID=America/New_York:20251031T090000
DTEND;TZID=America/New_York:20251031T110000
DTSTAMP:20260424T034952
CREATED:20250103T170003Z
LAST-MODIFIED:20250103T170126Z
UID:10002103-1761901200-1761908400@westoverepiscopalchurch.org
SUMMARY:Meals on Wheels
DESCRIPTION:
URL:https://westoverepiscopalchurch.org/event/meals-on-wheels-2/2025-10-31/
LOCATION:VA
END:VEVENT
BEGIN:VEVENT
DTSTART;TZID=America/New_York:20251103T090000
DTEND;TZID=America/New_York:20251103T110000
DTSTAMP:20260424T034952
CREATED:20230113T145846Z
LAST-MODIFIED:20230113T145846Z
UID:10003051-1762160400-1762167600@westoverepiscopalchurch.org
SUMMARY:Meals on Wheels
DESCRIPTION:Meals On Wheels (MOW) serves hot\, nutritious meals to the homebound elderly and/or disabled Monday through Friday.
URL:https://westoverepiscopalchurch.org/event/meals-on-wheels/2025-11-03/
LOCATION:VA
END:VEVENT
BEGIN:VEVENT
DTSTART;TZID=America/New_York:20251103T090000
DTEND;TZID=America/New_York:20251103T110000
DTSTAMP:20260424T034952
CREATED:20250103T170003Z
LAST-MODIFIED:20250103T170126Z
UID:10002104-1762160400-1762167600@westoverepiscopalchurch.org
SUMMARY:Meals on Wheels
DESCRIPTION:
URL:https://westoverepiscopalchurch.org/event/meals-on-wheels-2/2025-11-03/
LOCATION:VA
END:VEVENT
BEGIN:VEVENT
DTSTART;TZID=America/New_York:20251104T090000
DTEND;TZID=America/New_York:20251104T110000
DTSTAMP:20260424T034952
CREATED:20230113T145846Z
LAST-MODIFIED:20230113T145846Z
UID:10003052-1762246800-1762254000@westoverepiscopalchurch.org
SUMMARY:Meals on Wheels
DESCRIPTION:Meals On Wheels (MOW) serves hot\, nutritious meals to the homebound elderly and/or disabled Monday through Friday.
URL:https://westoverepiscopalchurch.org/event/meals-on-wheels/2025-11-04/
LOCATION:VA
END:VEVENT
BEGIN:VEVENT
DTSTART;TZID=America/New_York:20251104T090000
DTEND;TZID=America/New_York:20251104T110000
DTSTAMP:20260424T034952
CREATED:20250103T170003Z
LAST-MODIFIED:20250103T170126Z
UID:10002105-1762246800-1762254000@westoverepiscopalchurch.org
SUMMARY:Meals on Wheels
DESCRIPTION:
URL:https://westoverepiscopalchurch.org/event/meals-on-wheels-2/2025-11-04/
LOCATION:VA
END:VEVENT
BEGIN:VEVENT
DTSTART;TZID=America/New_York:20251105T090000
DTEND;TZID=America/New_York:20251105T110000
DTSTAMP:20260424T034952
CREATED:20230113T145846Z
LAST-MODIFIED:20230113T145846Z
UID:10003053-1762333200-1762340400@westoverepiscopalchurch.org
SUMMARY:Meals on Wheels
DESCRIPTION:Meals On Wheels (MOW) serves hot\, nutritious meals to the homebound elderly and/or disabled Monday through Friday.
URL:https://westoverepiscopalchurch.org/event/meals-on-wheels/2025-11-05/
LOCATION:VA
END:VEVENT
BEGIN:VEVENT
DTSTART;TZID=America/New_York:20251105T090000
DTEND;TZID=America/New_York:20251105T110000
DTSTAMP:20260424T034952
CREATED:20250103T170003Z
LAST-MODIFIED:20250103T170126Z
UID:10002106-1762333200-1762340400@westoverepiscopalchurch.org
SUMMARY:Meals on Wheels
DESCRIPTION:
URL:https://westoverepiscopalchurch.org/event/meals-on-wheels-2/2025-11-05/
LOCATION:VA
END:VEVENT
BEGIN:VEVENT
DTSTART;TZID=America/New_York:20251106T090000
DTEND;TZID=America/New_York:20251106T110000
DTSTAMP:20260424T034952
CREATED:20230113T145846Z
LAST-MODIFIED:20230113T145846Z
UID:10003054-1762419600-1762426800@westoverepiscopalchurch.org
SUMMARY:Meals on Wheels
DESCRIPTION:Meals On Wheels (MOW) serves hot\, nutritious meals to the homebound elderly and/or disabled Monday through Friday.
URL:https://westoverepiscopalchurch.org/event/meals-on-wheels/2025-11-06/
LOCATION:VA
END:VEVENT
END:VCALENDAR