BEGIN:VCALENDAR
VERSION:2.0
PRODID:-//Westover Episcopal Church - Charles City, VA - ECPv6.15.20//NONSGML v1.0//EN
CALSCALE:GREGORIAN
METHOD:PUBLISH
X-ORIGINAL-URL:https://westoverepiscopalchurch.org
X-WR-CALDESC:Events for Westover Episcopal Church - Charles City, VA
REFRESH-INTERVAL;VALUE=DURATION:PT1H
X-Robots-Tag:noindex
X-PUBLISHED-TTL:PT1H
BEGIN:VTIMEZONE
TZID:America/New_York
BEGIN:DAYLIGHT
TZOFFSETFROM:-0500
TZOFFSETTO:-0400
TZNAME:EDT
DTSTART:20270314T070000
END:DAYLIGHT
BEGIN:STANDARD
TZOFFSETFROM:-0400
TZOFFSETTO:-0500
TZNAME:EST
DTSTART:20271107T060000
END:STANDARD
BEGIN:DAYLIGHT
TZOFFSETFROM:-0500
TZOFFSETTO:-0400
TZNAME:EDT
DTSTART:20280312T070000
END:DAYLIGHT
BEGIN:STANDARD
TZOFFSETFROM:-0400
TZOFFSETTO:-0500
TZNAME:EST
DTSTART:20281105T060000
END:STANDARD
BEGIN:DAYLIGHT
TZOFFSETFROM:-0500
TZOFFSETTO:-0400
TZNAME:EDT
DTSTART:20290311T070000
END:DAYLIGHT
BEGIN:STANDARD
TZOFFSETFROM:-0400
TZOFFSETTO:-0500
TZNAME:EST
DTSTART:20291104T060000
END:STANDARD
END:VTIMEZONE
BEGIN:VEVENT
DTSTART;TZID=America/New_York:20280706T090000
DTEND;TZID=America/New_York:20280706T110000
DTSTAMP:20260425T085050
CREATED:20230113T145846Z
LAST-MODIFIED:20230113T145846Z
UID:10003749-1846486800-1846494000@westoverepiscopalchurch.org
SUMMARY:Meals on Wheels
DESCRIPTION:Meals On Wheels (MOW) serves hot\, nutritious meals to the homebound elderly and/or disabled Monday through Friday.
URL:https://westoverepiscopalchurch.org/event/meals-on-wheels/2028-07-06/
LOCATION:VA
END:VEVENT
BEGIN:VEVENT
DTSTART;TZID=America/New_York:20280707T090000
DTEND;TZID=America/New_York:20280707T110000
DTSTAMP:20260425T085050
CREATED:20230113T145846Z
LAST-MODIFIED:20230113T145846Z
UID:10003750-1846573200-1846580400@westoverepiscopalchurch.org
SUMMARY:Meals on Wheels
DESCRIPTION:Meals On Wheels (MOW) serves hot\, nutritious meals to the homebound elderly and/or disabled Monday through Friday.
URL:https://westoverepiscopalchurch.org/event/meals-on-wheels/2028-07-07/
LOCATION:VA
END:VEVENT
BEGIN:VEVENT
DTSTART;TZID=America/New_York:20280710T090000
DTEND;TZID=America/New_York:20280710T110000
DTSTAMP:20260425T085050
CREATED:20230113T145846Z
LAST-MODIFIED:20230113T145846Z
UID:10003751-1846832400-1846839600@westoverepiscopalchurch.org
SUMMARY:Meals on Wheels
DESCRIPTION:Meals On Wheels (MOW) serves hot\, nutritious meals to the homebound elderly and/or disabled Monday through Friday.
URL:https://westoverepiscopalchurch.org/event/meals-on-wheels/2028-07-10/
LOCATION:VA
END:VEVENT
BEGIN:VEVENT
DTSTART;TZID=America/New_York:20280711T090000
DTEND;TZID=America/New_York:20280711T110000
DTSTAMP:20260425T085050
CREATED:20230113T145846Z
LAST-MODIFIED:20230113T145846Z
UID:10003752-1846918800-1846926000@westoverepiscopalchurch.org
SUMMARY:Meals on Wheels
DESCRIPTION:Meals On Wheels (MOW) serves hot\, nutritious meals to the homebound elderly and/or disabled Monday through Friday.
URL:https://westoverepiscopalchurch.org/event/meals-on-wheels/2028-07-11/
LOCATION:VA
END:VEVENT
BEGIN:VEVENT
DTSTART;TZID=America/New_York:20280712T090000
DTEND;TZID=America/New_York:20280712T110000
DTSTAMP:20260425T085050
CREATED:20230113T145846Z
LAST-MODIFIED:20230113T145846Z
UID:10003753-1847005200-1847012400@westoverepiscopalchurch.org
SUMMARY:Meals on Wheels
DESCRIPTION:Meals On Wheels (MOW) serves hot\, nutritious meals to the homebound elderly and/or disabled Monday through Friday.
URL:https://westoverepiscopalchurch.org/event/meals-on-wheels/2028-07-12/
LOCATION:VA
END:VEVENT
BEGIN:VEVENT
DTSTART;TZID=America/New_York:20280713T090000
DTEND;TZID=America/New_York:20280713T110000
DTSTAMP:20260425T085050
CREATED:20230113T145846Z
LAST-MODIFIED:20230113T145846Z
UID:10003754-1847091600-1847098800@westoverepiscopalchurch.org
SUMMARY:Meals on Wheels
DESCRIPTION:Meals On Wheels (MOW) serves hot\, nutritious meals to the homebound elderly and/or disabled Monday through Friday.
URL:https://westoverepiscopalchurch.org/event/meals-on-wheels/2028-07-13/
LOCATION:VA
END:VEVENT
BEGIN:VEVENT
DTSTART;TZID=America/New_York:20280714T090000
DTEND;TZID=America/New_York:20280714T110000
DTSTAMP:20260425T085050
CREATED:20230113T145846Z
LAST-MODIFIED:20230113T145846Z
UID:10003755-1847178000-1847185200@westoverepiscopalchurch.org
SUMMARY:Meals on Wheels
DESCRIPTION:Meals On Wheels (MOW) serves hot\, nutritious meals to the homebound elderly and/or disabled Monday through Friday.
URL:https://westoverepiscopalchurch.org/event/meals-on-wheels/2028-07-14/
LOCATION:VA
END:VEVENT
BEGIN:VEVENT
DTSTART;TZID=America/New_York:20280717T090000
DTEND;TZID=America/New_York:20280717T110000
DTSTAMP:20260425T085050
CREATED:20230113T145846Z
LAST-MODIFIED:20230113T145846Z
UID:10003756-1847437200-1847444400@westoverepiscopalchurch.org
SUMMARY:Meals on Wheels
DESCRIPTION:Meals On Wheels (MOW) serves hot\, nutritious meals to the homebound elderly and/or disabled Monday through Friday.
URL:https://westoverepiscopalchurch.org/event/meals-on-wheels/2028-07-17/
LOCATION:VA
END:VEVENT
BEGIN:VEVENT
DTSTART;TZID=America/New_York:20280718T090000
DTEND;TZID=America/New_York:20280718T110000
DTSTAMP:20260425T085050
CREATED:20230113T145846Z
LAST-MODIFIED:20230113T145846Z
UID:10003757-1847523600-1847530800@westoverepiscopalchurch.org
SUMMARY:Meals on Wheels
DESCRIPTION:Meals On Wheels (MOW) serves hot\, nutritious meals to the homebound elderly and/or disabled Monday through Friday.
URL:https://westoverepiscopalchurch.org/event/meals-on-wheels/2028-07-18/
LOCATION:VA
END:VEVENT
BEGIN:VEVENT
DTSTART;TZID=America/New_York:20280719T090000
DTEND;TZID=America/New_York:20280719T110000
DTSTAMP:20260425T085050
CREATED:20230113T145846Z
LAST-MODIFIED:20230113T145846Z
UID:10003758-1847610000-1847617200@westoverepiscopalchurch.org
SUMMARY:Meals on Wheels
DESCRIPTION:Meals On Wheels (MOW) serves hot\, nutritious meals to the homebound elderly and/or disabled Monday through Friday.
URL:https://westoverepiscopalchurch.org/event/meals-on-wheels/2028-07-19/
LOCATION:VA
END:VEVENT
BEGIN:VEVENT
DTSTART;TZID=America/New_York:20280720T090000
DTEND;TZID=America/New_York:20280720T110000
DTSTAMP:20260425T085050
CREATED:20230113T145846Z
LAST-MODIFIED:20230113T145846Z
UID:10003759-1847696400-1847703600@westoverepiscopalchurch.org
SUMMARY:Meals on Wheels
DESCRIPTION:Meals On Wheels (MOW) serves hot\, nutritious meals to the homebound elderly and/or disabled Monday through Friday.
URL:https://westoverepiscopalchurch.org/event/meals-on-wheels/2028-07-20/
LOCATION:VA
END:VEVENT
BEGIN:VEVENT
DTSTART;TZID=America/New_York:20280721T090000
DTEND;TZID=America/New_York:20280721T110000
DTSTAMP:20260425T085050
CREATED:20230113T145846Z
LAST-MODIFIED:20230113T145846Z
UID:10003760-1847782800-1847790000@westoverepiscopalchurch.org
SUMMARY:Meals on Wheels
DESCRIPTION:Meals On Wheels (MOW) serves hot\, nutritious meals to the homebound elderly and/or disabled Monday through Friday.
URL:https://westoverepiscopalchurch.org/event/meals-on-wheels/2028-07-21/
LOCATION:VA
END:VEVENT
BEGIN:VEVENT
DTSTART;TZID=America/New_York:20280724T090000
DTEND;TZID=America/New_York:20280724T110000
DTSTAMP:20260425T085050
CREATED:20230113T145846Z
LAST-MODIFIED:20230113T145846Z
UID:10003761-1848042000-1848049200@westoverepiscopalchurch.org
SUMMARY:Meals on Wheels
DESCRIPTION:Meals On Wheels (MOW) serves hot\, nutritious meals to the homebound elderly and/or disabled Monday through Friday.
URL:https://westoverepiscopalchurch.org/event/meals-on-wheels/2028-07-24/
LOCATION:VA
END:VEVENT
BEGIN:VEVENT
DTSTART;TZID=America/New_York:20280725T090000
DTEND;TZID=America/New_York:20280725T110000
DTSTAMP:20260425T085050
CREATED:20230113T145846Z
LAST-MODIFIED:20230113T145846Z
UID:10003762-1848128400-1848135600@westoverepiscopalchurch.org
SUMMARY:Meals on Wheels
DESCRIPTION:Meals On Wheels (MOW) serves hot\, nutritious meals to the homebound elderly and/or disabled Monday through Friday.
URL:https://westoverepiscopalchurch.org/event/meals-on-wheels/2028-07-25/
LOCATION:VA
END:VEVENT
BEGIN:VEVENT
DTSTART;TZID=America/New_York:20280726T090000
DTEND;TZID=America/New_York:20280726T110000
DTSTAMP:20260425T085050
CREATED:20230113T145846Z
LAST-MODIFIED:20230113T145846Z
UID:10003763-1848214800-1848222000@westoverepiscopalchurch.org
SUMMARY:Meals on Wheels
DESCRIPTION:Meals On Wheels (MOW) serves hot\, nutritious meals to the homebound elderly and/or disabled Monday through Friday.
URL:https://westoverepiscopalchurch.org/event/meals-on-wheels/2028-07-26/
LOCATION:VA
END:VEVENT
BEGIN:VEVENT
DTSTART;TZID=America/New_York:20280727T090000
DTEND;TZID=America/New_York:20280727T110000
DTSTAMP:20260425T085050
CREATED:20230113T145846Z
LAST-MODIFIED:20230113T145846Z
UID:10003764-1848301200-1848308400@westoverepiscopalchurch.org
SUMMARY:Meals on Wheels
DESCRIPTION:Meals On Wheels (MOW) serves hot\, nutritious meals to the homebound elderly and/or disabled Monday through Friday.
URL:https://westoverepiscopalchurch.org/event/meals-on-wheels/2028-07-27/
LOCATION:VA
END:VEVENT
BEGIN:VEVENT
DTSTART;TZID=America/New_York:20280728T090000
DTEND;TZID=America/New_York:20280728T110000
DTSTAMP:20260425T085050
CREATED:20230113T145846Z
LAST-MODIFIED:20230113T145846Z
UID:10003765-1848387600-1848394800@westoverepiscopalchurch.org
SUMMARY:Meals on Wheels
DESCRIPTION:Meals On Wheels (MOW) serves hot\, nutritious meals to the homebound elderly and/or disabled Monday through Friday.
URL:https://westoverepiscopalchurch.org/event/meals-on-wheels/2028-07-28/
LOCATION:VA
END:VEVENT
BEGIN:VEVENT
DTSTART;TZID=America/New_York:20280731T090000
DTEND;TZID=America/New_York:20280731T110000
DTSTAMP:20260425T085050
CREATED:20230113T145846Z
LAST-MODIFIED:20230113T145846Z
UID:10003766-1848646800-1848654000@westoverepiscopalchurch.org
SUMMARY:Meals on Wheels
DESCRIPTION:Meals On Wheels (MOW) serves hot\, nutritious meals to the homebound elderly and/or disabled Monday through Friday.
URL:https://westoverepiscopalchurch.org/event/meals-on-wheels/2028-07-31/
LOCATION:VA
END:VEVENT
BEGIN:VEVENT
DTSTART;TZID=America/New_York:20280801T090000
DTEND;TZID=America/New_York:20280801T110000
DTSTAMP:20260425T085050
CREATED:20230113T145846Z
LAST-MODIFIED:20230113T145846Z
UID:10003767-1848733200-1848740400@westoverepiscopalchurch.org
SUMMARY:Meals on Wheels
DESCRIPTION:Meals On Wheels (MOW) serves hot\, nutritious meals to the homebound elderly and/or disabled Monday through Friday.
URL:https://westoverepiscopalchurch.org/event/meals-on-wheels/2028-08-01/
LOCATION:VA
END:VEVENT
BEGIN:VEVENT
DTSTART;TZID=America/New_York:20280802T090000
DTEND;TZID=America/New_York:20280802T110000
DTSTAMP:20260425T085050
CREATED:20230113T145846Z
LAST-MODIFIED:20230113T145846Z
UID:10003768-1848819600-1848826800@westoverepiscopalchurch.org
SUMMARY:Meals on Wheels
DESCRIPTION:Meals On Wheels (MOW) serves hot\, nutritious meals to the homebound elderly and/or disabled Monday through Friday.
URL:https://westoverepiscopalchurch.org/event/meals-on-wheels/2028-08-02/
LOCATION:VA
END:VEVENT
BEGIN:VEVENT
DTSTART;TZID=America/New_York:20280803T090000
DTEND;TZID=America/New_York:20280803T110000
DTSTAMP:20260425T085050
CREATED:20230113T145846Z
LAST-MODIFIED:20230113T145846Z
UID:10003769-1848906000-1848913200@westoverepiscopalchurch.org
SUMMARY:Meals on Wheels
DESCRIPTION:Meals On Wheels (MOW) serves hot\, nutritious meals to the homebound elderly and/or disabled Monday through Friday.
URL:https://westoverepiscopalchurch.org/event/meals-on-wheels/2028-08-03/
LOCATION:VA
END:VEVENT
BEGIN:VEVENT
DTSTART;TZID=America/New_York:20280804T090000
DTEND;TZID=America/New_York:20280804T110000
DTSTAMP:20260425T085050
CREATED:20230113T145846Z
LAST-MODIFIED:20230113T145846Z
UID:10003770-1848992400-1848999600@westoverepiscopalchurch.org
SUMMARY:Meals on Wheels
DESCRIPTION:Meals On Wheels (MOW) serves hot\, nutritious meals to the homebound elderly and/or disabled Monday through Friday.
URL:https://westoverepiscopalchurch.org/event/meals-on-wheels/2028-08-04/
LOCATION:VA
END:VEVENT
BEGIN:VEVENT
DTSTART;TZID=America/New_York:20280807T090000
DTEND;TZID=America/New_York:20280807T110000
DTSTAMP:20260425T085050
CREATED:20230113T145846Z
LAST-MODIFIED:20230113T145846Z
UID:10003771-1849251600-1849258800@westoverepiscopalchurch.org
SUMMARY:Meals on Wheels
DESCRIPTION:Meals On Wheels (MOW) serves hot\, nutritious meals to the homebound elderly and/or disabled Monday through Friday.
URL:https://westoverepiscopalchurch.org/event/meals-on-wheels/2028-08-07/
LOCATION:VA
END:VEVENT
BEGIN:VEVENT
DTSTART;TZID=America/New_York:20280808T090000
DTEND;TZID=America/New_York:20280808T110000
DTSTAMP:20260425T085050
CREATED:20230113T145846Z
LAST-MODIFIED:20230113T145846Z
UID:10003772-1849338000-1849345200@westoverepiscopalchurch.org
SUMMARY:Meals on Wheels
DESCRIPTION:Meals On Wheels (MOW) serves hot\, nutritious meals to the homebound elderly and/or disabled Monday through Friday.
URL:https://westoverepiscopalchurch.org/event/meals-on-wheels/2028-08-08/
LOCATION:VA
END:VEVENT
BEGIN:VEVENT
DTSTART;TZID=America/New_York:20280809T090000
DTEND;TZID=America/New_York:20280809T110000
DTSTAMP:20260425T085050
CREATED:20230113T145846Z
LAST-MODIFIED:20230113T145846Z
UID:10003773-1849424400-1849431600@westoverepiscopalchurch.org
SUMMARY:Meals on Wheels
DESCRIPTION:Meals On Wheels (MOW) serves hot\, nutritious meals to the homebound elderly and/or disabled Monday through Friday.
URL:https://westoverepiscopalchurch.org/event/meals-on-wheels/2028-08-09/
LOCATION:VA
END:VEVENT
BEGIN:VEVENT
DTSTART;TZID=America/New_York:20280810T090000
DTEND;TZID=America/New_York:20280810T110000
DTSTAMP:20260425T085050
CREATED:20230113T145846Z
LAST-MODIFIED:20230113T145846Z
UID:10003774-1849510800-1849518000@westoverepiscopalchurch.org
SUMMARY:Meals on Wheels
DESCRIPTION:Meals On Wheels (MOW) serves hot\, nutritious meals to the homebound elderly and/or disabled Monday through Friday.
URL:https://westoverepiscopalchurch.org/event/meals-on-wheels/2028-08-10/
LOCATION:VA
END:VEVENT
BEGIN:VEVENT
DTSTART;TZID=America/New_York:20280811T090000
DTEND;TZID=America/New_York:20280811T110000
DTSTAMP:20260425T085050
CREATED:20230113T145846Z
LAST-MODIFIED:20230113T145846Z
UID:10003775-1849597200-1849604400@westoverepiscopalchurch.org
SUMMARY:Meals on Wheels
DESCRIPTION:Meals On Wheels (MOW) serves hot\, nutritious meals to the homebound elderly and/or disabled Monday through Friday.
URL:https://westoverepiscopalchurch.org/event/meals-on-wheels/2028-08-11/
LOCATION:VA
END:VEVENT
BEGIN:VEVENT
DTSTART;TZID=America/New_York:20280814T090000
DTEND;TZID=America/New_York:20280814T110000
DTSTAMP:20260425T085050
CREATED:20230113T145846Z
LAST-MODIFIED:20230113T145846Z
UID:10003776-1849856400-1849863600@westoverepiscopalchurch.org
SUMMARY:Meals on Wheels
DESCRIPTION:Meals On Wheels (MOW) serves hot\, nutritious meals to the homebound elderly and/or disabled Monday through Friday.
URL:https://westoverepiscopalchurch.org/event/meals-on-wheels/2028-08-14/
LOCATION:VA
END:VEVENT
BEGIN:VEVENT
DTSTART;TZID=America/New_York:20280815T090000
DTEND;TZID=America/New_York:20280815T110000
DTSTAMP:20260425T085050
CREATED:20230113T145846Z
LAST-MODIFIED:20230113T145846Z
UID:10003777-1849942800-1849950000@westoverepiscopalchurch.org
SUMMARY:Meals on Wheels
DESCRIPTION:Meals On Wheels (MOW) serves hot\, nutritious meals to the homebound elderly and/or disabled Monday through Friday.
URL:https://westoverepiscopalchurch.org/event/meals-on-wheels/2028-08-15/
LOCATION:VA
END:VEVENT
BEGIN:VEVENT
DTSTART;TZID=America/New_York:20280816T090000
DTEND;TZID=America/New_York:20280816T110000
DTSTAMP:20260425T085050
CREATED:20230113T145846Z
LAST-MODIFIED:20230113T145846Z
UID:10003778-1850029200-1850036400@westoverepiscopalchurch.org
SUMMARY:Meals on Wheels
DESCRIPTION:Meals On Wheels (MOW) serves hot\, nutritious meals to the homebound elderly and/or disabled Monday through Friday.
URL:https://westoverepiscopalchurch.org/event/meals-on-wheels/2028-08-16/
LOCATION:VA
END:VEVENT
END:VCALENDAR