BEGIN:VCALENDAR
VERSION:2.0
PRODID:-//Westover Episcopal Church - Charles City, VA - ECPv6.15.20//NONSGML v1.0//EN
CALSCALE:GREGORIAN
METHOD:PUBLISH
X-WR-CALNAME:Westover Episcopal Church - Charles City, VA
X-ORIGINAL-URL:https://westoverepiscopalchurch.org
X-WR-CALDESC:Events for Westover Episcopal Church - Charles City, VA
REFRESH-INTERVAL;VALUE=DURATION:PT1H
X-Robots-Tag:noindex
X-PUBLISHED-TTL:PT1H
BEGIN:VTIMEZONE
TZID:America/New_York
BEGIN:DAYLIGHT
TZOFFSETFROM:-0500
TZOFFSETTO:-0400
TZNAME:EDT
DTSTART:20220313T070000
END:DAYLIGHT
BEGIN:STANDARD
TZOFFSETFROM:-0400
TZOFFSETTO:-0500
TZNAME:EST
DTSTART:20221106T060000
END:STANDARD
BEGIN:DAYLIGHT
TZOFFSETFROM:-0500
TZOFFSETTO:-0400
TZNAME:EDT
DTSTART:20230312T070000
END:DAYLIGHT
BEGIN:STANDARD
TZOFFSETFROM:-0400
TZOFFSETTO:-0500
TZNAME:EST
DTSTART:20231105T060000
END:STANDARD
BEGIN:DAYLIGHT
TZOFFSETFROM:-0500
TZOFFSETTO:-0400
TZNAME:EDT
DTSTART:20240310T070000
END:DAYLIGHT
BEGIN:STANDARD
TZOFFSETFROM:-0400
TZOFFSETTO:-0500
TZNAME:EST
DTSTART:20241103T060000
END:STANDARD
END:VTIMEZONE
BEGIN:VEVENT
DTSTART;TZID=America/New_York:20230808T090000
DTEND;TZID=America/New_York:20230808T110000
DTSTAMP:20260425T231601
CREATED:20230113T145846Z
LAST-MODIFIED:20230113T145846Z
UID:10000875-1691485200-1691492400@westoverepiscopalchurch.org
SUMMARY:Meals on Wheels
DESCRIPTION:Meals On Wheels (MOW) serves hot\, nutritious meals to the homebound elderly and/or disabled Monday through Friday.
URL:https://westoverepiscopalchurch.org/event/meals-on-wheels/2023-08-08/
END:VEVENT
BEGIN:VEVENT
DTSTART;TZID=America/New_York:20230809T090000
DTEND;TZID=America/New_York:20230809T110000
DTSTAMP:20260425T231601
CREATED:20230113T145846Z
LAST-MODIFIED:20230113T145846Z
UID:10000876-1691571600-1691578800@westoverepiscopalchurch.org
SUMMARY:Meals on Wheels
DESCRIPTION:Meals On Wheels (MOW) serves hot\, nutritious meals to the homebound elderly and/or disabled Monday through Friday.
URL:https://westoverepiscopalchurch.org/event/meals-on-wheels/2023-08-09/
END:VEVENT
BEGIN:VEVENT
DTSTART;TZID=America/New_York:20230810T090000
DTEND;TZID=America/New_York:20230810T110000
DTSTAMP:20260425T231601
CREATED:20230113T145846Z
LAST-MODIFIED:20230113T145846Z
UID:10000877-1691658000-1691665200@westoverepiscopalchurch.org
SUMMARY:Meals on Wheels
DESCRIPTION:Meals On Wheels (MOW) serves hot\, nutritious meals to the homebound elderly and/or disabled Monday through Friday.
URL:https://westoverepiscopalchurch.org/event/meals-on-wheels/2023-08-10/
END:VEVENT
BEGIN:VEVENT
DTSTART;TZID=America/New_York:20230810T100000
DTEND;TZID=America/New_York:20230810T110000
DTSTAMP:20260425T231601
CREATED:20230712T204456Z
LAST-MODIFIED:20230712T204456Z
UID:10001091-1691661600-1691665200@westoverepiscopalchurch.org
SUMMARY:Gentle Yoga with Rev. Becky
DESCRIPTION:
URL:https://westoverepiscopalchurch.org/event/gentle-yoga-with-rev-becky-3/2023-08-10/
END:VEVENT
BEGIN:VEVENT
DTSTART;TZID=America/New_York:20230811T090000
DTEND;TZID=America/New_York:20230811T110000
DTSTAMP:20260425T231601
CREATED:20230113T145846Z
LAST-MODIFIED:20230113T145846Z
UID:10000878-1691744400-1691751600@westoverepiscopalchurch.org
SUMMARY:Meals on Wheels
DESCRIPTION:Meals On Wheels (MOW) serves hot\, nutritious meals to the homebound elderly and/or disabled Monday through Friday.
URL:https://westoverepiscopalchurch.org/event/meals-on-wheels/2023-08-11/
END:VEVENT
BEGIN:VEVENT
DTSTART;TZID=America/New_York:20230813T100000
DTEND;TZID=America/New_York:20230813T110000
DTSTAMP:20260425T231601
CREATED:20230803T182206Z
LAST-MODIFIED:20230803T182206Z
UID:10001151-1691920800-1691924400@westoverepiscopalchurch.org
SUMMARY:Eleventh Sunday after Pentecost
DESCRIPTION:
URL:https://westoverepiscopalchurch.org/event/eleventh-sunday-after-pentecost-2/
LOCATION:Westover Episcopal Church\, 6401 John Tyler Hwy.\, Charles City\, VA\, 23030\, United States
END:VEVENT
BEGIN:VEVENT
DTSTART;TZID=America/New_York:20230814T090000
DTEND;TZID=America/New_York:20230814T110000
DTSTAMP:20260425T231601
CREATED:20230113T145846Z
LAST-MODIFIED:20230113T145846Z
UID:10000879-1692003600-1692010800@westoverepiscopalchurch.org
SUMMARY:Meals on Wheels
DESCRIPTION:Meals On Wheels (MOW) serves hot\, nutritious meals to the homebound elderly and/or disabled Monday through Friday.
URL:https://westoverepiscopalchurch.org/event/meals-on-wheels/2023-08-14/
END:VEVENT
BEGIN:VEVENT
DTSTART;TZID=America/New_York:20230815T090000
DTEND;TZID=America/New_York:20230815T110000
DTSTAMP:20260425T231601
CREATED:20230113T145846Z
LAST-MODIFIED:20230113T145846Z
UID:10000880-1692090000-1692097200@westoverepiscopalchurch.org
SUMMARY:Meals on Wheels
DESCRIPTION:Meals On Wheels (MOW) serves hot\, nutritious meals to the homebound elderly and/or disabled Monday through Friday.
URL:https://westoverepiscopalchurch.org/event/meals-on-wheels/2023-08-15/
END:VEVENT
BEGIN:VEVENT
DTSTART;TZID=America/New_York:20230816T090000
DTEND;TZID=America/New_York:20230816T110000
DTSTAMP:20260425T231601
CREATED:20230113T145846Z
LAST-MODIFIED:20230113T145846Z
UID:10000881-1692176400-1692183600@westoverepiscopalchurch.org
SUMMARY:Meals on Wheels
DESCRIPTION:Meals On Wheels (MOW) serves hot\, nutritious meals to the homebound elderly and/or disabled Monday through Friday.
URL:https://westoverepiscopalchurch.org/event/meals-on-wheels/2023-08-16/
END:VEVENT
BEGIN:VEVENT
DTSTART;TZID=America/New_York:20230817T090000
DTEND;TZID=America/New_York:20230817T110000
DTSTAMP:20260425T231601
CREATED:20230113T145846Z
LAST-MODIFIED:20230113T145846Z
UID:10000882-1692262800-1692270000@westoverepiscopalchurch.org
SUMMARY:Meals on Wheels
DESCRIPTION:Meals On Wheels (MOW) serves hot\, nutritious meals to the homebound elderly and/or disabled Monday through Friday.
URL:https://westoverepiscopalchurch.org/event/meals-on-wheels/2023-08-17/
END:VEVENT
BEGIN:VEVENT
DTSTART;TZID=America/New_York:20230817T100000
DTEND;TZID=America/New_York:20230817T110000
DTSTAMP:20260425T231601
CREATED:20230712T204456Z
LAST-MODIFIED:20230712T204456Z
UID:10001092-1692266400-1692270000@westoverepiscopalchurch.org
SUMMARY:Gentle Yoga with Rev. Becky
DESCRIPTION:
URL:https://westoverepiscopalchurch.org/event/gentle-yoga-with-rev-becky-3/2023-08-17/
END:VEVENT
BEGIN:VEVENT
DTSTART;TZID=America/New_York:20230818T090000
DTEND;TZID=America/New_York:20230818T110000
DTSTAMP:20260425T231601
CREATED:20230113T145846Z
LAST-MODIFIED:20230113T145846Z
UID:10000883-1692349200-1692356400@westoverepiscopalchurch.org
SUMMARY:Meals on Wheels
DESCRIPTION:Meals On Wheels (MOW) serves hot\, nutritious meals to the homebound elderly and/or disabled Monday through Friday.
URL:https://westoverepiscopalchurch.org/event/meals-on-wheels/2023-08-18/
END:VEVENT
BEGIN:VEVENT
DTSTART;TZID=America/New_York:20230820T100000
DTEND;TZID=America/New_York:20230820T100000
DTSTAMP:20260425T231601
CREATED:20230803T182245Z
LAST-MODIFIED:20230803T182245Z
UID:10001152-1692525600-1692525600@westoverepiscopalchurch.org
SUMMARY:Twelfth Sunday after Pentecost
DESCRIPTION:
URL:https://westoverepiscopalchurch.org/event/twelfth-sunday-after-pentecost-2/
LOCATION:Westover Episcopal Church\, 6401 John Tyler Hwy.\, Charles City\, VA\, 23030\, United States
END:VEVENT
BEGIN:VEVENT
DTSTART;TZID=America/New_York:20230821T090000
DTEND;TZID=America/New_York:20230821T110000
DTSTAMP:20260425T231601
CREATED:20230113T145846Z
LAST-MODIFIED:20230113T145846Z
UID:10000884-1692608400-1692615600@westoverepiscopalchurch.org
SUMMARY:Meals on Wheels
DESCRIPTION:Meals On Wheels (MOW) serves hot\, nutritious meals to the homebound elderly and/or disabled Monday through Friday.
URL:https://westoverepiscopalchurch.org/event/meals-on-wheels/2023-08-21/
END:VEVENT
BEGIN:VEVENT
DTSTART;TZID=America/New_York:20230822T090000
DTEND;TZID=America/New_York:20230822T110000
DTSTAMP:20260425T231601
CREATED:20230113T145846Z
LAST-MODIFIED:20230113T145846Z
UID:10000885-1692694800-1692702000@westoverepiscopalchurch.org
SUMMARY:Meals on Wheels
DESCRIPTION:Meals On Wheels (MOW) serves hot\, nutritious meals to the homebound elderly and/or disabled Monday through Friday.
URL:https://westoverepiscopalchurch.org/event/meals-on-wheels/2023-08-22/
END:VEVENT
BEGIN:VEVENT
DTSTART;TZID=America/New_York:20230823T090000
DTEND;TZID=America/New_York:20230823T110000
DTSTAMP:20260425T231601
CREATED:20230113T145846Z
LAST-MODIFIED:20230113T145846Z
UID:10000886-1692781200-1692788400@westoverepiscopalchurch.org
SUMMARY:Meals on Wheels
DESCRIPTION:Meals On Wheels (MOW) serves hot\, nutritious meals to the homebound elderly and/or disabled Monday through Friday.
URL:https://westoverepiscopalchurch.org/event/meals-on-wheels/2023-08-23/
END:VEVENT
BEGIN:VEVENT
DTSTART;TZID=America/New_York:20230824T090000
DTEND;TZID=America/New_York:20230824T110000
DTSTAMP:20260425T231601
CREATED:20230113T145846Z
LAST-MODIFIED:20230113T145846Z
UID:10000887-1692867600-1692874800@westoverepiscopalchurch.org
SUMMARY:Meals on Wheels
DESCRIPTION:Meals On Wheels (MOW) serves hot\, nutritious meals to the homebound elderly and/or disabled Monday through Friday.
URL:https://westoverepiscopalchurch.org/event/meals-on-wheels/2023-08-24/
END:VEVENT
BEGIN:VEVENT
DTSTART;TZID=America/New_York:20230824T100000
DTEND;TZID=America/New_York:20230824T110000
DTSTAMP:20260425T231601
CREATED:20230712T204456Z
LAST-MODIFIED:20230712T204456Z
UID:10001093-1692871200-1692874800@westoverepiscopalchurch.org
SUMMARY:Gentle Yoga with Rev. Becky
DESCRIPTION:
URL:https://westoverepiscopalchurch.org/event/gentle-yoga-with-rev-becky-3/2023-08-24/
END:VEVENT
BEGIN:VEVENT
DTSTART;TZID=America/New_York:20230825T090000
DTEND;TZID=America/New_York:20230825T110000
DTSTAMP:20260425T231601
CREATED:20230113T145846Z
LAST-MODIFIED:20230113T145846Z
UID:10000888-1692954000-1692961200@westoverepiscopalchurch.org
SUMMARY:Meals on Wheels
DESCRIPTION:Meals On Wheels (MOW) serves hot\, nutritious meals to the homebound elderly and/or disabled Monday through Friday.
URL:https://westoverepiscopalchurch.org/event/meals-on-wheels/2023-08-25/
END:VEVENT
BEGIN:VEVENT
DTSTART;TZID=America/New_York:20230827T100000
DTEND;TZID=America/New_York:20230827T110000
DTSTAMP:20260425T231601
CREATED:20230803T182334Z
LAST-MODIFIED:20230803T182334Z
UID:10001153-1693130400-1693134000@westoverepiscopalchurch.org
SUMMARY:Thirteenth Sunday after Pentecost
DESCRIPTION:
URL:https://westoverepiscopalchurch.org/event/thirteenth-sunday-after-pentecost-2/
LOCATION:Westover Episcopal Church\, 6401 John Tyler Hwy.\, Charles City\, VA\, 23030\, United States
END:VEVENT
BEGIN:VEVENT
DTSTART;TZID=America/New_York:20230828T090000
DTEND;TZID=America/New_York:20230828T110000
DTSTAMP:20260425T231601
CREATED:20230113T145846Z
LAST-MODIFIED:20230113T145846Z
UID:10000889-1693213200-1693220400@westoverepiscopalchurch.org
SUMMARY:Meals on Wheels
DESCRIPTION:Meals On Wheels (MOW) serves hot\, nutritious meals to the homebound elderly and/or disabled Monday through Friday.
URL:https://westoverepiscopalchurch.org/event/meals-on-wheels/2023-08-28/
END:VEVENT
BEGIN:VEVENT
DTSTART;TZID=America/New_York:20230829T090000
DTEND;TZID=America/New_York:20230829T110000
DTSTAMP:20260425T231601
CREATED:20230113T145846Z
LAST-MODIFIED:20230113T145846Z
UID:10000890-1693299600-1693306800@westoverepiscopalchurch.org
SUMMARY:Meals on Wheels
DESCRIPTION:Meals On Wheels (MOW) serves hot\, nutritious meals to the homebound elderly and/or disabled Monday through Friday.
URL:https://westoverepiscopalchurch.org/event/meals-on-wheels/2023-08-29/
END:VEVENT
BEGIN:VEVENT
DTSTART;TZID=America/New_York:20230830T090000
DTEND;TZID=America/New_York:20230830T110000
DTSTAMP:20260425T231601
CREATED:20230113T145846Z
LAST-MODIFIED:20230113T145846Z
UID:10000891-1693386000-1693393200@westoverepiscopalchurch.org
SUMMARY:Meals on Wheels
DESCRIPTION:Meals On Wheels (MOW) serves hot\, nutritious meals to the homebound elderly and/or disabled Monday through Friday.
URL:https://westoverepiscopalchurch.org/event/meals-on-wheels/2023-08-30/
END:VEVENT
BEGIN:VEVENT
DTSTART;TZID=America/New_York:20230831T090000
DTEND;TZID=America/New_York:20230831T110000
DTSTAMP:20260425T231601
CREATED:20230113T145846Z
LAST-MODIFIED:20230113T145846Z
UID:10000892-1693472400-1693479600@westoverepiscopalchurch.org
SUMMARY:Meals on Wheels
DESCRIPTION:Meals On Wheels (MOW) serves hot\, nutritious meals to the homebound elderly and/or disabled Monday through Friday.
URL:https://westoverepiscopalchurch.org/event/meals-on-wheels/2023-08-31/
END:VEVENT
BEGIN:VEVENT
DTSTART;TZID=America/New_York:20230831T100000
DTEND;TZID=America/New_York:20230831T110000
DTSTAMP:20260425T231601
CREATED:20230712T204456Z
LAST-MODIFIED:20230712T204456Z
UID:10001094-1693476000-1693479600@westoverepiscopalchurch.org
SUMMARY:Gentle Yoga with Rev. Becky
DESCRIPTION:
URL:https://westoverepiscopalchurch.org/event/gentle-yoga-with-rev-becky-3/2023-08-31/
END:VEVENT
BEGIN:VEVENT
DTSTART;TZID=America/New_York:20230901T090000
DTEND;TZID=America/New_York:20230901T110000
DTSTAMP:20260425T231601
CREATED:20230113T145846Z
LAST-MODIFIED:20230113T145846Z
UID:10000893-1693558800-1693566000@westoverepiscopalchurch.org
SUMMARY:Meals on Wheels
DESCRIPTION:Meals On Wheels (MOW) serves hot\, nutritious meals to the homebound elderly and/or disabled Monday through Friday.
URL:https://westoverepiscopalchurch.org/event/meals-on-wheels/2023-09-01/
END:VEVENT
BEGIN:VEVENT
DTSTART;TZID=America/New_York:20230903T100000
DTEND;TZID=America/New_York:20230903T110000
DTSTAMP:20260425T231601
CREATED:20230803T182404Z
LAST-MODIFIED:20230803T182404Z
UID:10001154-1693735200-1693738800@westoverepiscopalchurch.org
SUMMARY:Fourteenth Sunday after Pentecost
DESCRIPTION:
URL:https://westoverepiscopalchurch.org/event/fourteenth-sunday-after-pentecost-2/
END:VEVENT
BEGIN:VEVENT
DTSTART;TZID=America/New_York:20230904T090000
DTEND;TZID=America/New_York:20230904T110000
DTSTAMP:20260425T231601
CREATED:20230113T145846Z
LAST-MODIFIED:20230113T145846Z
UID:10000894-1693818000-1693825200@westoverepiscopalchurch.org
SUMMARY:Meals on Wheels
DESCRIPTION:Meals On Wheels (MOW) serves hot\, nutritious meals to the homebound elderly and/or disabled Monday through Friday.
URL:https://westoverepiscopalchurch.org/event/meals-on-wheels/2023-09-04/
END:VEVENT
BEGIN:VEVENT
DTSTART;TZID=America/New_York:20230905T090000
DTEND;TZID=America/New_York:20230905T110000
DTSTAMP:20260425T231601
CREATED:20230113T145846Z
LAST-MODIFIED:20230113T145846Z
UID:10000895-1693904400-1693911600@westoverepiscopalchurch.org
SUMMARY:Meals on Wheels
DESCRIPTION:Meals On Wheels (MOW) serves hot\, nutritious meals to the homebound elderly and/or disabled Monday through Friday.
URL:https://westoverepiscopalchurch.org/event/meals-on-wheels/2023-09-05/
END:VEVENT
BEGIN:VEVENT
DTSTART;TZID=America/New_York:20230906T090000
DTEND;TZID=America/New_York:20230906T110000
DTSTAMP:20260425T231601
CREATED:20230113T145846Z
LAST-MODIFIED:20230113T145846Z
UID:10000896-1693990800-1693998000@westoverepiscopalchurch.org
SUMMARY:Meals on Wheels
DESCRIPTION:Meals On Wheels (MOW) serves hot\, nutritious meals to the homebound elderly and/or disabled Monday through Friday.
URL:https://westoverepiscopalchurch.org/event/meals-on-wheels/2023-09-06/
END:VEVENT
END:VCALENDAR