BEGIN:VCALENDAR
VERSION:2.0
PRODID:-//Westover Episcopal Church - Charles City, VA - ECPv6.15.20//NONSGML v1.0//EN
CALSCALE:GREGORIAN
METHOD:PUBLISH
X-ORIGINAL-URL:https://westoverepiscopalchurch.org
X-WR-CALDESC:Events for Westover Episcopal Church - Charles City, VA
REFRESH-INTERVAL;VALUE=DURATION:PT1H
X-Robots-Tag:noindex
X-PUBLISHED-TTL:PT1H
BEGIN:VTIMEZONE
TZID:America/New_York
BEGIN:DAYLIGHT
TZOFFSETFROM:-0500
TZOFFSETTO:-0400
TZNAME:EDT
DTSTART:20230312T070000
END:DAYLIGHT
BEGIN:STANDARD
TZOFFSETFROM:-0400
TZOFFSETTO:-0500
TZNAME:EST
DTSTART:20231105T060000
END:STANDARD
BEGIN:DAYLIGHT
TZOFFSETFROM:-0500
TZOFFSETTO:-0400
TZNAME:EDT
DTSTART:20240310T070000
END:DAYLIGHT
BEGIN:STANDARD
TZOFFSETFROM:-0400
TZOFFSETTO:-0500
TZNAME:EST
DTSTART:20241103T060000
END:STANDARD
BEGIN:DAYLIGHT
TZOFFSETFROM:-0500
TZOFFSETTO:-0400
TZNAME:EDT
DTSTART:20250309T070000
END:DAYLIGHT
BEGIN:STANDARD
TZOFFSETFROM:-0400
TZOFFSETTO:-0500
TZNAME:EST
DTSTART:20251102T060000
END:STANDARD
END:VTIMEZONE
BEGIN:VEVENT
DTSTART;TZID=America/New_York:20240507T090000
DTEND;TZID=America/New_York:20240507T110000
DTSTAMP:20260425T095259
CREATED:20240105T180517Z
LAST-MODIFIED:20240105T180520Z
UID:10001276-1715072400-1715079600@westoverepiscopalchurch.org
SUMMARY:Meals on Wheels
DESCRIPTION:
URL:https://westoverepiscopalchurch.org/event/meals-on-wheels-3-2/2024-05-07/
END:VEVENT
BEGIN:VEVENT
DTSTART;TZID=America/New_York:20240508T090000
DTEND;TZID=America/New_York:20240508T110000
DTSTAMP:20260425T095259
CREATED:20230113T145846Z
LAST-MODIFIED:20230113T145846Z
UID:10002663-1715158800-1715166000@westoverepiscopalchurch.org
SUMMARY:Meals on Wheels
DESCRIPTION:Meals On Wheels (MOW) serves hot\, nutritious meals to the homebound elderly and/or disabled Monday through Friday.
URL:https://westoverepiscopalchurch.org/event/meals-on-wheels/2024-05-08/
END:VEVENT
BEGIN:VEVENT
DTSTART;TZID=America/New_York:20240508T090000
DTEND;TZID=America/New_York:20240508T110000
DTSTAMP:20260425T095259
CREATED:20240105T180517Z
LAST-MODIFIED:20240105T180520Z
UID:10001277-1715158800-1715166000@westoverepiscopalchurch.org
SUMMARY:Meals on Wheels
DESCRIPTION:
URL:https://westoverepiscopalchurch.org/event/meals-on-wheels-3-2/2024-05-08/
END:VEVENT
BEGIN:VEVENT
DTSTART;TZID=America/New_York:20240509T090000
DTEND;TZID=America/New_York:20240509T110000
DTSTAMP:20260425T095259
CREATED:20230113T145846Z
LAST-MODIFIED:20230113T145846Z
UID:10002664-1715245200-1715252400@westoverepiscopalchurch.org
SUMMARY:Meals on Wheels
DESCRIPTION:Meals On Wheels (MOW) serves hot\, nutritious meals to the homebound elderly and/or disabled Monday through Friday.
URL:https://westoverepiscopalchurch.org/event/meals-on-wheels/2024-05-09/
END:VEVENT
BEGIN:VEVENT
DTSTART;TZID=America/New_York:20240509T090000
DTEND;TZID=America/New_York:20240509T110000
DTSTAMP:20260425T095259
CREATED:20240105T180517Z
LAST-MODIFIED:20240105T180520Z
UID:10001278-1715245200-1715252400@westoverepiscopalchurch.org
SUMMARY:Meals on Wheels
DESCRIPTION:
URL:https://westoverepiscopalchurch.org/event/meals-on-wheels-3-2/2024-05-09/
END:VEVENT
BEGIN:VEVENT
DTSTART;TZID=America/New_York:20240509T100000
DTEND;TZID=America/New_York:20240509T110000
DTSTAMP:20260425T095259
CREATED:20230712T204456Z
LAST-MODIFIED:20230712T204456Z
UID:10001130-1715248800-1715252400@westoverepiscopalchurch.org
SUMMARY:Gentle Yoga with Rev. Becky
DESCRIPTION:
URL:https://westoverepiscopalchurch.org/event/gentle-yoga-with-rev-becky-3/2024-05-09/
END:VEVENT
BEGIN:VEVENT
DTSTART;TZID=America/New_York:20240510T090000
DTEND;TZID=America/New_York:20240510T110000
DTSTAMP:20260425T095259
CREATED:20230113T145846Z
LAST-MODIFIED:20230113T145846Z
UID:10002665-1715331600-1715338800@westoverepiscopalchurch.org
SUMMARY:Meals on Wheels
DESCRIPTION:Meals On Wheels (MOW) serves hot\, nutritious meals to the homebound elderly and/or disabled Monday through Friday.
URL:https://westoverepiscopalchurch.org/event/meals-on-wheels/2024-05-10/
END:VEVENT
BEGIN:VEVENT
DTSTART;TZID=America/New_York:20240510T090000
DTEND;TZID=America/New_York:20240510T110000
DTSTAMP:20260425T095259
CREATED:20240105T180517Z
LAST-MODIFIED:20240105T180520Z
UID:10001279-1715331600-1715338800@westoverepiscopalchurch.org
SUMMARY:Meals on Wheels
DESCRIPTION:
URL:https://westoverepiscopalchurch.org/event/meals-on-wheels-3-2/2024-05-10/
END:VEVENT
BEGIN:VEVENT
DTSTART;TZID=America/New_York:20240512T100000
DTEND;TZID=America/New_York:20240512T110000
DTSTAMP:20260425T095259
CREATED:20240606T152935Z
LAST-MODIFIED:20240606T152935Z
UID:10001468-1715508000-1715511600@westoverepiscopalchurch.org
SUMMARY:Seventh Sunday of Easter Service
DESCRIPTION:
URL:https://westoverepiscopalchurch.org/event/seventh-sunday-of-easter-service/
END:VEVENT
BEGIN:VEVENT
DTSTART;TZID=America/New_York:20240513T090000
DTEND;TZID=America/New_York:20240513T110000
DTSTAMP:20260425T095259
CREATED:20230113T145846Z
LAST-MODIFIED:20230113T145846Z
UID:10002666-1715590800-1715598000@westoverepiscopalchurch.org
SUMMARY:Meals on Wheels
DESCRIPTION:Meals On Wheels (MOW) serves hot\, nutritious meals to the homebound elderly and/or disabled Monday through Friday.
URL:https://westoverepiscopalchurch.org/event/meals-on-wheels/2024-05-13/
END:VEVENT
BEGIN:VEVENT
DTSTART;TZID=America/New_York:20240513T090000
DTEND;TZID=America/New_York:20240513T110000
DTSTAMP:20260425T095259
CREATED:20240105T180517Z
LAST-MODIFIED:20240105T180520Z
UID:10001280-1715590800-1715598000@westoverepiscopalchurch.org
SUMMARY:Meals on Wheels
DESCRIPTION:
URL:https://westoverepiscopalchurch.org/event/meals-on-wheels-3-2/2024-05-13/
END:VEVENT
BEGIN:VEVENT
DTSTART;TZID=America/New_York:20240514T090000
DTEND;TZID=America/New_York:20240514T110000
DTSTAMP:20260425T095259
CREATED:20230113T145846Z
LAST-MODIFIED:20230113T145846Z
UID:10002667-1715677200-1715684400@westoverepiscopalchurch.org
SUMMARY:Meals on Wheels
DESCRIPTION:Meals On Wheels (MOW) serves hot\, nutritious meals to the homebound elderly and/or disabled Monday through Friday.
URL:https://westoverepiscopalchurch.org/event/meals-on-wheels/2024-05-14/
END:VEVENT
BEGIN:VEVENT
DTSTART;TZID=America/New_York:20240514T090000
DTEND;TZID=America/New_York:20240514T110000
DTSTAMP:20260425T095259
CREATED:20240105T180517Z
LAST-MODIFIED:20240105T180520Z
UID:10001281-1715677200-1715684400@westoverepiscopalchurch.org
SUMMARY:Meals on Wheels
DESCRIPTION:
URL:https://westoverepiscopalchurch.org/event/meals-on-wheels-3-2/2024-05-14/
END:VEVENT
BEGIN:VEVENT
DTSTART;TZID=America/New_York:20240515T090000
DTEND;TZID=America/New_York:20240515T110000
DTSTAMP:20260425T095259
CREATED:20230113T145846Z
LAST-MODIFIED:20230113T145846Z
UID:10002668-1715763600-1715770800@westoverepiscopalchurch.org
SUMMARY:Meals on Wheels
DESCRIPTION:Meals On Wheels (MOW) serves hot\, nutritious meals to the homebound elderly and/or disabled Monday through Friday.
URL:https://westoverepiscopalchurch.org/event/meals-on-wheels/2024-05-15/
END:VEVENT
BEGIN:VEVENT
DTSTART;TZID=America/New_York:20240515T090000
DTEND;TZID=America/New_York:20240515T110000
DTSTAMP:20260425T095259
CREATED:20240105T180517Z
LAST-MODIFIED:20240105T180520Z
UID:10001282-1715763600-1715770800@westoverepiscopalchurch.org
SUMMARY:Meals on Wheels
DESCRIPTION:
URL:https://westoverepiscopalchurch.org/event/meals-on-wheels-3-2/2024-05-15/
END:VEVENT
BEGIN:VEVENT
DTSTART;TZID=America/New_York:20240516T090000
DTEND;TZID=America/New_York:20240516T110000
DTSTAMP:20260425T095259
CREATED:20230113T145846Z
LAST-MODIFIED:20230113T145846Z
UID:10002669-1715850000-1715857200@westoverepiscopalchurch.org
SUMMARY:Meals on Wheels
DESCRIPTION:Meals On Wheels (MOW) serves hot\, nutritious meals to the homebound elderly and/or disabled Monday through Friday.
URL:https://westoverepiscopalchurch.org/event/meals-on-wheels/2024-05-16/
END:VEVENT
BEGIN:VEVENT
DTSTART;TZID=America/New_York:20240516T090000
DTEND;TZID=America/New_York:20240516T110000
DTSTAMP:20260425T095259
CREATED:20240105T180517Z
LAST-MODIFIED:20240105T180520Z
UID:10001283-1715850000-1715857200@westoverepiscopalchurch.org
SUMMARY:Meals on Wheels
DESCRIPTION:
URL:https://westoverepiscopalchurch.org/event/meals-on-wheels-3-2/2024-05-16/
END:VEVENT
BEGIN:VEVENT
DTSTART;TZID=America/New_York:20240516T100000
DTEND;TZID=America/New_York:20240516T110000
DTSTAMP:20260425T095259
CREATED:20230712T204456Z
LAST-MODIFIED:20230712T204456Z
UID:10001131-1715853600-1715857200@westoverepiscopalchurch.org
SUMMARY:Gentle Yoga with Rev. Becky
DESCRIPTION:
URL:https://westoverepiscopalchurch.org/event/gentle-yoga-with-rev-becky-3/2024-05-16/
END:VEVENT
BEGIN:VEVENT
DTSTART;TZID=America/New_York:20240517T090000
DTEND;TZID=America/New_York:20240517T110000
DTSTAMP:20260425T095259
CREATED:20230113T145846Z
LAST-MODIFIED:20230113T145846Z
UID:10002670-1715936400-1715943600@westoverepiscopalchurch.org
SUMMARY:Meals on Wheels
DESCRIPTION:Meals On Wheels (MOW) serves hot\, nutritious meals to the homebound elderly and/or disabled Monday through Friday.
URL:https://westoverepiscopalchurch.org/event/meals-on-wheels/2024-05-17/
END:VEVENT
BEGIN:VEVENT
DTSTART;TZID=America/New_York:20240517T090000
DTEND;TZID=America/New_York:20240517T110000
DTSTAMP:20260425T095259
CREATED:20240105T180517Z
LAST-MODIFIED:20240105T180520Z
UID:10001284-1715936400-1715943600@westoverepiscopalchurch.org
SUMMARY:Meals on Wheels
DESCRIPTION:
URL:https://westoverepiscopalchurch.org/event/meals-on-wheels-3-2/2024-05-17/
END:VEVENT
BEGIN:VEVENT
DTSTART;TZID=America/New_York:20240519T100000
DTEND;TZID=America/New_York:20240519T103000
DTSTAMP:20260425T095259
CREATED:20240606T153100Z
LAST-MODIFIED:20240606T153100Z
UID:10001469-1716112800-1716114600@westoverepiscopalchurch.org
SUMMARY:Day of Pentecost Morning Prayer Service
DESCRIPTION:
URL:https://westoverepiscopalchurch.org/event/day-of-pentecost-morning-prayer-service/
END:VEVENT
BEGIN:VEVENT
DTSTART;TZID=America/New_York:20240520T090000
DTEND;TZID=America/New_York:20240520T110000
DTSTAMP:20260425T095259
CREATED:20230113T145846Z
LAST-MODIFIED:20230113T145846Z
UID:10002671-1716195600-1716202800@westoverepiscopalchurch.org
SUMMARY:Meals on Wheels
DESCRIPTION:Meals On Wheels (MOW) serves hot\, nutritious meals to the homebound elderly and/or disabled Monday through Friday.
URL:https://westoverepiscopalchurch.org/event/meals-on-wheels/2024-05-20/
END:VEVENT
BEGIN:VEVENT
DTSTART;TZID=America/New_York:20240520T090000
DTEND;TZID=America/New_York:20240520T110000
DTSTAMP:20260425T095259
CREATED:20240105T180517Z
LAST-MODIFIED:20240105T180520Z
UID:10001285-1716195600-1716202800@westoverepiscopalchurch.org
SUMMARY:Meals on Wheels
DESCRIPTION:
URL:https://westoverepiscopalchurch.org/event/meals-on-wheels-3-2/2024-05-20/
END:VEVENT
BEGIN:VEVENT
DTSTART;TZID=America/New_York:20240521T090000
DTEND;TZID=America/New_York:20240521T110000
DTSTAMP:20260425T095259
CREATED:20230113T145846Z
LAST-MODIFIED:20230113T145846Z
UID:10002672-1716282000-1716289200@westoverepiscopalchurch.org
SUMMARY:Meals on Wheels
DESCRIPTION:Meals On Wheels (MOW) serves hot\, nutritious meals to the homebound elderly and/or disabled Monday through Friday.
URL:https://westoverepiscopalchurch.org/event/meals-on-wheels/2024-05-21/
END:VEVENT
BEGIN:VEVENT
DTSTART;TZID=America/New_York:20240521T090000
DTEND;TZID=America/New_York:20240521T110000
DTSTAMP:20260425T095259
CREATED:20240105T180517Z
LAST-MODIFIED:20240105T180520Z
UID:10001286-1716282000-1716289200@westoverepiscopalchurch.org
SUMMARY:Meals on Wheels
DESCRIPTION:
URL:https://westoverepiscopalchurch.org/event/meals-on-wheels-3-2/2024-05-21/
END:VEVENT
BEGIN:VEVENT
DTSTART;TZID=America/New_York:20240522T090000
DTEND;TZID=America/New_York:20240522T110000
DTSTAMP:20260425T095259
CREATED:20230113T145846Z
LAST-MODIFIED:20230113T145846Z
UID:10002673-1716368400-1716375600@westoverepiscopalchurch.org
SUMMARY:Meals on Wheels
DESCRIPTION:Meals On Wheels (MOW) serves hot\, nutritious meals to the homebound elderly and/or disabled Monday through Friday.
URL:https://westoverepiscopalchurch.org/event/meals-on-wheels/2024-05-22/
END:VEVENT
BEGIN:VEVENT
DTSTART;TZID=America/New_York:20240522T090000
DTEND;TZID=America/New_York:20240522T110000
DTSTAMP:20260425T095259
CREATED:20240105T180517Z
LAST-MODIFIED:20240105T180520Z
UID:10001287-1716368400-1716375600@westoverepiscopalchurch.org
SUMMARY:Meals on Wheels
DESCRIPTION:
URL:https://westoverepiscopalchurch.org/event/meals-on-wheels-3-2/2024-05-22/
END:VEVENT
BEGIN:VEVENT
DTSTART;TZID=America/New_York:20240523T090000
DTEND;TZID=America/New_York:20240523T110000
DTSTAMP:20260425T095259
CREATED:20230113T145846Z
LAST-MODIFIED:20230113T145846Z
UID:10002674-1716454800-1716462000@westoverepiscopalchurch.org
SUMMARY:Meals on Wheels
DESCRIPTION:Meals On Wheels (MOW) serves hot\, nutritious meals to the homebound elderly and/or disabled Monday through Friday.
URL:https://westoverepiscopalchurch.org/event/meals-on-wheels/2024-05-23/
END:VEVENT
BEGIN:VEVENT
DTSTART;TZID=America/New_York:20240523T090000
DTEND;TZID=America/New_York:20240523T110000
DTSTAMP:20260425T095259
CREATED:20240105T180517Z
LAST-MODIFIED:20240105T180520Z
UID:10001288-1716454800-1716462000@westoverepiscopalchurch.org
SUMMARY:Meals on Wheels
DESCRIPTION:
URL:https://westoverepiscopalchurch.org/event/meals-on-wheels-3-2/2024-05-23/
END:VEVENT
BEGIN:VEVENT
DTSTART;TZID=America/New_York:20240523T100000
DTEND;TZID=America/New_York:20240523T110000
DTSTAMP:20260425T095259
CREATED:20230712T204456Z
LAST-MODIFIED:20230712T204456Z
UID:10001132-1716458400-1716462000@westoverepiscopalchurch.org
SUMMARY:Gentle Yoga with Rev. Becky
DESCRIPTION:
URL:https://westoverepiscopalchurch.org/event/gentle-yoga-with-rev-becky-3/2024-05-23/
END:VEVENT
END:VCALENDAR