BEGIN:VCALENDAR
VERSION:2.0
PRODID:-//Westover Episcopal Church - Charles City, VA - ECPv6.15.20//NONSGML v1.0//EN
CALSCALE:GREGORIAN
METHOD:PUBLISH
X-WR-CALNAME:Westover Episcopal Church - Charles City, VA
X-ORIGINAL-URL:https://westoverepiscopalchurch.org
X-WR-CALDESC:Events for Westover Episcopal Church - Charles City, VA
REFRESH-INTERVAL;VALUE=DURATION:PT1H
X-Robots-Tag:noindex
X-PUBLISHED-TTL:PT1H
BEGIN:VTIMEZONE
TZID:America/New_York
BEGIN:DAYLIGHT
TZOFFSETFROM:-0500
TZOFFSETTO:-0400
TZNAME:EDT
DTSTART:20260308T070000
END:DAYLIGHT
BEGIN:STANDARD
TZOFFSETFROM:-0400
TZOFFSETTO:-0500
TZNAME:EST
DTSTART:20261101T060000
END:STANDARD
BEGIN:DAYLIGHT
TZOFFSETFROM:-0500
TZOFFSETTO:-0400
TZNAME:EDT
DTSTART:20270314T070000
END:DAYLIGHT
BEGIN:STANDARD
TZOFFSETFROM:-0400
TZOFFSETTO:-0500
TZNAME:EST
DTSTART:20271107T060000
END:STANDARD
BEGIN:DAYLIGHT
TZOFFSETFROM:-0500
TZOFFSETTO:-0400
TZNAME:EDT
DTSTART:20280312T070000
END:DAYLIGHT
BEGIN:STANDARD
TZOFFSETFROM:-0400
TZOFFSETTO:-0500
TZNAME:EST
DTSTART:20281105T060000
END:STANDARD
END:VTIMEZONE
BEGIN:VEVENT
DTSTART;TZID=America/New_York:20271207T090000
DTEND;TZID=America/New_York:20271207T110000
DTSTAMP:20260425T090627
CREATED:20230113T145846Z
LAST-MODIFIED:20230113T145846Z
UID:10003597-1828170000-1828177200@westoverepiscopalchurch.org
SUMMARY:Meals on Wheels
DESCRIPTION:Meals On Wheels (MOW) serves hot\, nutritious meals to the homebound elderly and/or disabled Monday through Friday.
URL:https://westoverepiscopalchurch.org/event/meals-on-wheels/2027-12-07/
END:VEVENT
BEGIN:VEVENT
DTSTART;TZID=America/New_York:20271206T090000
DTEND;TZID=America/New_York:20271206T110000
DTSTAMP:20260425T090627
CREATED:20230113T145846Z
LAST-MODIFIED:20230113T145846Z
UID:10003596-1828083600-1828090800@westoverepiscopalchurch.org
SUMMARY:Meals on Wheels
DESCRIPTION:Meals On Wheels (MOW) serves hot\, nutritious meals to the homebound elderly and/or disabled Monday through Friday.
URL:https://westoverepiscopalchurch.org/event/meals-on-wheels/2027-12-06/
END:VEVENT
BEGIN:VEVENT
DTSTART;TZID=America/New_York:20271203T090000
DTEND;TZID=America/New_York:20271203T110000
DTSTAMP:20260425T090627
CREATED:20230113T145846Z
LAST-MODIFIED:20230113T145846Z
UID:10003595-1827824400-1827831600@westoverepiscopalchurch.org
SUMMARY:Meals on Wheels
DESCRIPTION:Meals On Wheels (MOW) serves hot\, nutritious meals to the homebound elderly and/or disabled Monday through Friday.
URL:https://westoverepiscopalchurch.org/event/meals-on-wheels/2027-12-03/
END:VEVENT
BEGIN:VEVENT
DTSTART;TZID=America/New_York:20271202T090000
DTEND;TZID=America/New_York:20271202T110000
DTSTAMP:20260425T090627
CREATED:20230113T145846Z
LAST-MODIFIED:20230113T145846Z
UID:10003594-1827738000-1827745200@westoverepiscopalchurch.org
SUMMARY:Meals on Wheels
DESCRIPTION:Meals On Wheels (MOW) serves hot\, nutritious meals to the homebound elderly and/or disabled Monday through Friday.
URL:https://westoverepiscopalchurch.org/event/meals-on-wheels/2027-12-02/
END:VEVENT
BEGIN:VEVENT
DTSTART;TZID=America/New_York:20271201T090000
DTEND;TZID=America/New_York:20271201T110000
DTSTAMP:20260425T090627
CREATED:20230113T145846Z
LAST-MODIFIED:20230113T145846Z
UID:10003593-1827651600-1827658800@westoverepiscopalchurch.org
SUMMARY:Meals on Wheels
DESCRIPTION:Meals On Wheels (MOW) serves hot\, nutritious meals to the homebound elderly and/or disabled Monday through Friday.
URL:https://westoverepiscopalchurch.org/event/meals-on-wheels/2027-12-01/
END:VEVENT
BEGIN:VEVENT
DTSTART;TZID=America/New_York:20271130T090000
DTEND;TZID=America/New_York:20271130T110000
DTSTAMP:20260425T090627
CREATED:20230113T145846Z
LAST-MODIFIED:20230113T145846Z
UID:10003592-1827565200-1827572400@westoverepiscopalchurch.org
SUMMARY:Meals on Wheels
DESCRIPTION:Meals On Wheels (MOW) serves hot\, nutritious meals to the homebound elderly and/or disabled Monday through Friday.
URL:https://westoverepiscopalchurch.org/event/meals-on-wheels/2027-11-30/
END:VEVENT
BEGIN:VEVENT
DTSTART;TZID=America/New_York:20271129T090000
DTEND;TZID=America/New_York:20271129T110000
DTSTAMP:20260425T090627
CREATED:20230113T145846Z
LAST-MODIFIED:20230113T145846Z
UID:10003591-1827478800-1827486000@westoverepiscopalchurch.org
SUMMARY:Meals on Wheels
DESCRIPTION:Meals On Wheels (MOW) serves hot\, nutritious meals to the homebound elderly and/or disabled Monday through Friday.
URL:https://westoverepiscopalchurch.org/event/meals-on-wheels/2027-11-29/
END:VEVENT
BEGIN:VEVENT
DTSTART;TZID=America/New_York:20271126T090000
DTEND;TZID=America/New_York:20271126T110000
DTSTAMP:20260425T090627
CREATED:20230113T145846Z
LAST-MODIFIED:20230113T145846Z
UID:10003590-1827219600-1827226800@westoverepiscopalchurch.org
SUMMARY:Meals on Wheels
DESCRIPTION:Meals On Wheels (MOW) serves hot\, nutritious meals to the homebound elderly and/or disabled Monday through Friday.
URL:https://westoverepiscopalchurch.org/event/meals-on-wheels/2027-11-26/
END:VEVENT
BEGIN:VEVENT
DTSTART;TZID=America/New_York:20271125T090000
DTEND;TZID=America/New_York:20271125T110000
DTSTAMP:20260425T090627
CREATED:20230113T145846Z
LAST-MODIFIED:20230113T145846Z
UID:10003589-1827133200-1827140400@westoverepiscopalchurch.org
SUMMARY:Meals on Wheels
DESCRIPTION:Meals On Wheels (MOW) serves hot\, nutritious meals to the homebound elderly and/or disabled Monday through Friday.
URL:https://westoverepiscopalchurch.org/event/meals-on-wheels/2027-11-25/
END:VEVENT
BEGIN:VEVENT
DTSTART;TZID=America/New_York:20271124T090000
DTEND;TZID=America/New_York:20271124T110000
DTSTAMP:20260425T090627
CREATED:20230113T145846Z
LAST-MODIFIED:20230113T145846Z
UID:10003588-1827046800-1827054000@westoverepiscopalchurch.org
SUMMARY:Meals on Wheels
DESCRIPTION:Meals On Wheels (MOW) serves hot\, nutritious meals to the homebound elderly and/or disabled Monday through Friday.
URL:https://westoverepiscopalchurch.org/event/meals-on-wheels/2027-11-24/
END:VEVENT
BEGIN:VEVENT
DTSTART;TZID=America/New_York:20271123T090000
DTEND;TZID=America/New_York:20271123T110000
DTSTAMP:20260425T090627
CREATED:20230113T145846Z
LAST-MODIFIED:20230113T145846Z
UID:10003587-1826960400-1826967600@westoverepiscopalchurch.org
SUMMARY:Meals on Wheels
DESCRIPTION:Meals On Wheels (MOW) serves hot\, nutritious meals to the homebound elderly and/or disabled Monday through Friday.
URL:https://westoverepiscopalchurch.org/event/meals-on-wheels/2027-11-23/
END:VEVENT
BEGIN:VEVENT
DTSTART;TZID=America/New_York:20271122T090000
DTEND;TZID=America/New_York:20271122T110000
DTSTAMP:20260425T090627
CREATED:20230113T145846Z
LAST-MODIFIED:20230113T145846Z
UID:10003586-1826874000-1826881200@westoverepiscopalchurch.org
SUMMARY:Meals on Wheels
DESCRIPTION:Meals On Wheels (MOW) serves hot\, nutritious meals to the homebound elderly and/or disabled Monday through Friday.
URL:https://westoverepiscopalchurch.org/event/meals-on-wheels/2027-11-22/
END:VEVENT
BEGIN:VEVENT
DTSTART;TZID=America/New_York:20271119T090000
DTEND;TZID=America/New_York:20271119T110000
DTSTAMP:20260425T090627
CREATED:20230113T145846Z
LAST-MODIFIED:20230113T145846Z
UID:10003585-1826614800-1826622000@westoverepiscopalchurch.org
SUMMARY:Meals on Wheels
DESCRIPTION:Meals On Wheels (MOW) serves hot\, nutritious meals to the homebound elderly and/or disabled Monday through Friday.
URL:https://westoverepiscopalchurch.org/event/meals-on-wheels/2027-11-19/
END:VEVENT
BEGIN:VEVENT
DTSTART;TZID=America/New_York:20271118T090000
DTEND;TZID=America/New_York:20271118T110000
DTSTAMP:20260425T090627
CREATED:20230113T145846Z
LAST-MODIFIED:20230113T145846Z
UID:10003584-1826528400-1826535600@westoverepiscopalchurch.org
SUMMARY:Meals on Wheels
DESCRIPTION:Meals On Wheels (MOW) serves hot\, nutritious meals to the homebound elderly and/or disabled Monday through Friday.
URL:https://westoverepiscopalchurch.org/event/meals-on-wheels/2027-11-18/
END:VEVENT
BEGIN:VEVENT
DTSTART;TZID=America/New_York:20271117T090000
DTEND;TZID=America/New_York:20271117T110000
DTSTAMP:20260425T090627
CREATED:20230113T145846Z
LAST-MODIFIED:20230113T145846Z
UID:10003583-1826442000-1826449200@westoverepiscopalchurch.org
SUMMARY:Meals on Wheels
DESCRIPTION:Meals On Wheels (MOW) serves hot\, nutritious meals to the homebound elderly and/or disabled Monday through Friday.
URL:https://westoverepiscopalchurch.org/event/meals-on-wheels/2027-11-17/
END:VEVENT
BEGIN:VEVENT
DTSTART;TZID=America/New_York:20271116T090000
DTEND;TZID=America/New_York:20271116T110000
DTSTAMP:20260425T090627
CREATED:20230113T145846Z
LAST-MODIFIED:20230113T145846Z
UID:10003582-1826355600-1826362800@westoverepiscopalchurch.org
SUMMARY:Meals on Wheels
DESCRIPTION:Meals On Wheels (MOW) serves hot\, nutritious meals to the homebound elderly and/or disabled Monday through Friday.
URL:https://westoverepiscopalchurch.org/event/meals-on-wheels/2027-11-16/
END:VEVENT
BEGIN:VEVENT
DTSTART;TZID=America/New_York:20271115T090000
DTEND;TZID=America/New_York:20271115T110000
DTSTAMP:20260425T090627
CREATED:20230113T145846Z
LAST-MODIFIED:20230113T145846Z
UID:10003581-1826269200-1826276400@westoverepiscopalchurch.org
SUMMARY:Meals on Wheels
DESCRIPTION:Meals On Wheels (MOW) serves hot\, nutritious meals to the homebound elderly and/or disabled Monday through Friday.
URL:https://westoverepiscopalchurch.org/event/meals-on-wheels/2027-11-15/
END:VEVENT
BEGIN:VEVENT
DTSTART;TZID=America/New_York:20271112T090000
DTEND;TZID=America/New_York:20271112T110000
DTSTAMP:20260425T090627
CREATED:20230113T145846Z
LAST-MODIFIED:20230113T145846Z
UID:10003580-1826010000-1826017200@westoverepiscopalchurch.org
SUMMARY:Meals on Wheels
DESCRIPTION:Meals On Wheels (MOW) serves hot\, nutritious meals to the homebound elderly and/or disabled Monday through Friday.
URL:https://westoverepiscopalchurch.org/event/meals-on-wheels/2027-11-12/
END:VEVENT
BEGIN:VEVENT
DTSTART;TZID=America/New_York:20271111T090000
DTEND;TZID=America/New_York:20271111T110000
DTSTAMP:20260425T090627
CREATED:20230113T145846Z
LAST-MODIFIED:20230113T145846Z
UID:10003579-1825923600-1825930800@westoverepiscopalchurch.org
SUMMARY:Meals on Wheels
DESCRIPTION:Meals On Wheels (MOW) serves hot\, nutritious meals to the homebound elderly and/or disabled Monday through Friday.
URL:https://westoverepiscopalchurch.org/event/meals-on-wheels/2027-11-11/
END:VEVENT
BEGIN:VEVENT
DTSTART;TZID=America/New_York:20271110T090000
DTEND;TZID=America/New_York:20271110T110000
DTSTAMP:20260425T090627
CREATED:20230113T145846Z
LAST-MODIFIED:20230113T145846Z
UID:10003578-1825837200-1825844400@westoverepiscopalchurch.org
SUMMARY:Meals on Wheels
DESCRIPTION:Meals On Wheels (MOW) serves hot\, nutritious meals to the homebound elderly and/or disabled Monday through Friday.
URL:https://westoverepiscopalchurch.org/event/meals-on-wheels/2027-11-10/
END:VEVENT
BEGIN:VEVENT
DTSTART;TZID=America/New_York:20271109T090000
DTEND;TZID=America/New_York:20271109T110000
DTSTAMP:20260425T090627
CREATED:20230113T145846Z
LAST-MODIFIED:20230113T145846Z
UID:10003577-1825750800-1825758000@westoverepiscopalchurch.org
SUMMARY:Meals on Wheels
DESCRIPTION:Meals On Wheels (MOW) serves hot\, nutritious meals to the homebound elderly and/or disabled Monday through Friday.
URL:https://westoverepiscopalchurch.org/event/meals-on-wheels/2027-11-09/
END:VEVENT
BEGIN:VEVENT
DTSTART;TZID=America/New_York:20271108T090000
DTEND;TZID=America/New_York:20271108T110000
DTSTAMP:20260425T090627
CREATED:20230113T145846Z
LAST-MODIFIED:20230113T145846Z
UID:10003576-1825664400-1825671600@westoverepiscopalchurch.org
SUMMARY:Meals on Wheels
DESCRIPTION:Meals On Wheels (MOW) serves hot\, nutritious meals to the homebound elderly and/or disabled Monday through Friday.
URL:https://westoverepiscopalchurch.org/event/meals-on-wheels/2027-11-08/
END:VEVENT
BEGIN:VEVENT
DTSTART;TZID=America/New_York:20271105T090000
DTEND;TZID=America/New_York:20271105T110000
DTSTAMP:20260425T090627
CREATED:20230113T145846Z
LAST-MODIFIED:20230113T145846Z
UID:10003575-1825405200-1825412400@westoverepiscopalchurch.org
SUMMARY:Meals on Wheels
DESCRIPTION:Meals On Wheels (MOW) serves hot\, nutritious meals to the homebound elderly and/or disabled Monday through Friday.
URL:https://westoverepiscopalchurch.org/event/meals-on-wheels/2027-11-05/
END:VEVENT
BEGIN:VEVENT
DTSTART;TZID=America/New_York:20271104T090000
DTEND;TZID=America/New_York:20271104T110000
DTSTAMP:20260425T090627
CREATED:20230113T145846Z
LAST-MODIFIED:20230113T145846Z
UID:10003574-1825318800-1825326000@westoverepiscopalchurch.org
SUMMARY:Meals on Wheels
DESCRIPTION:Meals On Wheels (MOW) serves hot\, nutritious meals to the homebound elderly and/or disabled Monday through Friday.
URL:https://westoverepiscopalchurch.org/event/meals-on-wheels/2027-11-04/
END:VEVENT
BEGIN:VEVENT
DTSTART;TZID=America/New_York:20271103T090000
DTEND;TZID=America/New_York:20271103T110000
DTSTAMP:20260425T090627
CREATED:20230113T145846Z
LAST-MODIFIED:20230113T145846Z
UID:10003573-1825232400-1825239600@westoverepiscopalchurch.org
SUMMARY:Meals on Wheels
DESCRIPTION:Meals On Wheels (MOW) serves hot\, nutritious meals to the homebound elderly and/or disabled Monday through Friday.
URL:https://westoverepiscopalchurch.org/event/meals-on-wheels/2027-11-03/
END:VEVENT
BEGIN:VEVENT
DTSTART;TZID=America/New_York:20271102T090000
DTEND;TZID=America/New_York:20271102T110000
DTSTAMP:20260425T090627
CREATED:20230113T145846Z
LAST-MODIFIED:20230113T145846Z
UID:10003572-1825146000-1825153200@westoverepiscopalchurch.org
SUMMARY:Meals on Wheels
DESCRIPTION:Meals On Wheels (MOW) serves hot\, nutritious meals to the homebound elderly and/or disabled Monday through Friday.
URL:https://westoverepiscopalchurch.org/event/meals-on-wheels/2027-11-02/
END:VEVENT
BEGIN:VEVENT
DTSTART;TZID=America/New_York:20271101T090000
DTEND;TZID=America/New_York:20271101T110000
DTSTAMP:20260425T090627
CREATED:20230113T145846Z
LAST-MODIFIED:20230113T145846Z
UID:10003571-1825059600-1825066800@westoverepiscopalchurch.org
SUMMARY:Meals on Wheels
DESCRIPTION:Meals On Wheels (MOW) serves hot\, nutritious meals to the homebound elderly and/or disabled Monday through Friday.
URL:https://westoverepiscopalchurch.org/event/meals-on-wheels/2027-11-01/
END:VEVENT
BEGIN:VEVENT
DTSTART;TZID=America/New_York:20271029T090000
DTEND;TZID=America/New_York:20271029T110000
DTSTAMP:20260425T090627
CREATED:20230113T145846Z
LAST-MODIFIED:20230113T145846Z
UID:10003570-1824800400-1824807600@westoverepiscopalchurch.org
SUMMARY:Meals on Wheels
DESCRIPTION:Meals On Wheels (MOW) serves hot\, nutritious meals to the homebound elderly and/or disabled Monday through Friday.
URL:https://westoverepiscopalchurch.org/event/meals-on-wheels/2027-10-29/
END:VEVENT
BEGIN:VEVENT
DTSTART;TZID=America/New_York:20271028T090000
DTEND;TZID=America/New_York:20271028T110000
DTSTAMP:20260425T090627
CREATED:20230113T145846Z
LAST-MODIFIED:20230113T145846Z
UID:10003569-1824714000-1824721200@westoverepiscopalchurch.org
SUMMARY:Meals on Wheels
DESCRIPTION:Meals On Wheels (MOW) serves hot\, nutritious meals to the homebound elderly and/or disabled Monday through Friday.
URL:https://westoverepiscopalchurch.org/event/meals-on-wheels/2027-10-28/
END:VEVENT
BEGIN:VEVENT
DTSTART;TZID=America/New_York:20271027T090000
DTEND;TZID=America/New_York:20271027T110000
DTSTAMP:20260425T090627
CREATED:20230113T145846Z
LAST-MODIFIED:20230113T145846Z
UID:10003568-1824627600-1824634800@westoverepiscopalchurch.org
SUMMARY:Meals on Wheels
DESCRIPTION:Meals On Wheels (MOW) serves hot\, nutritious meals to the homebound elderly and/or disabled Monday through Friday.
URL:https://westoverepiscopalchurch.org/event/meals-on-wheels/2027-10-27/
END:VEVENT
END:VCALENDAR