BEGIN:VCALENDAR
VERSION:2.0
PRODID:-//Westover Episcopal Church - Charles City, VA - ECPv6.15.20//NONSGML v1.0//EN
CALSCALE:GREGORIAN
METHOD:PUBLISH
X-WR-CALNAME:Westover Episcopal Church - Charles City, VA
X-ORIGINAL-URL:https://westoverepiscopalchurch.org
X-WR-CALDESC:Events for Westover Episcopal Church - Charles City, VA
REFRESH-INTERVAL;VALUE=DURATION:PT1H
X-Robots-Tag:noindex
X-PUBLISHED-TTL:PT1H
BEGIN:VTIMEZONE
TZID:America/New_York
BEGIN:DAYLIGHT
TZOFFSETFROM:-0500
TZOFFSETTO:-0400
TZNAME:EDT
DTSTART:20270314T070000
END:DAYLIGHT
BEGIN:STANDARD
TZOFFSETFROM:-0400
TZOFFSETTO:-0500
TZNAME:EST
DTSTART:20271107T060000
END:STANDARD
BEGIN:DAYLIGHT
TZOFFSETFROM:-0500
TZOFFSETTO:-0400
TZNAME:EDT
DTSTART:20280312T070000
END:DAYLIGHT
BEGIN:STANDARD
TZOFFSETFROM:-0400
TZOFFSETTO:-0500
TZNAME:EST
DTSTART:20281105T060000
END:STANDARD
BEGIN:DAYLIGHT
TZOFFSETFROM:-0500
TZOFFSETTO:-0400
TZNAME:EDT
DTSTART:20290311T070000
END:DAYLIGHT
BEGIN:STANDARD
TZOFFSETFROM:-0400
TZOFFSETTO:-0500
TZNAME:EST
DTSTART:20291104T060000
END:STANDARD
END:VTIMEZONE
BEGIN:VEVENT
DTSTART;TZID=America/New_York:20280508T090000
DTEND;TZID=America/New_York:20280508T110000
DTSTAMP:20260425T084827
CREATED:20230113T145846Z
LAST-MODIFIED:20230113T145846Z
UID:10003706-1841389200-1841396400@westoverepiscopalchurch.org
SUMMARY:Meals on Wheels
DESCRIPTION:Meals On Wheels (MOW) serves hot\, nutritious meals to the homebound elderly and/or disabled Monday through Friday.
URL:https://westoverepiscopalchurch.org/event/meals-on-wheels/2028-05-08/
END:VEVENT
BEGIN:VEVENT
DTSTART;TZID=America/New_York:20280509T090000
DTEND;TZID=America/New_York:20280509T110000
DTSTAMP:20260425T084827
CREATED:20230113T145846Z
LAST-MODIFIED:20230113T145846Z
UID:10003707-1841475600-1841482800@westoverepiscopalchurch.org
SUMMARY:Meals on Wheels
DESCRIPTION:Meals On Wheels (MOW) serves hot\, nutritious meals to the homebound elderly and/or disabled Monday through Friday.
URL:https://westoverepiscopalchurch.org/event/meals-on-wheels/2028-05-09/
END:VEVENT
BEGIN:VEVENT
DTSTART;TZID=America/New_York:20280510T090000
DTEND;TZID=America/New_York:20280510T110000
DTSTAMP:20260425T084827
CREATED:20230113T145846Z
LAST-MODIFIED:20230113T145846Z
UID:10003708-1841562000-1841569200@westoverepiscopalchurch.org
SUMMARY:Meals on Wheels
DESCRIPTION:Meals On Wheels (MOW) serves hot\, nutritious meals to the homebound elderly and/or disabled Monday through Friday.
URL:https://westoverepiscopalchurch.org/event/meals-on-wheels/2028-05-10/
END:VEVENT
BEGIN:VEVENT
DTSTART;TZID=America/New_York:20280511T090000
DTEND;TZID=America/New_York:20280511T110000
DTSTAMP:20260425T084827
CREATED:20230113T145846Z
LAST-MODIFIED:20230113T145846Z
UID:10003709-1841648400-1841655600@westoverepiscopalchurch.org
SUMMARY:Meals on Wheels
DESCRIPTION:Meals On Wheels (MOW) serves hot\, nutritious meals to the homebound elderly and/or disabled Monday through Friday.
URL:https://westoverepiscopalchurch.org/event/meals-on-wheels/2028-05-11/
END:VEVENT
BEGIN:VEVENT
DTSTART;TZID=America/New_York:20280512T090000
DTEND;TZID=America/New_York:20280512T110000
DTSTAMP:20260425T084827
CREATED:20230113T145846Z
LAST-MODIFIED:20230113T145846Z
UID:10003710-1841734800-1841742000@westoverepiscopalchurch.org
SUMMARY:Meals on Wheels
DESCRIPTION:Meals On Wheels (MOW) serves hot\, nutritious meals to the homebound elderly and/or disabled Monday through Friday.
URL:https://westoverepiscopalchurch.org/event/meals-on-wheels/2028-05-12/
END:VEVENT
BEGIN:VEVENT
DTSTART;TZID=America/New_York:20280515T090000
DTEND;TZID=America/New_York:20280515T110000
DTSTAMP:20260425T084827
CREATED:20230113T145846Z
LAST-MODIFIED:20230113T145846Z
UID:10003711-1841994000-1842001200@westoverepiscopalchurch.org
SUMMARY:Meals on Wheels
DESCRIPTION:Meals On Wheels (MOW) serves hot\, nutritious meals to the homebound elderly and/or disabled Monday through Friday.
URL:https://westoverepiscopalchurch.org/event/meals-on-wheels/2028-05-15/
END:VEVENT
BEGIN:VEVENT
DTSTART;TZID=America/New_York:20280516T090000
DTEND;TZID=America/New_York:20280516T110000
DTSTAMP:20260425T084827
CREATED:20230113T145846Z
LAST-MODIFIED:20230113T145846Z
UID:10003712-1842080400-1842087600@westoverepiscopalchurch.org
SUMMARY:Meals on Wheels
DESCRIPTION:Meals On Wheels (MOW) serves hot\, nutritious meals to the homebound elderly and/or disabled Monday through Friday.
URL:https://westoverepiscopalchurch.org/event/meals-on-wheels/2028-05-16/
END:VEVENT
BEGIN:VEVENT
DTSTART;TZID=America/New_York:20280517T090000
DTEND;TZID=America/New_York:20280517T110000
DTSTAMP:20260425T084827
CREATED:20230113T145846Z
LAST-MODIFIED:20230113T145846Z
UID:10003713-1842166800-1842174000@westoverepiscopalchurch.org
SUMMARY:Meals on Wheels
DESCRIPTION:Meals On Wheels (MOW) serves hot\, nutritious meals to the homebound elderly and/or disabled Monday through Friday.
URL:https://westoverepiscopalchurch.org/event/meals-on-wheels/2028-05-17/
END:VEVENT
BEGIN:VEVENT
DTSTART;TZID=America/New_York:20280518T090000
DTEND;TZID=America/New_York:20280518T110000
DTSTAMP:20260425T084827
CREATED:20230113T145846Z
LAST-MODIFIED:20230113T145846Z
UID:10003714-1842253200-1842260400@westoverepiscopalchurch.org
SUMMARY:Meals on Wheels
DESCRIPTION:Meals On Wheels (MOW) serves hot\, nutritious meals to the homebound elderly and/or disabled Monday through Friday.
URL:https://westoverepiscopalchurch.org/event/meals-on-wheels/2028-05-18/
END:VEVENT
BEGIN:VEVENT
DTSTART;TZID=America/New_York:20280519T090000
DTEND;TZID=America/New_York:20280519T110000
DTSTAMP:20260425T084827
CREATED:20230113T145846Z
LAST-MODIFIED:20230113T145846Z
UID:10003715-1842339600-1842346800@westoverepiscopalchurch.org
SUMMARY:Meals on Wheels
DESCRIPTION:Meals On Wheels (MOW) serves hot\, nutritious meals to the homebound elderly and/or disabled Monday through Friday.
URL:https://westoverepiscopalchurch.org/event/meals-on-wheels/2028-05-19/
END:VEVENT
BEGIN:VEVENT
DTSTART;TZID=America/New_York:20280522T090000
DTEND;TZID=America/New_York:20280522T110000
DTSTAMP:20260425T084827
CREATED:20230113T145846Z
LAST-MODIFIED:20230113T145846Z
UID:10003716-1842598800-1842606000@westoverepiscopalchurch.org
SUMMARY:Meals on Wheels
DESCRIPTION:Meals On Wheels (MOW) serves hot\, nutritious meals to the homebound elderly and/or disabled Monday through Friday.
URL:https://westoverepiscopalchurch.org/event/meals-on-wheels/2028-05-22/
END:VEVENT
BEGIN:VEVENT
DTSTART;TZID=America/New_York:20280523T090000
DTEND;TZID=America/New_York:20280523T110000
DTSTAMP:20260425T084827
CREATED:20230113T145846Z
LAST-MODIFIED:20230113T145846Z
UID:10003717-1842685200-1842692400@westoverepiscopalchurch.org
SUMMARY:Meals on Wheels
DESCRIPTION:Meals On Wheels (MOW) serves hot\, nutritious meals to the homebound elderly and/or disabled Monday through Friday.
URL:https://westoverepiscopalchurch.org/event/meals-on-wheels/2028-05-23/
END:VEVENT
BEGIN:VEVENT
DTSTART;TZID=America/New_York:20280524T090000
DTEND;TZID=America/New_York:20280524T110000
DTSTAMP:20260425T084827
CREATED:20230113T145846Z
LAST-MODIFIED:20230113T145846Z
UID:10003718-1842771600-1842778800@westoverepiscopalchurch.org
SUMMARY:Meals on Wheels
DESCRIPTION:Meals On Wheels (MOW) serves hot\, nutritious meals to the homebound elderly and/or disabled Monday through Friday.
URL:https://westoverepiscopalchurch.org/event/meals-on-wheels/2028-05-24/
END:VEVENT
BEGIN:VEVENT
DTSTART;TZID=America/New_York:20280525T090000
DTEND;TZID=America/New_York:20280525T110000
DTSTAMP:20260425T084827
CREATED:20230113T145846Z
LAST-MODIFIED:20230113T145846Z
UID:10003719-1842858000-1842865200@westoverepiscopalchurch.org
SUMMARY:Meals on Wheels
DESCRIPTION:Meals On Wheels (MOW) serves hot\, nutritious meals to the homebound elderly and/or disabled Monday through Friday.
URL:https://westoverepiscopalchurch.org/event/meals-on-wheels/2028-05-25/
END:VEVENT
BEGIN:VEVENT
DTSTART;TZID=America/New_York:20280526T090000
DTEND;TZID=America/New_York:20280526T110000
DTSTAMP:20260425T084827
CREATED:20230113T145846Z
LAST-MODIFIED:20230113T145846Z
UID:10003720-1842944400-1842951600@westoverepiscopalchurch.org
SUMMARY:Meals on Wheels
DESCRIPTION:Meals On Wheels (MOW) serves hot\, nutritious meals to the homebound elderly and/or disabled Monday through Friday.
URL:https://westoverepiscopalchurch.org/event/meals-on-wheels/2028-05-26/
END:VEVENT
BEGIN:VEVENT
DTSTART;TZID=America/New_York:20280529T090000
DTEND;TZID=America/New_York:20280529T110000
DTSTAMP:20260425T084827
CREATED:20230113T145846Z
LAST-MODIFIED:20230113T145846Z
UID:10003721-1843203600-1843210800@westoverepiscopalchurch.org
SUMMARY:Meals on Wheels
DESCRIPTION:Meals On Wheels (MOW) serves hot\, nutritious meals to the homebound elderly and/or disabled Monday through Friday.
URL:https://westoverepiscopalchurch.org/event/meals-on-wheels/2028-05-29/
END:VEVENT
BEGIN:VEVENT
DTSTART;TZID=America/New_York:20280530T090000
DTEND;TZID=America/New_York:20280530T110000
DTSTAMP:20260425T084827
CREATED:20230113T145846Z
LAST-MODIFIED:20230113T145846Z
UID:10003722-1843290000-1843297200@westoverepiscopalchurch.org
SUMMARY:Meals on Wheels
DESCRIPTION:Meals On Wheels (MOW) serves hot\, nutritious meals to the homebound elderly and/or disabled Monday through Friday.
URL:https://westoverepiscopalchurch.org/event/meals-on-wheels/2028-05-30/
END:VEVENT
BEGIN:VEVENT
DTSTART;TZID=America/New_York:20280531T090000
DTEND;TZID=America/New_York:20280531T110000
DTSTAMP:20260425T084827
CREATED:20230113T145846Z
LAST-MODIFIED:20230113T145846Z
UID:10003723-1843376400-1843383600@westoverepiscopalchurch.org
SUMMARY:Meals on Wheels
DESCRIPTION:Meals On Wheels (MOW) serves hot\, nutritious meals to the homebound elderly and/or disabled Monday through Friday.
URL:https://westoverepiscopalchurch.org/event/meals-on-wheels/2028-05-31/
END:VEVENT
BEGIN:VEVENT
DTSTART;TZID=America/New_York:20280601T090000
DTEND;TZID=America/New_York:20280601T110000
DTSTAMP:20260425T084827
CREATED:20230113T145846Z
LAST-MODIFIED:20230113T145846Z
UID:10003724-1843462800-1843470000@westoverepiscopalchurch.org
SUMMARY:Meals on Wheels
DESCRIPTION:Meals On Wheels (MOW) serves hot\, nutritious meals to the homebound elderly and/or disabled Monday through Friday.
URL:https://westoverepiscopalchurch.org/event/meals-on-wheels/2028-06-01/
END:VEVENT
BEGIN:VEVENT
DTSTART;TZID=America/New_York:20280602T090000
DTEND;TZID=America/New_York:20280602T110000
DTSTAMP:20260425T084827
CREATED:20230113T145846Z
LAST-MODIFIED:20230113T145846Z
UID:10003725-1843549200-1843556400@westoverepiscopalchurch.org
SUMMARY:Meals on Wheels
DESCRIPTION:Meals On Wheels (MOW) serves hot\, nutritious meals to the homebound elderly and/or disabled Monday through Friday.
URL:https://westoverepiscopalchurch.org/event/meals-on-wheels/2028-06-02/
END:VEVENT
BEGIN:VEVENT
DTSTART;TZID=America/New_York:20280605T090000
DTEND;TZID=America/New_York:20280605T110000
DTSTAMP:20260425T084827
CREATED:20230113T145846Z
LAST-MODIFIED:20230113T145846Z
UID:10003726-1843808400-1843815600@westoverepiscopalchurch.org
SUMMARY:Meals on Wheels
DESCRIPTION:Meals On Wheels (MOW) serves hot\, nutritious meals to the homebound elderly and/or disabled Monday through Friday.
URL:https://westoverepiscopalchurch.org/event/meals-on-wheels/2028-06-05/
END:VEVENT
BEGIN:VEVENT
DTSTART;TZID=America/New_York:20280606T090000
DTEND;TZID=America/New_York:20280606T110000
DTSTAMP:20260425T084827
CREATED:20230113T145846Z
LAST-MODIFIED:20230113T145846Z
UID:10003727-1843894800-1843902000@westoverepiscopalchurch.org
SUMMARY:Meals on Wheels
DESCRIPTION:Meals On Wheels (MOW) serves hot\, nutritious meals to the homebound elderly and/or disabled Monday through Friday.
URL:https://westoverepiscopalchurch.org/event/meals-on-wheels/2028-06-06/
END:VEVENT
BEGIN:VEVENT
DTSTART;TZID=America/New_York:20280607T090000
DTEND;TZID=America/New_York:20280607T110000
DTSTAMP:20260425T084827
CREATED:20230113T145846Z
LAST-MODIFIED:20230113T145846Z
UID:10003728-1843981200-1843988400@westoverepiscopalchurch.org
SUMMARY:Meals on Wheels
DESCRIPTION:Meals On Wheels (MOW) serves hot\, nutritious meals to the homebound elderly and/or disabled Monday through Friday.
URL:https://westoverepiscopalchurch.org/event/meals-on-wheels/2028-06-07/
END:VEVENT
BEGIN:VEVENT
DTSTART;TZID=America/New_York:20280608T090000
DTEND;TZID=America/New_York:20280608T110000
DTSTAMP:20260425T084827
CREATED:20230113T145846Z
LAST-MODIFIED:20230113T145846Z
UID:10003729-1844067600-1844074800@westoverepiscopalchurch.org
SUMMARY:Meals on Wheels
DESCRIPTION:Meals On Wheels (MOW) serves hot\, nutritious meals to the homebound elderly and/or disabled Monday through Friday.
URL:https://westoverepiscopalchurch.org/event/meals-on-wheels/2028-06-08/
END:VEVENT
BEGIN:VEVENT
DTSTART;TZID=America/New_York:20280609T090000
DTEND;TZID=America/New_York:20280609T110000
DTSTAMP:20260425T084827
CREATED:20230113T145846Z
LAST-MODIFIED:20230113T145846Z
UID:10003730-1844154000-1844161200@westoverepiscopalchurch.org
SUMMARY:Meals on Wheels
DESCRIPTION:Meals On Wheels (MOW) serves hot\, nutritious meals to the homebound elderly and/or disabled Monday through Friday.
URL:https://westoverepiscopalchurch.org/event/meals-on-wheels/2028-06-09/
END:VEVENT
BEGIN:VEVENT
DTSTART;TZID=America/New_York:20280612T090000
DTEND;TZID=America/New_York:20280612T110000
DTSTAMP:20260425T084827
CREATED:20230113T145846Z
LAST-MODIFIED:20230113T145846Z
UID:10003731-1844413200-1844420400@westoverepiscopalchurch.org
SUMMARY:Meals on Wheels
DESCRIPTION:Meals On Wheels (MOW) serves hot\, nutritious meals to the homebound elderly and/or disabled Monday through Friday.
URL:https://westoverepiscopalchurch.org/event/meals-on-wheels/2028-06-12/
END:VEVENT
BEGIN:VEVENT
DTSTART;TZID=America/New_York:20280613T090000
DTEND;TZID=America/New_York:20280613T110000
DTSTAMP:20260425T084827
CREATED:20230113T145846Z
LAST-MODIFIED:20230113T145846Z
UID:10003732-1844499600-1844506800@westoverepiscopalchurch.org
SUMMARY:Meals on Wheels
DESCRIPTION:Meals On Wheels (MOW) serves hot\, nutritious meals to the homebound elderly and/or disabled Monday through Friday.
URL:https://westoverepiscopalchurch.org/event/meals-on-wheels/2028-06-13/
END:VEVENT
BEGIN:VEVENT
DTSTART;TZID=America/New_York:20280614T090000
DTEND;TZID=America/New_York:20280614T110000
DTSTAMP:20260425T084827
CREATED:20230113T145846Z
LAST-MODIFIED:20230113T145846Z
UID:10003733-1844586000-1844593200@westoverepiscopalchurch.org
SUMMARY:Meals on Wheels
DESCRIPTION:Meals On Wheels (MOW) serves hot\, nutritious meals to the homebound elderly and/or disabled Monday through Friday.
URL:https://westoverepiscopalchurch.org/event/meals-on-wheels/2028-06-14/
END:VEVENT
BEGIN:VEVENT
DTSTART;TZID=America/New_York:20280615T090000
DTEND;TZID=America/New_York:20280615T110000
DTSTAMP:20260425T084827
CREATED:20230113T145846Z
LAST-MODIFIED:20230113T145846Z
UID:10003734-1844672400-1844679600@westoverepiscopalchurch.org
SUMMARY:Meals on Wheels
DESCRIPTION:Meals On Wheels (MOW) serves hot\, nutritious meals to the homebound elderly and/or disabled Monday through Friday.
URL:https://westoverepiscopalchurch.org/event/meals-on-wheels/2028-06-15/
END:VEVENT
BEGIN:VEVENT
DTSTART;TZID=America/New_York:20280616T090000
DTEND;TZID=America/New_York:20280616T110000
DTSTAMP:20260425T084827
CREATED:20230113T145846Z
LAST-MODIFIED:20230113T145846Z
UID:10003735-1844758800-1844766000@westoverepiscopalchurch.org
SUMMARY:Meals on Wheels
DESCRIPTION:Meals On Wheels (MOW) serves hot\, nutritious meals to the homebound elderly and/or disabled Monday through Friday.
URL:https://westoverepiscopalchurch.org/event/meals-on-wheels/2028-06-16/
END:VEVENT
END:VCALENDAR