BEGIN:VCALENDAR
VERSION:2.0
PRODID:-//Westover Episcopal Church - Charles City, VA - ECPv6.15.20//NONSGML v1.0//EN
CALSCALE:GREGORIAN
METHOD:PUBLISH
X-ORIGINAL-URL:https://westoverepiscopalchurch.org
X-WR-CALDESC:Events for Westover Episcopal Church - Charles City, VA
REFRESH-INTERVAL;VALUE=DURATION:PT1H
X-Robots-Tag:noindex
X-PUBLISHED-TTL:PT1H
BEGIN:VTIMEZONE
TZID:America/New_York
BEGIN:DAYLIGHT
TZOFFSETFROM:-0500
TZOFFSETTO:-0400
TZNAME:EDT
DTSTART:20270314T070000
END:DAYLIGHT
BEGIN:STANDARD
TZOFFSETFROM:-0400
TZOFFSETTO:-0500
TZNAME:EST
DTSTART:20271107T060000
END:STANDARD
BEGIN:DAYLIGHT
TZOFFSETFROM:-0500
TZOFFSETTO:-0400
TZNAME:EDT
DTSTART:20280312T070000
END:DAYLIGHT
BEGIN:STANDARD
TZOFFSETFROM:-0400
TZOFFSETTO:-0500
TZNAME:EST
DTSTART:20281105T060000
END:STANDARD
BEGIN:DAYLIGHT
TZOFFSETFROM:-0500
TZOFFSETTO:-0400
TZNAME:EDT
DTSTART:20290311T070000
END:DAYLIGHT
BEGIN:STANDARD
TZOFFSETFROM:-0400
TZOFFSETTO:-0500
TZNAME:EST
DTSTART:20291104T060000
END:STANDARD
END:VTIMEZONE
BEGIN:VEVENT
DTSTART;TZID=America/New_York:20280801T090000
DTEND;TZID=America/New_York:20280801T110000
DTSTAMP:20260425T114000
CREATED:20230113T145846Z
LAST-MODIFIED:20230113T145846Z
UID:10003767-1848733200-1848740400@westoverepiscopalchurch.org
SUMMARY:Meals on Wheels
DESCRIPTION:Meals On Wheels (MOW) serves hot\, nutritious meals to the homebound elderly and/or disabled Monday through Friday.
URL:https://westoverepiscopalchurch.org/event/meals-on-wheels/2028-08-01/
END:VEVENT
BEGIN:VEVENT
DTSTART;TZID=America/New_York:20280802T090000
DTEND;TZID=America/New_York:20280802T110000
DTSTAMP:20260425T114000
CREATED:20230113T145846Z
LAST-MODIFIED:20230113T145846Z
UID:10003768-1848819600-1848826800@westoverepiscopalchurch.org
SUMMARY:Meals on Wheels
DESCRIPTION:Meals On Wheels (MOW) serves hot\, nutritious meals to the homebound elderly and/or disabled Monday through Friday.
URL:https://westoverepiscopalchurch.org/event/meals-on-wheels/2028-08-02/
END:VEVENT
BEGIN:VEVENT
DTSTART;TZID=America/New_York:20280803T090000
DTEND;TZID=America/New_York:20280803T110000
DTSTAMP:20260425T114000
CREATED:20230113T145846Z
LAST-MODIFIED:20230113T145846Z
UID:10003769-1848906000-1848913200@westoverepiscopalchurch.org
SUMMARY:Meals on Wheels
DESCRIPTION:Meals On Wheels (MOW) serves hot\, nutritious meals to the homebound elderly and/or disabled Monday through Friday.
URL:https://westoverepiscopalchurch.org/event/meals-on-wheels/2028-08-03/
END:VEVENT
BEGIN:VEVENT
DTSTART;TZID=America/New_York:20280804T090000
DTEND;TZID=America/New_York:20280804T110000
DTSTAMP:20260425T114000
CREATED:20230113T145846Z
LAST-MODIFIED:20230113T145846Z
UID:10003770-1848992400-1848999600@westoverepiscopalchurch.org
SUMMARY:Meals on Wheels
DESCRIPTION:Meals On Wheels (MOW) serves hot\, nutritious meals to the homebound elderly and/or disabled Monday through Friday.
URL:https://westoverepiscopalchurch.org/event/meals-on-wheels/2028-08-04/
END:VEVENT
BEGIN:VEVENT
DTSTART;TZID=America/New_York:20280807T090000
DTEND;TZID=America/New_York:20280807T110000
DTSTAMP:20260425T114000
CREATED:20230113T145846Z
LAST-MODIFIED:20230113T145846Z
UID:10003771-1849251600-1849258800@westoverepiscopalchurch.org
SUMMARY:Meals on Wheels
DESCRIPTION:Meals On Wheels (MOW) serves hot\, nutritious meals to the homebound elderly and/or disabled Monday through Friday.
URL:https://westoverepiscopalchurch.org/event/meals-on-wheels/2028-08-07/
END:VEVENT
BEGIN:VEVENT
DTSTART;TZID=America/New_York:20280808T090000
DTEND;TZID=America/New_York:20280808T110000
DTSTAMP:20260425T114000
CREATED:20230113T145846Z
LAST-MODIFIED:20230113T145846Z
UID:10003772-1849338000-1849345200@westoverepiscopalchurch.org
SUMMARY:Meals on Wheels
DESCRIPTION:Meals On Wheels (MOW) serves hot\, nutritious meals to the homebound elderly and/or disabled Monday through Friday.
URL:https://westoverepiscopalchurch.org/event/meals-on-wheels/2028-08-08/
END:VEVENT
BEGIN:VEVENT
DTSTART;TZID=America/New_York:20280809T090000
DTEND;TZID=America/New_York:20280809T110000
DTSTAMP:20260425T114000
CREATED:20230113T145846Z
LAST-MODIFIED:20230113T145846Z
UID:10003773-1849424400-1849431600@westoverepiscopalchurch.org
SUMMARY:Meals on Wheels
DESCRIPTION:Meals On Wheels (MOW) serves hot\, nutritious meals to the homebound elderly and/or disabled Monday through Friday.
URL:https://westoverepiscopalchurch.org/event/meals-on-wheels/2028-08-09/
END:VEVENT
BEGIN:VEVENT
DTSTART;TZID=America/New_York:20280810T090000
DTEND;TZID=America/New_York:20280810T110000
DTSTAMP:20260425T114000
CREATED:20230113T145846Z
LAST-MODIFIED:20230113T145846Z
UID:10003774-1849510800-1849518000@westoverepiscopalchurch.org
SUMMARY:Meals on Wheels
DESCRIPTION:Meals On Wheels (MOW) serves hot\, nutritious meals to the homebound elderly and/or disabled Monday through Friday.
URL:https://westoverepiscopalchurch.org/event/meals-on-wheels/2028-08-10/
END:VEVENT
BEGIN:VEVENT
DTSTART;TZID=America/New_York:20280811T090000
DTEND;TZID=America/New_York:20280811T110000
DTSTAMP:20260425T114000
CREATED:20230113T145846Z
LAST-MODIFIED:20230113T145846Z
UID:10003775-1849597200-1849604400@westoverepiscopalchurch.org
SUMMARY:Meals on Wheels
DESCRIPTION:Meals On Wheels (MOW) serves hot\, nutritious meals to the homebound elderly and/or disabled Monday through Friday.
URL:https://westoverepiscopalchurch.org/event/meals-on-wheels/2028-08-11/
END:VEVENT
BEGIN:VEVENT
DTSTART;TZID=America/New_York:20280814T090000
DTEND;TZID=America/New_York:20280814T110000
DTSTAMP:20260425T114000
CREATED:20230113T145846Z
LAST-MODIFIED:20230113T145846Z
UID:10003776-1849856400-1849863600@westoverepiscopalchurch.org
SUMMARY:Meals on Wheels
DESCRIPTION:Meals On Wheels (MOW) serves hot\, nutritious meals to the homebound elderly and/or disabled Monday through Friday.
URL:https://westoverepiscopalchurch.org/event/meals-on-wheels/2028-08-14/
END:VEVENT
BEGIN:VEVENT
DTSTART;TZID=America/New_York:20280815T090000
DTEND;TZID=America/New_York:20280815T110000
DTSTAMP:20260425T114000
CREATED:20230113T145846Z
LAST-MODIFIED:20230113T145846Z
UID:10003777-1849942800-1849950000@westoverepiscopalchurch.org
SUMMARY:Meals on Wheels
DESCRIPTION:Meals On Wheels (MOW) serves hot\, nutritious meals to the homebound elderly and/or disabled Monday through Friday.
URL:https://westoverepiscopalchurch.org/event/meals-on-wheels/2028-08-15/
END:VEVENT
BEGIN:VEVENT
DTSTART;TZID=America/New_York:20280816T090000
DTEND;TZID=America/New_York:20280816T110000
DTSTAMP:20260425T114000
CREATED:20230113T145846Z
LAST-MODIFIED:20230113T145846Z
UID:10003778-1850029200-1850036400@westoverepiscopalchurch.org
SUMMARY:Meals on Wheels
DESCRIPTION:Meals On Wheels (MOW) serves hot\, nutritious meals to the homebound elderly and/or disabled Monday through Friday.
URL:https://westoverepiscopalchurch.org/event/meals-on-wheels/2028-08-16/
END:VEVENT
BEGIN:VEVENT
DTSTART;TZID=America/New_York:20280817T090000
DTEND;TZID=America/New_York:20280817T110000
DTSTAMP:20260425T114000
CREATED:20230113T145846Z
LAST-MODIFIED:20230113T145846Z
UID:10003779-1850115600-1850122800@westoverepiscopalchurch.org
SUMMARY:Meals on Wheels
DESCRIPTION:Meals On Wheels (MOW) serves hot\, nutritious meals to the homebound elderly and/or disabled Monday through Friday.
URL:https://westoverepiscopalchurch.org/event/meals-on-wheels/2028-08-17/
END:VEVENT
BEGIN:VEVENT
DTSTART;TZID=America/New_York:20280818T090000
DTEND;TZID=America/New_York:20280818T110000
DTSTAMP:20260425T114000
CREATED:20230113T145846Z
LAST-MODIFIED:20230113T145846Z
UID:10003780-1850202000-1850209200@westoverepiscopalchurch.org
SUMMARY:Meals on Wheels
DESCRIPTION:Meals On Wheels (MOW) serves hot\, nutritious meals to the homebound elderly and/or disabled Monday through Friday.
URL:https://westoverepiscopalchurch.org/event/meals-on-wheels/2028-08-18/
END:VEVENT
BEGIN:VEVENT
DTSTART;TZID=America/New_York:20280821T090000
DTEND;TZID=America/New_York:20280821T110000
DTSTAMP:20260425T114000
CREATED:20230113T145846Z
LAST-MODIFIED:20230113T145846Z
UID:10003781-1850461200-1850468400@westoverepiscopalchurch.org
SUMMARY:Meals on Wheels
DESCRIPTION:Meals On Wheels (MOW) serves hot\, nutritious meals to the homebound elderly and/or disabled Monday through Friday.
URL:https://westoverepiscopalchurch.org/event/meals-on-wheels/2028-08-21/
END:VEVENT
BEGIN:VEVENT
DTSTART;TZID=America/New_York:20280822T090000
DTEND;TZID=America/New_York:20280822T110000
DTSTAMP:20260425T114000
CREATED:20230113T145846Z
LAST-MODIFIED:20230113T145846Z
UID:10003782-1850547600-1850554800@westoverepiscopalchurch.org
SUMMARY:Meals on Wheels
DESCRIPTION:Meals On Wheels (MOW) serves hot\, nutritious meals to the homebound elderly and/or disabled Monday through Friday.
URL:https://westoverepiscopalchurch.org/event/meals-on-wheels/2028-08-22/
END:VEVENT
BEGIN:VEVENT
DTSTART;TZID=America/New_York:20280823T090000
DTEND;TZID=America/New_York:20280823T110000
DTSTAMP:20260425T114000
CREATED:20230113T145846Z
LAST-MODIFIED:20230113T145846Z
UID:10003783-1850634000-1850641200@westoverepiscopalchurch.org
SUMMARY:Meals on Wheels
DESCRIPTION:Meals On Wheels (MOW) serves hot\, nutritious meals to the homebound elderly and/or disabled Monday through Friday.
URL:https://westoverepiscopalchurch.org/event/meals-on-wheels/2028-08-23/
END:VEVENT
BEGIN:VEVENT
DTSTART;TZID=America/New_York:20280824T090000
DTEND;TZID=America/New_York:20280824T110000
DTSTAMP:20260425T114000
CREATED:20230113T145846Z
LAST-MODIFIED:20230113T145846Z
UID:10003784-1850720400-1850727600@westoverepiscopalchurch.org
SUMMARY:Meals on Wheels
DESCRIPTION:Meals On Wheels (MOW) serves hot\, nutritious meals to the homebound elderly and/or disabled Monday through Friday.
URL:https://westoverepiscopalchurch.org/event/meals-on-wheels/2028-08-24/
END:VEVENT
BEGIN:VEVENT
DTSTART;TZID=America/New_York:20280825T090000
DTEND;TZID=America/New_York:20280825T110000
DTSTAMP:20260425T114000
CREATED:20230113T145846Z
LAST-MODIFIED:20230113T145846Z
UID:10003785-1850806800-1850814000@westoverepiscopalchurch.org
SUMMARY:Meals on Wheels
DESCRIPTION:Meals On Wheels (MOW) serves hot\, nutritious meals to the homebound elderly and/or disabled Monday through Friday.
URL:https://westoverepiscopalchurch.org/event/meals-on-wheels/2028-08-25/
END:VEVENT
BEGIN:VEVENT
DTSTART;TZID=America/New_York:20280828T090000
DTEND;TZID=America/New_York:20280828T110000
DTSTAMP:20260425T114000
CREATED:20230113T145846Z
LAST-MODIFIED:20230113T145846Z
UID:10003786-1851066000-1851073200@westoverepiscopalchurch.org
SUMMARY:Meals on Wheels
DESCRIPTION:Meals On Wheels (MOW) serves hot\, nutritious meals to the homebound elderly and/or disabled Monday through Friday.
URL:https://westoverepiscopalchurch.org/event/meals-on-wheels/2028-08-28/
END:VEVENT
BEGIN:VEVENT
DTSTART;TZID=America/New_York:20280829T090000
DTEND;TZID=America/New_York:20280829T110000
DTSTAMP:20260425T114000
CREATED:20230113T145846Z
LAST-MODIFIED:20230113T145846Z
UID:10003787-1851152400-1851159600@westoverepiscopalchurch.org
SUMMARY:Meals on Wheels
DESCRIPTION:Meals On Wheels (MOW) serves hot\, nutritious meals to the homebound elderly and/or disabled Monday through Friday.
URL:https://westoverepiscopalchurch.org/event/meals-on-wheels/2028-08-29/
END:VEVENT
BEGIN:VEVENT
DTSTART;TZID=America/New_York:20280830T090000
DTEND;TZID=America/New_York:20280830T110000
DTSTAMP:20260425T114000
CREATED:20230113T145846Z
LAST-MODIFIED:20230113T145846Z
UID:10003788-1851238800-1851246000@westoverepiscopalchurch.org
SUMMARY:Meals on Wheels
DESCRIPTION:Meals On Wheels (MOW) serves hot\, nutritious meals to the homebound elderly and/or disabled Monday through Friday.
URL:https://westoverepiscopalchurch.org/event/meals-on-wheels/2028-08-30/
END:VEVENT
BEGIN:VEVENT
DTSTART;TZID=America/New_York:20280831T090000
DTEND;TZID=America/New_York:20280831T110000
DTSTAMP:20260425T114000
CREATED:20230113T145846Z
LAST-MODIFIED:20230113T145846Z
UID:10003789-1851325200-1851332400@westoverepiscopalchurch.org
SUMMARY:Meals on Wheels
DESCRIPTION:Meals On Wheels (MOW) serves hot\, nutritious meals to the homebound elderly and/or disabled Monday through Friday.
URL:https://westoverepiscopalchurch.org/event/meals-on-wheels/2028-08-31/
END:VEVENT
BEGIN:VEVENT
DTSTART;TZID=America/New_York:20280901T090000
DTEND;TZID=America/New_York:20280901T110000
DTSTAMP:20260425T114000
CREATED:20230113T145846Z
LAST-MODIFIED:20230113T145846Z
UID:10003790-1851411600-1851418800@westoverepiscopalchurch.org
SUMMARY:Meals on Wheels
DESCRIPTION:Meals On Wheels (MOW) serves hot\, nutritious meals to the homebound elderly and/or disabled Monday through Friday.
URL:https://westoverepiscopalchurch.org/event/meals-on-wheels/2028-09-01/
END:VEVENT
BEGIN:VEVENT
DTSTART;TZID=America/New_York:20280904T090000
DTEND;TZID=America/New_York:20280904T110000
DTSTAMP:20260425T114000
CREATED:20230113T145846Z
LAST-MODIFIED:20230113T145846Z
UID:10003791-1851670800-1851678000@westoverepiscopalchurch.org
SUMMARY:Meals on Wheels
DESCRIPTION:Meals On Wheels (MOW) serves hot\, nutritious meals to the homebound elderly and/or disabled Monday through Friday.
URL:https://westoverepiscopalchurch.org/event/meals-on-wheels/2028-09-04/
END:VEVENT
BEGIN:VEVENT
DTSTART;TZID=America/New_York:20280905T090000
DTEND;TZID=America/New_York:20280905T110000
DTSTAMP:20260425T114000
CREATED:20230113T145846Z
LAST-MODIFIED:20230113T145846Z
UID:10003792-1851757200-1851764400@westoverepiscopalchurch.org
SUMMARY:Meals on Wheels
DESCRIPTION:Meals On Wheels (MOW) serves hot\, nutritious meals to the homebound elderly and/or disabled Monday through Friday.
URL:https://westoverepiscopalchurch.org/event/meals-on-wheels/2028-09-05/
END:VEVENT
BEGIN:VEVENT
DTSTART;TZID=America/New_York:20280906T090000
DTEND;TZID=America/New_York:20280906T110000
DTSTAMP:20260425T114000
CREATED:20230113T145846Z
LAST-MODIFIED:20230113T145846Z
UID:10003793-1851843600-1851850800@westoverepiscopalchurch.org
SUMMARY:Meals on Wheels
DESCRIPTION:Meals On Wheels (MOW) serves hot\, nutritious meals to the homebound elderly and/or disabled Monday through Friday.
URL:https://westoverepiscopalchurch.org/event/meals-on-wheels/2028-09-06/
END:VEVENT
BEGIN:VEVENT
DTSTART;TZID=America/New_York:20280907T090000
DTEND;TZID=America/New_York:20280907T110000
DTSTAMP:20260425T114000
CREATED:20230113T145846Z
LAST-MODIFIED:20230113T145846Z
UID:10003794-1851930000-1851937200@westoverepiscopalchurch.org
SUMMARY:Meals on Wheels
DESCRIPTION:Meals On Wheels (MOW) serves hot\, nutritious meals to the homebound elderly and/or disabled Monday through Friday.
URL:https://westoverepiscopalchurch.org/event/meals-on-wheels/2028-09-07/
END:VEVENT
BEGIN:VEVENT
DTSTART;TZID=America/New_York:20280908T090000
DTEND;TZID=America/New_York:20280908T110000
DTSTAMP:20260425T114000
CREATED:20230113T145846Z
LAST-MODIFIED:20230113T145846Z
UID:10003795-1852016400-1852023600@westoverepiscopalchurch.org
SUMMARY:Meals on Wheels
DESCRIPTION:Meals On Wheels (MOW) serves hot\, nutritious meals to the homebound elderly and/or disabled Monday through Friday.
URL:https://westoverepiscopalchurch.org/event/meals-on-wheels/2028-09-08/
END:VEVENT
BEGIN:VEVENT
DTSTART;TZID=America/New_York:20280911T090000
DTEND;TZID=America/New_York:20280911T110000
DTSTAMP:20260425T114000
CREATED:20230113T145846Z
LAST-MODIFIED:20230113T145846Z
UID:10003796-1852275600-1852282800@westoverepiscopalchurch.org
SUMMARY:Meals on Wheels
DESCRIPTION:Meals On Wheels (MOW) serves hot\, nutritious meals to the homebound elderly and/or disabled Monday through Friday.
URL:https://westoverepiscopalchurch.org/event/meals-on-wheels/2028-09-11/
END:VEVENT
END:VCALENDAR