BEGIN:VCALENDAR
VERSION:2.0
PRODID:-//Westover Episcopal Church - Charles City, VA - ECPv6.15.20//NONSGML v1.0//EN
CALSCALE:GREGORIAN
METHOD:PUBLISH
X-ORIGINAL-URL:https://westoverepiscopalchurch.org
X-WR-CALDESC:Events for Westover Episcopal Church - Charles City, VA
REFRESH-INTERVAL;VALUE=DURATION:PT1H
X-Robots-Tag:noindex
X-PUBLISHED-TTL:PT1H
BEGIN:VTIMEZONE
TZID:America/New_York
BEGIN:DAYLIGHT
TZOFFSETFROM:-0500
TZOFFSETTO:-0400
TZNAME:EDT
DTSTART:20230312T070000
END:DAYLIGHT
BEGIN:STANDARD
TZOFFSETFROM:-0400
TZOFFSETTO:-0500
TZNAME:EST
DTSTART:20231105T060000
END:STANDARD
BEGIN:DAYLIGHT
TZOFFSETFROM:-0500
TZOFFSETTO:-0400
TZNAME:EDT
DTSTART:20240310T070000
END:DAYLIGHT
BEGIN:STANDARD
TZOFFSETFROM:-0400
TZOFFSETTO:-0500
TZNAME:EST
DTSTART:20241103T060000
END:STANDARD
BEGIN:DAYLIGHT
TZOFFSETFROM:-0500
TZOFFSETTO:-0400
TZNAME:EDT
DTSTART:20250309T070000
END:DAYLIGHT
BEGIN:STANDARD
TZOFFSETFROM:-0400
TZOFFSETTO:-0500
TZNAME:EST
DTSTART:20251102T060000
END:STANDARD
END:VTIMEZONE
BEGIN:VEVENT
DTSTART;TZID=America/New_York:20240926T090000
DTEND;TZID=America/New_York:20240926T110000
DTSTAMP:20260425T065148
CREATED:20240105T180517Z
LAST-MODIFIED:20240105T180520Z
UID:10001378-1727341200-1727348400@westoverepiscopalchurch.org
SUMMARY:Meals on Wheels
DESCRIPTION:
URL:https://westoverepiscopalchurch.org/event/meals-on-wheels-3-2/2024-09-26/
END:VEVENT
BEGIN:VEVENT
DTSTART;TZID=America/New_York:20240926T100000
DTEND;TZID=America/New_York:20240926T110000
DTSTAMP:20260425T065148
CREATED:20230712T204456Z
LAST-MODIFIED:20230712T204456Z
UID:10001150-1727344800-1727348400@westoverepiscopalchurch.org
SUMMARY:Gentle Yoga with Rev. Becky
DESCRIPTION:
URL:https://westoverepiscopalchurch.org/event/gentle-yoga-with-rev-becky-3/2024-09-26/
END:VEVENT
BEGIN:VEVENT
DTSTART;TZID=America/New_York:20240927T090000
DTEND;TZID=America/New_York:20240927T110000
DTSTAMP:20260425T065148
CREATED:20230113T145846Z
LAST-MODIFIED:20230113T145846Z
UID:10002765-1727427600-1727434800@westoverepiscopalchurch.org
SUMMARY:Meals on Wheels
DESCRIPTION:Meals On Wheels (MOW) serves hot\, nutritious meals to the homebound elderly and/or disabled Monday through Friday.
URL:https://westoverepiscopalchurch.org/event/meals-on-wheels/2024-09-27/
END:VEVENT
BEGIN:VEVENT
DTSTART;TZID=America/New_York:20240927T090000
DTEND;TZID=America/New_York:20240927T110000
DTSTAMP:20260425T065148
CREATED:20240105T180517Z
LAST-MODIFIED:20240105T180520Z
UID:10001379-1727427600-1727434800@westoverepiscopalchurch.org
SUMMARY:Meals on Wheels
DESCRIPTION:
URL:https://westoverepiscopalchurch.org/event/meals-on-wheels-3-2/2024-09-27/
END:VEVENT
BEGIN:VEVENT
DTSTART;TZID=America/New_York:20240928T090000
DTEND;TZID=America/New_York:20240928T160000
DTSTAMP:20260425T065148
CREATED:20240924T180016Z
LAST-MODIFIED:20240924T180016Z
UID:10001511-1727514000-1727539200@westoverepiscopalchurch.org
SUMMARY:Autumn Pilgrimage House Tour
DESCRIPTION:For more information\, go Autumn Pilgrimage House Tour
URL:https://westoverepiscopalchurch.org/event/autumn-pilgrimage-house-tour-2/
END:VEVENT
BEGIN:VEVENT
DTSTART;TZID=America/New_York:20240929T100000
DTEND;TZID=America/New_York:20240929T110000
DTSTAMP:20260425T065148
CREATED:20240924T173842Z
LAST-MODIFIED:20240924T173842Z
UID:10001487-1727604000-1727607600@westoverepiscopalchurch.org
SUMMARY:Nineteenth Sunday after Pentecost Service
DESCRIPTION:
URL:https://westoverepiscopalchurch.org/event/nineteenth-sunday-after-pentecost-service-2/
END:VEVENT
BEGIN:VEVENT
DTSTART;TZID=America/New_York:20240930T090000
DTEND;TZID=America/New_York:20240930T110000
DTSTAMP:20260425T065148
CREATED:20230113T145846Z
LAST-MODIFIED:20230113T145846Z
UID:10002766-1727686800-1727694000@westoverepiscopalchurch.org
SUMMARY:Meals on Wheels
DESCRIPTION:Meals On Wheels (MOW) serves hot\, nutritious meals to the homebound elderly and/or disabled Monday through Friday.
URL:https://westoverepiscopalchurch.org/event/meals-on-wheels/2024-09-30/
END:VEVENT
BEGIN:VEVENT
DTSTART;TZID=America/New_York:20240930T090000
DTEND;TZID=America/New_York:20240930T110000
DTSTAMP:20260425T065148
CREATED:20240105T180517Z
LAST-MODIFIED:20240105T180520Z
UID:10001380-1727686800-1727694000@westoverepiscopalchurch.org
SUMMARY:Meals on Wheels
DESCRIPTION:
URL:https://westoverepiscopalchurch.org/event/meals-on-wheels-3-2/2024-09-30/
END:VEVENT
BEGIN:VEVENT
DTSTART;TZID=America/New_York:20241001T090000
DTEND;TZID=America/New_York:20241001T110000
DTSTAMP:20260425T065148
CREATED:20230113T145846Z
LAST-MODIFIED:20230113T145846Z
UID:10002767-1727773200-1727780400@westoverepiscopalchurch.org
SUMMARY:Meals on Wheels
DESCRIPTION:Meals On Wheels (MOW) serves hot\, nutritious meals to the homebound elderly and/or disabled Monday through Friday.
URL:https://westoverepiscopalchurch.org/event/meals-on-wheels/2024-10-01/
END:VEVENT
BEGIN:VEVENT
DTSTART;TZID=America/New_York:20241001T090000
DTEND;TZID=America/New_York:20241001T110000
DTSTAMP:20260425T065148
CREATED:20240105T180517Z
LAST-MODIFIED:20240105T180520Z
UID:10001381-1727773200-1727780400@westoverepiscopalchurch.org
SUMMARY:Meals on Wheels
DESCRIPTION:
URL:https://westoverepiscopalchurch.org/event/meals-on-wheels-3-2/2024-10-01/
END:VEVENT
BEGIN:VEVENT
DTSTART;TZID=America/New_York:20241002T090000
DTEND;TZID=America/New_York:20241002T110000
DTSTAMP:20260425T065148
CREATED:20230113T145846Z
LAST-MODIFIED:20230113T145846Z
UID:10002768-1727859600-1727866800@westoverepiscopalchurch.org
SUMMARY:Meals on Wheels
DESCRIPTION:Meals On Wheels (MOW) serves hot\, nutritious meals to the homebound elderly and/or disabled Monday through Friday.
URL:https://westoverepiscopalchurch.org/event/meals-on-wheels/2024-10-02/
END:VEVENT
BEGIN:VEVENT
DTSTART;TZID=America/New_York:20241002T090000
DTEND;TZID=America/New_York:20241002T110000
DTSTAMP:20260425T065148
CREATED:20240105T180517Z
LAST-MODIFIED:20240105T180520Z
UID:10001382-1727859600-1727866800@westoverepiscopalchurch.org
SUMMARY:Meals on Wheels
DESCRIPTION:
URL:https://westoverepiscopalchurch.org/event/meals-on-wheels-3-2/2024-10-02/
END:VEVENT
BEGIN:VEVENT
DTSTART;TZID=America/New_York:20241003T090000
DTEND;TZID=America/New_York:20241003T110000
DTSTAMP:20260425T065148
CREATED:20230113T145846Z
LAST-MODIFIED:20230113T145846Z
UID:10002769-1727946000-1727953200@westoverepiscopalchurch.org
SUMMARY:Meals on Wheels
DESCRIPTION:Meals On Wheels (MOW) serves hot\, nutritious meals to the homebound elderly and/or disabled Monday through Friday.
URL:https://westoverepiscopalchurch.org/event/meals-on-wheels/2024-10-03/
END:VEVENT
BEGIN:VEVENT
DTSTART;TZID=America/New_York:20241003T090000
DTEND;TZID=America/New_York:20241003T110000
DTSTAMP:20260425T065148
CREATED:20240105T180517Z
LAST-MODIFIED:20240105T180520Z
UID:10001383-1727946000-1727953200@westoverepiscopalchurch.org
SUMMARY:Meals on Wheels
DESCRIPTION:
URL:https://westoverepiscopalchurch.org/event/meals-on-wheels-3-2/2024-10-03/
END:VEVENT
BEGIN:VEVENT
DTSTART;TZID=America/New_York:20241003T100000
DTEND;TZID=America/New_York:20241003T110000
DTSTAMP:20260425T065148
CREATED:20240924T175803Z
LAST-MODIFIED:20240924T175803Z
UID:10001503-1727949600-1727953200@westoverepiscopalchurch.org
SUMMARY:Gentle Yoga with Rev. Becky
DESCRIPTION:
URL:https://westoverepiscopalchurch.org/event/gentle-yoga-with-rev-becky-4/2024-10-03/
END:VEVENT
BEGIN:VEVENT
DTSTART;TZID=America/New_York:20241004T090000
DTEND;TZID=America/New_York:20241004T110000
DTSTAMP:20260425T065148
CREATED:20230113T145846Z
LAST-MODIFIED:20230113T145846Z
UID:10002770-1728032400-1728039600@westoverepiscopalchurch.org
SUMMARY:Meals on Wheels
DESCRIPTION:Meals On Wheels (MOW) serves hot\, nutritious meals to the homebound elderly and/or disabled Monday through Friday.
URL:https://westoverepiscopalchurch.org/event/meals-on-wheels/2024-10-04/
END:VEVENT
BEGIN:VEVENT
DTSTART;TZID=America/New_York:20241004T090000
DTEND;TZID=America/New_York:20241004T110000
DTSTAMP:20260425T065148
CREATED:20240105T180517Z
LAST-MODIFIED:20240105T180520Z
UID:10001384-1728032400-1728039600@westoverepiscopalchurch.org
SUMMARY:Meals on Wheels
DESCRIPTION:
URL:https://westoverepiscopalchurch.org/event/meals-on-wheels-3-2/2024-10-04/
END:VEVENT
BEGIN:VEVENT
DTSTART;TZID=America/New_York:20241006T100000
DTEND;TZID=America/New_York:20241006T110000
DTSTAMP:20260425T065148
CREATED:20240924T174002Z
LAST-MODIFIED:20240924T174002Z
UID:10001488-1728208800-1728212400@westoverepiscopalchurch.org
SUMMARY:Blessing of the Animals Service
DESCRIPTION:The Blessing of the Animals service will take place outside in front of the Church.  All animals are welcome to this service.
URL:https://westoverepiscopalchurch.org/event/blessing-of-the-animals-service-2/
END:VEVENT
BEGIN:VEVENT
DTSTART;TZID=America/New_York:20241007T090000
DTEND;TZID=America/New_York:20241007T110000
DTSTAMP:20260425T065148
CREATED:20230113T145846Z
LAST-MODIFIED:20230113T145846Z
UID:10002771-1728291600-1728298800@westoverepiscopalchurch.org
SUMMARY:Meals on Wheels
DESCRIPTION:Meals On Wheels (MOW) serves hot\, nutritious meals to the homebound elderly and/or disabled Monday through Friday.
URL:https://westoverepiscopalchurch.org/event/meals-on-wheels/2024-10-07/
END:VEVENT
BEGIN:VEVENT
DTSTART;TZID=America/New_York:20241007T090000
DTEND;TZID=America/New_York:20241007T110000
DTSTAMP:20260425T065148
CREATED:20240105T180517Z
LAST-MODIFIED:20240105T180520Z
UID:10001385-1728291600-1728298800@westoverepiscopalchurch.org
SUMMARY:Meals on Wheels
DESCRIPTION:
URL:https://westoverepiscopalchurch.org/event/meals-on-wheels-3-2/2024-10-07/
END:VEVENT
BEGIN:VEVENT
DTSTART;TZID=America/New_York:20241008T090000
DTEND;TZID=America/New_York:20241008T110000
DTSTAMP:20260425T065148
CREATED:20230113T145846Z
LAST-MODIFIED:20230113T145846Z
UID:10002772-1728378000-1728385200@westoverepiscopalchurch.org
SUMMARY:Meals on Wheels
DESCRIPTION:Meals On Wheels (MOW) serves hot\, nutritious meals to the homebound elderly and/or disabled Monday through Friday.
URL:https://westoverepiscopalchurch.org/event/meals-on-wheels/2024-10-08/
END:VEVENT
BEGIN:VEVENT
DTSTART;TZID=America/New_York:20241008T090000
DTEND;TZID=America/New_York:20241008T110000
DTSTAMP:20260425T065148
CREATED:20240105T180517Z
LAST-MODIFIED:20240105T180520Z
UID:10001386-1728378000-1728385200@westoverepiscopalchurch.org
SUMMARY:Meals on Wheels
DESCRIPTION:
URL:https://westoverepiscopalchurch.org/event/meals-on-wheels-3-2/2024-10-08/
END:VEVENT
BEGIN:VEVENT
DTSTART;TZID=America/New_York:20241009T090000
DTEND;TZID=America/New_York:20241009T110000
DTSTAMP:20260425T065148
CREATED:20230113T145846Z
LAST-MODIFIED:20230113T145846Z
UID:10002773-1728464400-1728471600@westoverepiscopalchurch.org
SUMMARY:Meals on Wheels
DESCRIPTION:Meals On Wheels (MOW) serves hot\, nutritious meals to the homebound elderly and/or disabled Monday through Friday.
URL:https://westoverepiscopalchurch.org/event/meals-on-wheels/2024-10-09/
END:VEVENT
BEGIN:VEVENT
DTSTART;TZID=America/New_York:20241009T090000
DTEND;TZID=America/New_York:20241009T110000
DTSTAMP:20260425T065148
CREATED:20240105T180517Z
LAST-MODIFIED:20240105T180520Z
UID:10001387-1728464400-1728471600@westoverepiscopalchurch.org
SUMMARY:Meals on Wheels
DESCRIPTION:
URL:https://westoverepiscopalchurch.org/event/meals-on-wheels-3-2/2024-10-09/
END:VEVENT
BEGIN:VEVENT
DTSTART;TZID=America/New_York:20241010T090000
DTEND;TZID=America/New_York:20241010T110000
DTSTAMP:20260425T065148
CREATED:20230113T145846Z
LAST-MODIFIED:20230113T145846Z
UID:10002774-1728550800-1728558000@westoverepiscopalchurch.org
SUMMARY:Meals on Wheels
DESCRIPTION:Meals On Wheels (MOW) serves hot\, nutritious meals to the homebound elderly and/or disabled Monday through Friday.
URL:https://westoverepiscopalchurch.org/event/meals-on-wheels/2024-10-10/
END:VEVENT
BEGIN:VEVENT
DTSTART;TZID=America/New_York:20241010T090000
DTEND;TZID=America/New_York:20241010T110000
DTSTAMP:20260425T065148
CREATED:20240105T180517Z
LAST-MODIFIED:20240105T180520Z
UID:10001388-1728550800-1728558000@westoverepiscopalchurch.org
SUMMARY:Meals on Wheels
DESCRIPTION:
URL:https://westoverepiscopalchurch.org/event/meals-on-wheels-3-2/2024-10-10/
END:VEVENT
BEGIN:VEVENT
DTSTART;TZID=America/New_York:20241010T100000
DTEND;TZID=America/New_York:20241010T110000
DTSTAMP:20260425T065148
CREATED:20240924T175803Z
LAST-MODIFIED:20240924T175803Z
UID:10001504-1728554400-1728558000@westoverepiscopalchurch.org
SUMMARY:Gentle Yoga with Rev. Becky
DESCRIPTION:
URL:https://westoverepiscopalchurch.org/event/gentle-yoga-with-rev-becky-4/2024-10-10/
END:VEVENT
BEGIN:VEVENT
DTSTART;TZID=America/New_York:20241011T090000
DTEND;TZID=America/New_York:20241011T110000
DTSTAMP:20260425T065148
CREATED:20230113T145846Z
LAST-MODIFIED:20230113T145846Z
UID:10002775-1728637200-1728644400@westoverepiscopalchurch.org
SUMMARY:Meals on Wheels
DESCRIPTION:Meals On Wheels (MOW) serves hot\, nutritious meals to the homebound elderly and/or disabled Monday through Friday.
URL:https://westoverepiscopalchurch.org/event/meals-on-wheels/2024-10-11/
END:VEVENT
BEGIN:VEVENT
DTSTART;TZID=America/New_York:20241011T090000
DTEND;TZID=America/New_York:20241011T110000
DTSTAMP:20260425T065148
CREATED:20240105T180517Z
LAST-MODIFIED:20240105T180520Z
UID:10001389-1728637200-1728644400@westoverepiscopalchurch.org
SUMMARY:Meals on Wheels
DESCRIPTION:
URL:https://westoverepiscopalchurch.org/event/meals-on-wheels-3-2/2024-10-11/
END:VEVENT
BEGIN:VEVENT
DTSTART;TZID=America/New_York:20241013T100000
DTEND;TZID=America/New_York:20241013T110000
DTSTAMP:20260425T065148
CREATED:20240924T174047Z
LAST-MODIFIED:20240924T174047Z
UID:10001489-1728813600-1728817200@westoverepiscopalchurch.org
SUMMARY:Twenty-first Sunday after Pentecost Service
DESCRIPTION:
URL:https://westoverepiscopalchurch.org/event/twenty-first-sunday-after-pentecost-service-2/
END:VEVENT
END:VCALENDAR