BEGIN:VCALENDAR
VERSION:2.0
PRODID:-//Westover Episcopal Church - Charles City, VA - ECPv6.15.20//NONSGML v1.0//EN
CALSCALE:GREGORIAN
METHOD:PUBLISH
X-ORIGINAL-URL:https://westoverepiscopalchurch.org
X-WR-CALDESC:Events for Westover Episcopal Church - Charles City, VA
REFRESH-INTERVAL;VALUE=DURATION:PT1H
X-Robots-Tag:noindex
X-PUBLISHED-TTL:PT1H
BEGIN:VTIMEZONE
TZID:America/New_York
BEGIN:DAYLIGHT
TZOFFSETFROM:-0500
TZOFFSETTO:-0400
TZNAME:EDT
DTSTART:20240310T070000
END:DAYLIGHT
BEGIN:STANDARD
TZOFFSETFROM:-0400
TZOFFSETTO:-0500
TZNAME:EST
DTSTART:20241103T060000
END:STANDARD
BEGIN:DAYLIGHT
TZOFFSETFROM:-0500
TZOFFSETTO:-0400
TZNAME:EDT
DTSTART:20250309T070000
END:DAYLIGHT
BEGIN:STANDARD
TZOFFSETFROM:-0400
TZOFFSETTO:-0500
TZNAME:EST
DTSTART:20251102T060000
END:STANDARD
BEGIN:DAYLIGHT
TZOFFSETFROM:-0500
TZOFFSETTO:-0400
TZNAME:EDT
DTSTART:20260308T070000
END:DAYLIGHT
BEGIN:STANDARD
TZOFFSETFROM:-0400
TZOFFSETTO:-0500
TZNAME:EST
DTSTART:20261101T060000
END:STANDARD
END:VTIMEZONE
BEGIN:VEVENT
DTSTART;TZID=America/New_York:20250926T090000
DTEND;TZID=America/New_York:20250926T110000
DTSTAMP:20260424T124328
CREATED:20250103T170003Z
LAST-MODIFIED:20250103T170126Z
UID:10002078-1758877200-1758884400@westoverepiscopalchurch.org
SUMMARY:Meals on Wheels
DESCRIPTION:
URL:https://westoverepiscopalchurch.org/event/meals-on-wheels-2/2025-09-26/
END:VEVENT
BEGIN:VEVENT
DTSTART;TZID=America/New_York:20250927T093000
DTEND;TZID=America/New_York:20250927T160000
DTSTAMP:20260424T124328
CREATED:20250520T134605Z
LAST-MODIFIED:20250730T180406Z
UID:10002182-1758965400-1758988800@westoverepiscopalchurch.org
SUMMARY:Autumn Pilgrimage House Tour
DESCRIPTION:Featuring tours of historic private homes and plantations in Charles City County\, VA.  Westover’s website will be updated in July with tour and ticket information.  For more information\, go to Autumn Pilgrimage House Tour
URL:https://westoverepiscopalchurch.org/event/autumn-pilgrimage-house-tour-3/
END:VEVENT
BEGIN:VEVENT
DTSTART;TZID=America/New_York:20250928T100000
DTEND;TZID=America/New_York:20250928T110000
DTSTAMP:20260424T124328
CREATED:20250724T005443Z
LAST-MODIFIED:20250724T005443Z
UID:10002195-1759053600-1759057200@westoverepiscopalchurch.org
SUMMARY:Sixteenth Sunday after Pentecost Service
DESCRIPTION:
URL:https://westoverepiscopalchurch.org/event/sixteenth-sunday-after-pentecost-service-2/
END:VEVENT
BEGIN:VEVENT
DTSTART;TZID=America/New_York:20250929T090000
DTEND;TZID=America/New_York:20250929T110000
DTSTAMP:20260424T124328
CREATED:20230113T145846Z
LAST-MODIFIED:20230113T145846Z
UID:10003026-1759136400-1759143600@westoverepiscopalchurch.org
SUMMARY:Meals on Wheels
DESCRIPTION:Meals On Wheels (MOW) serves hot\, nutritious meals to the homebound elderly and/or disabled Monday through Friday.
URL:https://westoverepiscopalchurch.org/event/meals-on-wheels/2025-09-29/
END:VEVENT
BEGIN:VEVENT
DTSTART;TZID=America/New_York:20250929T090000
DTEND;TZID=America/New_York:20250929T110000
DTSTAMP:20260424T124328
CREATED:20250103T170003Z
LAST-MODIFIED:20250103T170126Z
UID:10002079-1759136400-1759143600@westoverepiscopalchurch.org
SUMMARY:Meals on Wheels
DESCRIPTION:
URL:https://westoverepiscopalchurch.org/event/meals-on-wheels-2/2025-09-29/
END:VEVENT
BEGIN:VEVENT
DTSTART;TZID=America/New_York:20250930T090000
DTEND;TZID=America/New_York:20250930T110000
DTSTAMP:20260424T124328
CREATED:20230113T145846Z
LAST-MODIFIED:20230113T145846Z
UID:10003027-1759222800-1759230000@westoverepiscopalchurch.org
SUMMARY:Meals on Wheels
DESCRIPTION:Meals On Wheels (MOW) serves hot\, nutritious meals to the homebound elderly and/or disabled Monday through Friday.
URL:https://westoverepiscopalchurch.org/event/meals-on-wheels/2025-09-30/
END:VEVENT
BEGIN:VEVENT
DTSTART;TZID=America/New_York:20250930T090000
DTEND;TZID=America/New_York:20250930T110000
DTSTAMP:20260424T124328
CREATED:20250103T170003Z
LAST-MODIFIED:20250103T170126Z
UID:10002080-1759222800-1759230000@westoverepiscopalchurch.org
SUMMARY:Meals on Wheels
DESCRIPTION:
URL:https://westoverepiscopalchurch.org/event/meals-on-wheels-2/2025-09-30/
END:VEVENT
BEGIN:VEVENT
DTSTART;TZID=America/New_York:20251001T090000
DTEND;TZID=America/New_York:20251001T110000
DTSTAMP:20260424T124328
CREATED:20230113T145846Z
LAST-MODIFIED:20230113T145846Z
UID:10003028-1759309200-1759316400@westoverepiscopalchurch.org
SUMMARY:Meals on Wheels
DESCRIPTION:Meals On Wheels (MOW) serves hot\, nutritious meals to the homebound elderly and/or disabled Monday through Friday.
URL:https://westoverepiscopalchurch.org/event/meals-on-wheels/2025-10-01/
END:VEVENT
BEGIN:VEVENT
DTSTART;TZID=America/New_York:20251001T090000
DTEND;TZID=America/New_York:20251001T110000
DTSTAMP:20260424T124328
CREATED:20250103T170003Z
LAST-MODIFIED:20250103T170126Z
UID:10002081-1759309200-1759316400@westoverepiscopalchurch.org
SUMMARY:Meals on Wheels
DESCRIPTION:
URL:https://westoverepiscopalchurch.org/event/meals-on-wheels-2/2025-10-01/
END:VEVENT
BEGIN:VEVENT
DTSTART;TZID=America/New_York:20251002T090000
DTEND;TZID=America/New_York:20251002T110000
DTSTAMP:20260424T124328
CREATED:20230113T145846Z
LAST-MODIFIED:20230113T145846Z
UID:10003029-1759395600-1759402800@westoverepiscopalchurch.org
SUMMARY:Meals on Wheels
DESCRIPTION:Meals On Wheels (MOW) serves hot\, nutritious meals to the homebound elderly and/or disabled Monday through Friday.
URL:https://westoverepiscopalchurch.org/event/meals-on-wheels/2025-10-02/
END:VEVENT
BEGIN:VEVENT
DTSTART;TZID=America/New_York:20251002T090000
DTEND;TZID=America/New_York:20251002T110000
DTSTAMP:20260424T124328
CREATED:20250103T170003Z
LAST-MODIFIED:20250103T170126Z
UID:10002082-1759395600-1759402800@westoverepiscopalchurch.org
SUMMARY:Meals on Wheels
DESCRIPTION:
URL:https://westoverepiscopalchurch.org/event/meals-on-wheels-2/2025-10-02/
END:VEVENT
BEGIN:VEVENT
DTSTART;TZID=America/New_York:20251002T100000
DTEND;TZID=America/New_York:20251002T110000
DTSTAMP:20260424T124328
CREATED:20241203T183802Z
LAST-MODIFIED:20250520T131430Z
UID:10001605-1759399200-1759402800@westoverepiscopalchurch.org
SUMMARY:Gentle Yoga with Rev. Becky
DESCRIPTION:
URL:https://westoverepiscopalchurch.org/event/gentle-yoga-with-rev-becky-6/2025-10-02/
END:VEVENT
BEGIN:VEVENT
DTSTART;TZID=America/New_York:20251003T090000
DTEND;TZID=America/New_York:20251003T110000
DTSTAMP:20260424T124328
CREATED:20230113T145846Z
LAST-MODIFIED:20230113T145846Z
UID:10003030-1759482000-1759489200@westoverepiscopalchurch.org
SUMMARY:Meals on Wheels
DESCRIPTION:Meals On Wheels (MOW) serves hot\, nutritious meals to the homebound elderly and/or disabled Monday through Friday.
URL:https://westoverepiscopalchurch.org/event/meals-on-wheels/2025-10-03/
END:VEVENT
BEGIN:VEVENT
DTSTART;TZID=America/New_York:20251003T090000
DTEND;TZID=America/New_York:20251003T110000
DTSTAMP:20260424T124328
CREATED:20250103T170003Z
LAST-MODIFIED:20250103T170126Z
UID:10002083-1759482000-1759489200@westoverepiscopalchurch.org
SUMMARY:Meals on Wheels
DESCRIPTION:
URL:https://westoverepiscopalchurch.org/event/meals-on-wheels-2/2025-10-03/
END:VEVENT
BEGIN:VEVENT
DTSTART;TZID=America/New_York:20251006T090000
DTEND;TZID=America/New_York:20251006T110000
DTSTAMP:20260424T124328
CREATED:20230113T145846Z
LAST-MODIFIED:20230113T145846Z
UID:10003031-1759741200-1759748400@westoverepiscopalchurch.org
SUMMARY:Meals on Wheels
DESCRIPTION:Meals On Wheels (MOW) serves hot\, nutritious meals to the homebound elderly and/or disabled Monday through Friday.
URL:https://westoverepiscopalchurch.org/event/meals-on-wheels/2025-10-06/
END:VEVENT
BEGIN:VEVENT
DTSTART;TZID=America/New_York:20251006T090000
DTEND;TZID=America/New_York:20251006T110000
DTSTAMP:20260424T124328
CREATED:20250103T170003Z
LAST-MODIFIED:20250103T170126Z
UID:10002084-1759741200-1759748400@westoverepiscopalchurch.org
SUMMARY:Meals on Wheels
DESCRIPTION:
URL:https://westoverepiscopalchurch.org/event/meals-on-wheels-2/2025-10-06/
END:VEVENT
BEGIN:VEVENT
DTSTART;TZID=America/New_York:20251007T090000
DTEND;TZID=America/New_York:20251007T110000
DTSTAMP:20260424T124328
CREATED:20230113T145846Z
LAST-MODIFIED:20230113T145846Z
UID:10003032-1759827600-1759834800@westoverepiscopalchurch.org
SUMMARY:Meals on Wheels
DESCRIPTION:Meals On Wheels (MOW) serves hot\, nutritious meals to the homebound elderly and/or disabled Monday through Friday.
URL:https://westoverepiscopalchurch.org/event/meals-on-wheels/2025-10-07/
END:VEVENT
BEGIN:VEVENT
DTSTART;TZID=America/New_York:20251007T090000
DTEND;TZID=America/New_York:20251007T110000
DTSTAMP:20260424T124328
CREATED:20250103T170003Z
LAST-MODIFIED:20250103T170126Z
UID:10002085-1759827600-1759834800@westoverepiscopalchurch.org
SUMMARY:Meals on Wheels
DESCRIPTION:
URL:https://westoverepiscopalchurch.org/event/meals-on-wheels-2/2025-10-07/
END:VEVENT
BEGIN:VEVENT
DTSTART;TZID=America/New_York:20251008T090000
DTEND;TZID=America/New_York:20251008T110000
DTSTAMP:20260424T124328
CREATED:20230113T145846Z
LAST-MODIFIED:20230113T145846Z
UID:10003033-1759914000-1759921200@westoverepiscopalchurch.org
SUMMARY:Meals on Wheels
DESCRIPTION:Meals On Wheels (MOW) serves hot\, nutritious meals to the homebound elderly and/or disabled Monday through Friday.
URL:https://westoverepiscopalchurch.org/event/meals-on-wheels/2025-10-08/
END:VEVENT
BEGIN:VEVENT
DTSTART;TZID=America/New_York:20251008T090000
DTEND;TZID=America/New_York:20251008T110000
DTSTAMP:20260424T124328
CREATED:20250103T170003Z
LAST-MODIFIED:20250103T170126Z
UID:10002086-1759914000-1759921200@westoverepiscopalchurch.org
SUMMARY:Meals on Wheels
DESCRIPTION:
URL:https://westoverepiscopalchurch.org/event/meals-on-wheels-2/2025-10-08/
END:VEVENT
BEGIN:VEVENT
DTSTART;TZID=America/New_York:20251009T090000
DTEND;TZID=America/New_York:20251009T110000
DTSTAMP:20260424T124328
CREATED:20230113T145846Z
LAST-MODIFIED:20230113T145846Z
UID:10003034-1760000400-1760007600@westoverepiscopalchurch.org
SUMMARY:Meals on Wheels
DESCRIPTION:Meals On Wheels (MOW) serves hot\, nutritious meals to the homebound elderly and/or disabled Monday through Friday.
URL:https://westoverepiscopalchurch.org/event/meals-on-wheels/2025-10-09/
END:VEVENT
BEGIN:VEVENT
DTSTART;TZID=America/New_York:20251009T090000
DTEND;TZID=America/New_York:20251009T110000
DTSTAMP:20260424T124328
CREATED:20250103T170003Z
LAST-MODIFIED:20250103T170126Z
UID:10002087-1760000400-1760007600@westoverepiscopalchurch.org
SUMMARY:Meals on Wheels
DESCRIPTION:
URL:https://westoverepiscopalchurch.org/event/meals-on-wheels-2/2025-10-09/
END:VEVENT
BEGIN:VEVENT
DTSTART;TZID=America/New_York:20251009T100000
DTEND;TZID=America/New_York:20251009T110000
DTSTAMP:20260424T124328
CREATED:20241203T183802Z
LAST-MODIFIED:20250520T131430Z
UID:10001606-1760004000-1760007600@westoverepiscopalchurch.org
SUMMARY:Gentle Yoga with Rev. Becky
DESCRIPTION:
URL:https://westoverepiscopalchurch.org/event/gentle-yoga-with-rev-becky-6/2025-10-09/
END:VEVENT
BEGIN:VEVENT
DTSTART;TZID=America/New_York:20251010T090000
DTEND;TZID=America/New_York:20251010T110000
DTSTAMP:20260424T124328
CREATED:20230113T145846Z
LAST-MODIFIED:20230113T145846Z
UID:10003035-1760086800-1760094000@westoverepiscopalchurch.org
SUMMARY:Meals on Wheels
DESCRIPTION:Meals On Wheels (MOW) serves hot\, nutritious meals to the homebound elderly and/or disabled Monday through Friday.
URL:https://westoverepiscopalchurch.org/event/meals-on-wheels/2025-10-10/
END:VEVENT
BEGIN:VEVENT
DTSTART;TZID=America/New_York:20251010T090000
DTEND;TZID=America/New_York:20251010T110000
DTSTAMP:20260424T124328
CREATED:20250103T170003Z
LAST-MODIFIED:20250103T170126Z
UID:10002088-1760086800-1760094000@westoverepiscopalchurch.org
SUMMARY:Meals on Wheels
DESCRIPTION:
URL:https://westoverepiscopalchurch.org/event/meals-on-wheels-2/2025-10-10/
END:VEVENT
BEGIN:VEVENT
DTSTART;TZID=America/New_York:20251013T090000
DTEND;TZID=America/New_York:20251013T110000
DTSTAMP:20260424T124328
CREATED:20230113T145846Z
LAST-MODIFIED:20230113T145846Z
UID:10003036-1760346000-1760353200@westoverepiscopalchurch.org
SUMMARY:Meals on Wheels
DESCRIPTION:Meals On Wheels (MOW) serves hot\, nutritious meals to the homebound elderly and/or disabled Monday through Friday.
URL:https://westoverepiscopalchurch.org/event/meals-on-wheels/2025-10-13/
END:VEVENT
BEGIN:VEVENT
DTSTART;TZID=America/New_York:20251013T090000
DTEND;TZID=America/New_York:20251013T110000
DTSTAMP:20260424T124328
CREATED:20250103T170003Z
LAST-MODIFIED:20250103T170126Z
UID:10002089-1760346000-1760353200@westoverepiscopalchurch.org
SUMMARY:Meals on Wheels
DESCRIPTION:
URL:https://westoverepiscopalchurch.org/event/meals-on-wheels-2/2025-10-13/
END:VEVENT
BEGIN:VEVENT
DTSTART;TZID=America/New_York:20251014T090000
DTEND;TZID=America/New_York:20251014T110000
DTSTAMP:20260424T124328
CREATED:20230113T145846Z
LAST-MODIFIED:20230113T145846Z
UID:10003037-1760432400-1760439600@westoverepiscopalchurch.org
SUMMARY:Meals on Wheels
DESCRIPTION:Meals On Wheels (MOW) serves hot\, nutritious meals to the homebound elderly and/or disabled Monday through Friday.
URL:https://westoverepiscopalchurch.org/event/meals-on-wheels/2025-10-14/
END:VEVENT
BEGIN:VEVENT
DTSTART;TZID=America/New_York:20251014T090000
DTEND;TZID=America/New_York:20251014T110000
DTSTAMP:20260424T124328
CREATED:20250103T170003Z
LAST-MODIFIED:20250103T170126Z
UID:10002090-1760432400-1760439600@westoverepiscopalchurch.org
SUMMARY:Meals on Wheels
DESCRIPTION:
URL:https://westoverepiscopalchurch.org/event/meals-on-wheels-2/2025-10-14/
END:VEVENT
BEGIN:VEVENT
DTSTART;TZID=America/New_York:20251015T090000
DTEND;TZID=America/New_York:20251015T110000
DTSTAMP:20260424T124328
CREATED:20230113T145846Z
LAST-MODIFIED:20230113T145846Z
UID:10003038-1760518800-1760526000@westoverepiscopalchurch.org
SUMMARY:Meals on Wheels
DESCRIPTION:Meals On Wheels (MOW) serves hot\, nutritious meals to the homebound elderly and/or disabled Monday through Friday.
URL:https://westoverepiscopalchurch.org/event/meals-on-wheels/2025-10-15/
END:VEVENT
END:VCALENDAR