BEGIN:VCALENDAR
VERSION:2.0
PRODID:-//Westover Episcopal Church - Charles City, VA - ECPv6.15.20//NONSGML v1.0//EN
CALSCALE:GREGORIAN
METHOD:PUBLISH
X-WR-CALNAME:Westover Episcopal Church - Charles City, VA
X-ORIGINAL-URL:https://westoverepiscopalchurch.org
X-WR-CALDESC:Events for Westover Episcopal Church - Charles City, VA
REFRESH-INTERVAL;VALUE=DURATION:PT1H
X-Robots-Tag:noindex
X-PUBLISHED-TTL:PT1H
BEGIN:VTIMEZONE
TZID:America/New_York
BEGIN:DAYLIGHT
TZOFFSETFROM:-0500
TZOFFSETTO:-0400
TZNAME:EDT
DTSTART:20230312T070000
END:DAYLIGHT
BEGIN:STANDARD
TZOFFSETFROM:-0400
TZOFFSETTO:-0500
TZNAME:EST
DTSTART:20231105T060000
END:STANDARD
BEGIN:DAYLIGHT
TZOFFSETFROM:-0500
TZOFFSETTO:-0400
TZNAME:EDT
DTSTART:20240310T070000
END:DAYLIGHT
BEGIN:STANDARD
TZOFFSETFROM:-0400
TZOFFSETTO:-0500
TZNAME:EST
DTSTART:20241103T060000
END:STANDARD
BEGIN:DAYLIGHT
TZOFFSETFROM:-0500
TZOFFSETTO:-0400
TZNAME:EDT
DTSTART:20250309T070000
END:DAYLIGHT
BEGIN:STANDARD
TZOFFSETFROM:-0400
TZOFFSETTO:-0500
TZNAME:EST
DTSTART:20251102T060000
END:STANDARD
END:VTIMEZONE
BEGIN:VEVENT
DTSTART;TZID=America/New_York:20241024T090000
DTEND;TZID=America/New_York:20241024T110000
DTSTAMP:20260425T083833
CREATED:20230113T145846Z
LAST-MODIFIED:20230113T145846Z
UID:10002784-1729760400-1729767600@westoverepiscopalchurch.org
SUMMARY:Meals on Wheels
DESCRIPTION:Meals On Wheels (MOW) serves hot\, nutritious meals to the homebound elderly and/or disabled Monday through Friday.
URL:https://westoverepiscopalchurch.org/event/meals-on-wheels/2024-10-24/
END:VEVENT
BEGIN:VEVENT
DTSTART;TZID=America/New_York:20241024T090000
DTEND;TZID=America/New_York:20241024T110000
DTSTAMP:20260425T083833
CREATED:20240105T180517Z
LAST-MODIFIED:20240105T180520Z
UID:10001398-1729760400-1729767600@westoverepiscopalchurch.org
SUMMARY:Meals on Wheels
DESCRIPTION:
URL:https://westoverepiscopalchurch.org/event/meals-on-wheels-3-2/2024-10-24/
END:VEVENT
BEGIN:VEVENT
DTSTART;TZID=America/New_York:20241024T100000
DTEND;TZID=America/New_York:20241024T110000
DTSTAMP:20260425T083833
CREATED:20240924T175803Z
LAST-MODIFIED:20240924T175803Z
UID:10001506-1729764000-1729767600@westoverepiscopalchurch.org
SUMMARY:Gentle Yoga with Rev. Becky
DESCRIPTION:
URL:https://westoverepiscopalchurch.org/event/gentle-yoga-with-rev-becky-4/2024-10-24/
END:VEVENT
BEGIN:VEVENT
DTSTART;TZID=America/New_York:20241025T090000
DTEND;TZID=America/New_York:20241025T110000
DTSTAMP:20260425T083833
CREATED:20230113T145846Z
LAST-MODIFIED:20230113T145846Z
UID:10002785-1729846800-1729854000@westoverepiscopalchurch.org
SUMMARY:Meals on Wheels
DESCRIPTION:Meals On Wheels (MOW) serves hot\, nutritious meals to the homebound elderly and/or disabled Monday through Friday.
URL:https://westoverepiscopalchurch.org/event/meals-on-wheels/2024-10-25/
END:VEVENT
BEGIN:VEVENT
DTSTART;TZID=America/New_York:20241025T090000
DTEND;TZID=America/New_York:20241025T110000
DTSTAMP:20260425T083833
CREATED:20240105T180517Z
LAST-MODIFIED:20240105T180520Z
UID:10001399-1729846800-1729854000@westoverepiscopalchurch.org
SUMMARY:Meals on Wheels
DESCRIPTION:
URL:https://westoverepiscopalchurch.org/event/meals-on-wheels-3-2/2024-10-25/
END:VEVENT
BEGIN:VEVENT
DTSTART;TZID=America/New_York:20241027T100000
DTEND;TZID=America/New_York:20241027T110000
DTSTAMP:20260425T083833
CREATED:20240924T174215Z
LAST-MODIFIED:20240924T174215Z
UID:10001491-1730023200-1730026800@westoverepiscopalchurch.org
SUMMARY:Twenty-third Sunday after Pentecost Service
DESCRIPTION:
URL:https://westoverepiscopalchurch.org/event/twenty-third-sunday-after-pentecost-service-2/
END:VEVENT
BEGIN:VEVENT
DTSTART;TZID=America/New_York:20241028T090000
DTEND;TZID=America/New_York:20241028T110000
DTSTAMP:20260425T083833
CREATED:20230113T145846Z
LAST-MODIFIED:20230113T145846Z
UID:10002786-1730106000-1730113200@westoverepiscopalchurch.org
SUMMARY:Meals on Wheels
DESCRIPTION:Meals On Wheels (MOW) serves hot\, nutritious meals to the homebound elderly and/or disabled Monday through Friday.
URL:https://westoverepiscopalchurch.org/event/meals-on-wheels/2024-10-28/
END:VEVENT
BEGIN:VEVENT
DTSTART;TZID=America/New_York:20241028T090000
DTEND;TZID=America/New_York:20241028T110000
DTSTAMP:20260425T083833
CREATED:20240105T180517Z
LAST-MODIFIED:20240105T180520Z
UID:10001400-1730106000-1730113200@westoverepiscopalchurch.org
SUMMARY:Meals on Wheels
DESCRIPTION:
URL:https://westoverepiscopalchurch.org/event/meals-on-wheels-3-2/2024-10-28/
END:VEVENT
BEGIN:VEVENT
DTSTART;TZID=America/New_York:20241029T090000
DTEND;TZID=America/New_York:20241029T110000
DTSTAMP:20260425T083833
CREATED:20230113T145846Z
LAST-MODIFIED:20230113T145846Z
UID:10002787-1730192400-1730199600@westoverepiscopalchurch.org
SUMMARY:Meals on Wheels
DESCRIPTION:Meals On Wheels (MOW) serves hot\, nutritious meals to the homebound elderly and/or disabled Monday through Friday.
URL:https://westoverepiscopalchurch.org/event/meals-on-wheels/2024-10-29/
END:VEVENT
BEGIN:VEVENT
DTSTART;TZID=America/New_York:20241029T090000
DTEND;TZID=America/New_York:20241029T110000
DTSTAMP:20260425T083833
CREATED:20240105T180517Z
LAST-MODIFIED:20240105T180520Z
UID:10001401-1730192400-1730199600@westoverepiscopalchurch.org
SUMMARY:Meals on Wheels
DESCRIPTION:
URL:https://westoverepiscopalchurch.org/event/meals-on-wheels-3-2/2024-10-29/
END:VEVENT
BEGIN:VEVENT
DTSTART;TZID=America/New_York:20241030T090000
DTEND;TZID=America/New_York:20241030T110000
DTSTAMP:20260425T083833
CREATED:20230113T145846Z
LAST-MODIFIED:20230113T145846Z
UID:10002788-1730278800-1730286000@westoverepiscopalchurch.org
SUMMARY:Meals on Wheels
DESCRIPTION:Meals On Wheels (MOW) serves hot\, nutritious meals to the homebound elderly and/or disabled Monday through Friday.
URL:https://westoverepiscopalchurch.org/event/meals-on-wheels/2024-10-30/
END:VEVENT
BEGIN:VEVENT
DTSTART;TZID=America/New_York:20241030T090000
DTEND;TZID=America/New_York:20241030T110000
DTSTAMP:20260425T083833
CREATED:20240105T180517Z
LAST-MODIFIED:20240105T180520Z
UID:10001402-1730278800-1730286000@westoverepiscopalchurch.org
SUMMARY:Meals on Wheels
DESCRIPTION:
URL:https://westoverepiscopalchurch.org/event/meals-on-wheels-3-2/2024-10-30/
END:VEVENT
BEGIN:VEVENT
DTSTART;TZID=America/New_York:20241031T090000
DTEND;TZID=America/New_York:20241031T110000
DTSTAMP:20260425T083833
CREATED:20230113T145846Z
LAST-MODIFIED:20230113T145846Z
UID:10002789-1730365200-1730372400@westoverepiscopalchurch.org
SUMMARY:Meals on Wheels
DESCRIPTION:Meals On Wheels (MOW) serves hot\, nutritious meals to the homebound elderly and/or disabled Monday through Friday.
URL:https://westoverepiscopalchurch.org/event/meals-on-wheels/2024-10-31/
END:VEVENT
BEGIN:VEVENT
DTSTART;TZID=America/New_York:20241031T090000
DTEND;TZID=America/New_York:20241031T110000
DTSTAMP:20260425T083833
CREATED:20240105T180517Z
LAST-MODIFIED:20240105T180520Z
UID:10001403-1730365200-1730372400@westoverepiscopalchurch.org
SUMMARY:Meals on Wheels
DESCRIPTION:
URL:https://westoverepiscopalchurch.org/event/meals-on-wheels-3-2/2024-10-31/
END:VEVENT
BEGIN:VEVENT
DTSTART;TZID=America/New_York:20241031T100000
DTEND;TZID=America/New_York:20241031T110000
DTSTAMP:20260425T083833
CREATED:20240924T175803Z
LAST-MODIFIED:20240924T175803Z
UID:10001507-1730368800-1730372400@westoverepiscopalchurch.org
SUMMARY:Gentle Yoga with Rev. Becky
DESCRIPTION:
URL:https://westoverepiscopalchurch.org/event/gentle-yoga-with-rev-becky-4/2024-10-31/
END:VEVENT
BEGIN:VEVENT
DTSTART;TZID=America/New_York:20241101T090000
DTEND;TZID=America/New_York:20241101T110000
DTSTAMP:20260425T083833
CREATED:20230113T145846Z
LAST-MODIFIED:20230113T145846Z
UID:10002790-1730451600-1730458800@westoverepiscopalchurch.org
SUMMARY:Meals on Wheels
DESCRIPTION:Meals On Wheels (MOW) serves hot\, nutritious meals to the homebound elderly and/or disabled Monday through Friday.
URL:https://westoverepiscopalchurch.org/event/meals-on-wheels/2024-11-01/
END:VEVENT
BEGIN:VEVENT
DTSTART;TZID=America/New_York:20241101T090000
DTEND;TZID=America/New_York:20241101T110000
DTSTAMP:20260425T083833
CREATED:20240105T180517Z
LAST-MODIFIED:20240105T180520Z
UID:10001404-1730451600-1730458800@westoverepiscopalchurch.org
SUMMARY:Meals on Wheels
DESCRIPTION:
URL:https://westoverepiscopalchurch.org/event/meals-on-wheels-3-2/2024-11-01/
END:VEVENT
BEGIN:VEVENT
DTSTART;TZID=America/New_York:20241103T100000
DTEND;TZID=America/New_York:20241103T110000
DTSTAMP:20260425T083833
CREATED:20240924T174301Z
LAST-MODIFIED:20240924T174301Z
UID:10001492-1730628000-1730631600@westoverepiscopalchurch.org
SUMMARY:All Saints' Day Service
DESCRIPTION:
URL:https://westoverepiscopalchurch.org/event/all-saints-day-service-3/
END:VEVENT
BEGIN:VEVENT
DTSTART;TZID=America/New_York:20241104T090000
DTEND;TZID=America/New_York:20241104T110000
DTSTAMP:20260425T083833
CREATED:20230113T145846Z
LAST-MODIFIED:20230113T145846Z
UID:10002791-1730710800-1730718000@westoverepiscopalchurch.org
SUMMARY:Meals on Wheels
DESCRIPTION:Meals On Wheels (MOW) serves hot\, nutritious meals to the homebound elderly and/or disabled Monday through Friday.
URL:https://westoverepiscopalchurch.org/event/meals-on-wheels/2024-11-04/
END:VEVENT
BEGIN:VEVENT
DTSTART;TZID=America/New_York:20241104T090000
DTEND;TZID=America/New_York:20241104T110000
DTSTAMP:20260425T083833
CREATED:20240105T180517Z
LAST-MODIFIED:20240105T180520Z
UID:10001405-1730710800-1730718000@westoverepiscopalchurch.org
SUMMARY:Meals on Wheels
DESCRIPTION:
URL:https://westoverepiscopalchurch.org/event/meals-on-wheels-3-2/2024-11-04/
END:VEVENT
BEGIN:VEVENT
DTSTART;TZID=America/New_York:20241105T090000
DTEND;TZID=America/New_York:20241105T110000
DTSTAMP:20260425T083833
CREATED:20230113T145846Z
LAST-MODIFIED:20230113T145846Z
UID:10002792-1730797200-1730804400@westoverepiscopalchurch.org
SUMMARY:Meals on Wheels
DESCRIPTION:Meals On Wheels (MOW) serves hot\, nutritious meals to the homebound elderly and/or disabled Monday through Friday.
URL:https://westoverepiscopalchurch.org/event/meals-on-wheels/2024-11-05/
END:VEVENT
BEGIN:VEVENT
DTSTART;TZID=America/New_York:20241105T090000
DTEND;TZID=America/New_York:20241105T110000
DTSTAMP:20260425T083833
CREATED:20240105T180517Z
LAST-MODIFIED:20240105T180520Z
UID:10001406-1730797200-1730804400@westoverepiscopalchurch.org
SUMMARY:Meals on Wheels
DESCRIPTION:
URL:https://westoverepiscopalchurch.org/event/meals-on-wheels-3-2/2024-11-05/
END:VEVENT
BEGIN:VEVENT
DTSTART;TZID=America/New_York:20241106T090000
DTEND;TZID=America/New_York:20241106T110000
DTSTAMP:20260425T083833
CREATED:20230113T145846Z
LAST-MODIFIED:20230113T145846Z
UID:10002793-1730883600-1730890800@westoverepiscopalchurch.org
SUMMARY:Meals on Wheels
DESCRIPTION:Meals On Wheels (MOW) serves hot\, nutritious meals to the homebound elderly and/or disabled Monday through Friday.
URL:https://westoverepiscopalchurch.org/event/meals-on-wheels/2024-11-06/
END:VEVENT
BEGIN:VEVENT
DTSTART;TZID=America/New_York:20241106T090000
DTEND;TZID=America/New_York:20241106T110000
DTSTAMP:20260425T083833
CREATED:20240105T180517Z
LAST-MODIFIED:20240105T180520Z
UID:10001407-1730883600-1730890800@westoverepiscopalchurch.org
SUMMARY:Meals on Wheels
DESCRIPTION:
URL:https://westoverepiscopalchurch.org/event/meals-on-wheels-3-2/2024-11-06/
END:VEVENT
BEGIN:VEVENT
DTSTART;TZID=America/New_York:20241107T090000
DTEND;TZID=America/New_York:20241107T110000
DTSTAMP:20260425T083833
CREATED:20230113T145846Z
LAST-MODIFIED:20230113T145846Z
UID:10002794-1730970000-1730977200@westoverepiscopalchurch.org
SUMMARY:Meals on Wheels
DESCRIPTION:Meals On Wheels (MOW) serves hot\, nutritious meals to the homebound elderly and/or disabled Monday through Friday.
URL:https://westoverepiscopalchurch.org/event/meals-on-wheels/2024-11-07/
END:VEVENT
BEGIN:VEVENT
DTSTART;TZID=America/New_York:20241107T090000
DTEND;TZID=America/New_York:20241107T110000
DTSTAMP:20260425T083833
CREATED:20240105T180517Z
LAST-MODIFIED:20240105T180520Z
UID:10001408-1730970000-1730977200@westoverepiscopalchurch.org
SUMMARY:Meals on Wheels
DESCRIPTION:
URL:https://westoverepiscopalchurch.org/event/meals-on-wheels-3-2/2024-11-07/
END:VEVENT
BEGIN:VEVENT
DTSTART;TZID=America/New_York:20241107T100000
DTEND;TZID=America/New_York:20241107T110000
DTSTAMP:20260425T083833
CREATED:20240924T175803Z
LAST-MODIFIED:20240924T175803Z
UID:10001508-1730973600-1730977200@westoverepiscopalchurch.org
SUMMARY:Gentle Yoga with Rev. Becky
DESCRIPTION:
URL:https://westoverepiscopalchurch.org/event/gentle-yoga-with-rev-becky-4/2024-11-07/
END:VEVENT
BEGIN:VEVENT
DTSTART;TZID=America/New_York:20241108T090000
DTEND;TZID=America/New_York:20241108T110000
DTSTAMP:20260425T083833
CREATED:20230113T145846Z
LAST-MODIFIED:20230113T145846Z
UID:10002795-1731056400-1731063600@westoverepiscopalchurch.org
SUMMARY:Meals on Wheels
DESCRIPTION:Meals On Wheels (MOW) serves hot\, nutritious meals to the homebound elderly and/or disabled Monday through Friday.
URL:https://westoverepiscopalchurch.org/event/meals-on-wheels/2024-11-08/
END:VEVENT
BEGIN:VEVENT
DTSTART;TZID=America/New_York:20241108T090000
DTEND;TZID=America/New_York:20241108T110000
DTSTAMP:20260425T083833
CREATED:20240105T180517Z
LAST-MODIFIED:20240105T180520Z
UID:10001409-1731056400-1731063600@westoverepiscopalchurch.org
SUMMARY:Meals on Wheels
DESCRIPTION:
URL:https://westoverepiscopalchurch.org/event/meals-on-wheels-3-2/2024-11-08/
END:VEVENT
BEGIN:VEVENT
DTSTART;TZID=America/New_York:20241110T100000
DTEND;TZID=America/New_York:20241110T110000
DTSTAMP:20260425T083833
CREATED:20240924T174350Z
LAST-MODIFIED:20240924T174350Z
UID:10001493-1731232800-1731236400@westoverepiscopalchurch.org
SUMMARY:Twenty-fifth Sunday after Pentecost Service
DESCRIPTION:
URL:https://westoverepiscopalchurch.org/event/twenty-fifth-sunday-after-pentecost-service/
END:VEVENT
END:VCALENDAR