BEGIN:VCALENDAR
VERSION:2.0
PRODID:-//Westover Episcopal Church - Charles City, VA - ECPv6.15.20//NONSGML v1.0//EN
CALSCALE:GREGORIAN
METHOD:PUBLISH
X-WR-CALNAME:Westover Episcopal Church - Charles City, VA
X-ORIGINAL-URL:https://westoverepiscopalchurch.org
X-WR-CALDESC:Events for Westover Episcopal Church - Charles City, VA
REFRESH-INTERVAL;VALUE=DURATION:PT1H
X-Robots-Tag:noindex
X-PUBLISHED-TTL:PT1H
BEGIN:VTIMEZONE
TZID:America/New_York
BEGIN:DAYLIGHT
TZOFFSETFROM:-0500
TZOFFSETTO:-0400
TZNAME:EDT
DTSTART:20230312T070000
END:DAYLIGHT
BEGIN:STANDARD
TZOFFSETFROM:-0400
TZOFFSETTO:-0500
TZNAME:EST
DTSTART:20231105T060000
END:STANDARD
BEGIN:DAYLIGHT
TZOFFSETFROM:-0500
TZOFFSETTO:-0400
TZNAME:EDT
DTSTART:20240310T070000
END:DAYLIGHT
BEGIN:STANDARD
TZOFFSETFROM:-0400
TZOFFSETTO:-0500
TZNAME:EST
DTSTART:20241103T060000
END:STANDARD
BEGIN:DAYLIGHT
TZOFFSETFROM:-0500
TZOFFSETTO:-0400
TZNAME:EDT
DTSTART:20250309T070000
END:DAYLIGHT
BEGIN:STANDARD
TZOFFSETFROM:-0400
TZOFFSETTO:-0500
TZNAME:EST
DTSTART:20251102T060000
END:STANDARD
END:VTIMEZONE
BEGIN:VEVENT
DTSTART;TZID=America/New_York:20240815T090000
DTEND;TZID=America/New_York:20240815T110000
DTSTAMP:20260425T065047
CREATED:20230113T145846Z
LAST-MODIFIED:20230113T145846Z
UID:10002734-1723712400-1723719600@westoverepiscopalchurch.org
SUMMARY:Meals on Wheels
DESCRIPTION:Meals On Wheels (MOW) serves hot\, nutritious meals to the homebound elderly and/or disabled Monday through Friday.
URL:https://westoverepiscopalchurch.org/event/meals-on-wheels/2024-08-15/
END:VEVENT
BEGIN:VEVENT
DTSTART;TZID=America/New_York:20240814T090000
DTEND;TZID=America/New_York:20240814T110000
DTSTAMP:20260425T065047
CREATED:20240105T180517Z
LAST-MODIFIED:20240105T180520Z
UID:10001347-1723626000-1723633200@westoverepiscopalchurch.org
SUMMARY:Meals on Wheels
DESCRIPTION:
URL:https://westoverepiscopalchurch.org/event/meals-on-wheels-3-2/2024-08-14/
END:VEVENT
BEGIN:VEVENT
DTSTART;TZID=America/New_York:20240814T090000
DTEND;TZID=America/New_York:20240814T110000
DTSTAMP:20260425T065047
CREATED:20230113T145846Z
LAST-MODIFIED:20230113T145846Z
UID:10002733-1723626000-1723633200@westoverepiscopalchurch.org
SUMMARY:Meals on Wheels
DESCRIPTION:Meals On Wheels (MOW) serves hot\, nutritious meals to the homebound elderly and/or disabled Monday through Friday.
URL:https://westoverepiscopalchurch.org/event/meals-on-wheels/2024-08-14/
END:VEVENT
BEGIN:VEVENT
DTSTART;TZID=America/New_York:20240813T090000
DTEND;TZID=America/New_York:20240813T110000
DTSTAMP:20260425T065047
CREATED:20240105T180517Z
LAST-MODIFIED:20240105T180520Z
UID:10001346-1723539600-1723546800@westoverepiscopalchurch.org
SUMMARY:Meals on Wheels
DESCRIPTION:
URL:https://westoverepiscopalchurch.org/event/meals-on-wheels-3-2/2024-08-13/
END:VEVENT
BEGIN:VEVENT
DTSTART;TZID=America/New_York:20240813T090000
DTEND;TZID=America/New_York:20240813T110000
DTSTAMP:20260425T065047
CREATED:20230113T145846Z
LAST-MODIFIED:20230113T145846Z
UID:10002732-1723539600-1723546800@westoverepiscopalchurch.org
SUMMARY:Meals on Wheels
DESCRIPTION:Meals On Wheels (MOW) serves hot\, nutritious meals to the homebound elderly and/or disabled Monday through Friday.
URL:https://westoverepiscopalchurch.org/event/meals-on-wheels/2024-08-13/
END:VEVENT
BEGIN:VEVENT
DTSTART;TZID=America/New_York:20240812T090000
DTEND;TZID=America/New_York:20240812T110000
DTSTAMP:20260425T065047
CREATED:20240105T180517Z
LAST-MODIFIED:20240105T180520Z
UID:10001345-1723453200-1723460400@westoverepiscopalchurch.org
SUMMARY:Meals on Wheels
DESCRIPTION:
URL:https://westoverepiscopalchurch.org/event/meals-on-wheels-3-2/2024-08-12/
END:VEVENT
BEGIN:VEVENT
DTSTART;TZID=America/New_York:20240812T090000
DTEND;TZID=America/New_York:20240812T110000
DTSTAMP:20260425T065047
CREATED:20230113T145846Z
LAST-MODIFIED:20230113T145846Z
UID:10002731-1723453200-1723460400@westoverepiscopalchurch.org
SUMMARY:Meals on Wheels
DESCRIPTION:Meals On Wheels (MOW) serves hot\, nutritious meals to the homebound elderly and/or disabled Monday through Friday.
URL:https://westoverepiscopalchurch.org/event/meals-on-wheels/2024-08-12/
END:VEVENT
BEGIN:VEVENT
DTSTART;TZID=America/New_York:20240811T160000
DTEND;TZID=America/New_York:20240811T170000
DTSTAMP:20260425T065047
CREATED:20240606T154541Z
LAST-MODIFIED:20240606T154541Z
UID:10001482-1723392000-1723395600@westoverepiscopalchurch.org
SUMMARY:Celebration of New Ministry Service
DESCRIPTION:
URL:https://westoverepiscopalchurch.org/event/celebration-of-new-ministry-service/
END:VEVENT
BEGIN:VEVENT
DTSTART;TZID=America/New_York:20240811T100000
DTEND;TZID=America/New_York:20240811T103000
DTSTAMP:20260425T065047
CREATED:20240606T154458Z
LAST-MODIFIED:20240606T154458Z
UID:10001481-1723370400-1723372200@westoverepiscopalchurch.org
SUMMARY:Twelfth Sunday after Pentecost Morning Prayer Service
DESCRIPTION:
URL:https://westoverepiscopalchurch.org/event/twelfth-sunday-after-pentecost-morning-prayer-service/
END:VEVENT
BEGIN:VEVENT
DTSTART;TZID=America/New_York:20240809T090000
DTEND;TZID=America/New_York:20240809T110000
DTSTAMP:20260425T065047
CREATED:20240105T180517Z
LAST-MODIFIED:20240105T180520Z
UID:10001344-1723194000-1723201200@westoverepiscopalchurch.org
SUMMARY:Meals on Wheels
DESCRIPTION:
URL:https://westoverepiscopalchurch.org/event/meals-on-wheels-3-2/2024-08-09/
END:VEVENT
BEGIN:VEVENT
DTSTART;TZID=America/New_York:20240809T090000
DTEND;TZID=America/New_York:20240809T110000
DTSTAMP:20260425T065047
CREATED:20230113T145846Z
LAST-MODIFIED:20230113T145846Z
UID:10002730-1723194000-1723201200@westoverepiscopalchurch.org
SUMMARY:Meals on Wheels
DESCRIPTION:Meals On Wheels (MOW) serves hot\, nutritious meals to the homebound elderly and/or disabled Monday through Friday.
URL:https://westoverepiscopalchurch.org/event/meals-on-wheels/2024-08-09/
END:VEVENT
BEGIN:VEVENT
DTSTART;TZID=America/New_York:20240808T100000
DTEND;TZID=America/New_York:20240808T110000
DTSTAMP:20260425T065047
CREATED:20230712T204456Z
LAST-MODIFIED:20230712T204456Z
UID:10001143-1723111200-1723114800@westoverepiscopalchurch.org
SUMMARY:Gentle Yoga with Rev. Becky
DESCRIPTION:
URL:https://westoverepiscopalchurch.org/event/gentle-yoga-with-rev-becky-3/2024-08-08/
END:VEVENT
BEGIN:VEVENT
DTSTART;TZID=America/New_York:20240808T090000
DTEND;TZID=America/New_York:20240808T110000
DTSTAMP:20260425T065047
CREATED:20240105T180517Z
LAST-MODIFIED:20240105T180520Z
UID:10001343-1723107600-1723114800@westoverepiscopalchurch.org
SUMMARY:Meals on Wheels
DESCRIPTION:
URL:https://westoverepiscopalchurch.org/event/meals-on-wheels-3-2/2024-08-08/
END:VEVENT
BEGIN:VEVENT
DTSTART;TZID=America/New_York:20240808T090000
DTEND;TZID=America/New_York:20240808T110000
DTSTAMP:20260425T065047
CREATED:20230113T145846Z
LAST-MODIFIED:20230113T145846Z
UID:10002729-1723107600-1723114800@westoverepiscopalchurch.org
SUMMARY:Meals on Wheels
DESCRIPTION:Meals On Wheels (MOW) serves hot\, nutritious meals to the homebound elderly and/or disabled Monday through Friday.
URL:https://westoverepiscopalchurch.org/event/meals-on-wheels/2024-08-08/
END:VEVENT
BEGIN:VEVENT
DTSTART;TZID=America/New_York:20240807T090000
DTEND;TZID=America/New_York:20240807T110000
DTSTAMP:20260425T065047
CREATED:20240105T180517Z
LAST-MODIFIED:20240105T180520Z
UID:10001342-1723021200-1723028400@westoverepiscopalchurch.org
SUMMARY:Meals on Wheels
DESCRIPTION:
URL:https://westoverepiscopalchurch.org/event/meals-on-wheels-3-2/2024-08-07/
END:VEVENT
BEGIN:VEVENT
DTSTART;TZID=America/New_York:20240807T090000
DTEND;TZID=America/New_York:20240807T110000
DTSTAMP:20260425T065047
CREATED:20230113T145846Z
LAST-MODIFIED:20230113T145846Z
UID:10002728-1723021200-1723028400@westoverepiscopalchurch.org
SUMMARY:Meals on Wheels
DESCRIPTION:Meals On Wheels (MOW) serves hot\, nutritious meals to the homebound elderly and/or disabled Monday through Friday.
URL:https://westoverepiscopalchurch.org/event/meals-on-wheels/2024-08-07/
END:VEVENT
BEGIN:VEVENT
DTSTART;TZID=America/New_York:20240806T090000
DTEND;TZID=America/New_York:20240806T110000
DTSTAMP:20260425T065047
CREATED:20240105T180517Z
LAST-MODIFIED:20240105T180520Z
UID:10001341-1722934800-1722942000@westoverepiscopalchurch.org
SUMMARY:Meals on Wheels
DESCRIPTION:
URL:https://westoverepiscopalchurch.org/event/meals-on-wheels-3-2/2024-08-06/
END:VEVENT
BEGIN:VEVENT
DTSTART;TZID=America/New_York:20240806T090000
DTEND;TZID=America/New_York:20240806T110000
DTSTAMP:20260425T065047
CREATED:20230113T145846Z
LAST-MODIFIED:20230113T145846Z
UID:10002727-1722934800-1722942000@westoverepiscopalchurch.org
SUMMARY:Meals on Wheels
DESCRIPTION:Meals On Wheels (MOW) serves hot\, nutritious meals to the homebound elderly and/or disabled Monday through Friday.
URL:https://westoverepiscopalchurch.org/event/meals-on-wheels/2024-08-06/
END:VEVENT
BEGIN:VEVENT
DTSTART;TZID=America/New_York:20240805T090000
DTEND;TZID=America/New_York:20240805T110000
DTSTAMP:20260425T065047
CREATED:20240105T180517Z
LAST-MODIFIED:20240105T180520Z
UID:10001340-1722848400-1722855600@westoverepiscopalchurch.org
SUMMARY:Meals on Wheels
DESCRIPTION:
URL:https://westoverepiscopalchurch.org/event/meals-on-wheels-3-2/2024-08-05/
END:VEVENT
BEGIN:VEVENT
DTSTART;TZID=America/New_York:20240805T090000
DTEND;TZID=America/New_York:20240805T110000
DTSTAMP:20260425T065047
CREATED:20230113T145846Z
LAST-MODIFIED:20230113T145846Z
UID:10002726-1722848400-1722855600@westoverepiscopalchurch.org
SUMMARY:Meals on Wheels
DESCRIPTION:Meals On Wheels (MOW) serves hot\, nutritious meals to the homebound elderly and/or disabled Monday through Friday.
URL:https://westoverepiscopalchurch.org/event/meals-on-wheels/2024-08-05/
END:VEVENT
BEGIN:VEVENT
DTSTART;TZID=America/New_York:20240804T100000
DTEND;TZID=America/New_York:20240804T110000
DTSTAMP:20260425T065047
CREATED:20240606T154414Z
LAST-MODIFIED:20240606T154414Z
UID:10001480-1722765600-1722769200@westoverepiscopalchurch.org
SUMMARY:Eleventh Sunday after Pentecost Service
DESCRIPTION:
URL:https://westoverepiscopalchurch.org/event/eleventh-sunday-after-pentecost-service/
END:VEVENT
BEGIN:VEVENT
DTSTART;TZID=America/New_York:20240802T090000
DTEND;TZID=America/New_York:20240802T110000
DTSTAMP:20260425T065047
CREATED:20240105T180517Z
LAST-MODIFIED:20240105T180520Z
UID:10001339-1722589200-1722596400@westoverepiscopalchurch.org
SUMMARY:Meals on Wheels
DESCRIPTION:
URL:https://westoverepiscopalchurch.org/event/meals-on-wheels-3-2/2024-08-02/
END:VEVENT
BEGIN:VEVENT
DTSTART;TZID=America/New_York:20240802T090000
DTEND;TZID=America/New_York:20240802T110000
DTSTAMP:20260425T065047
CREATED:20230113T145846Z
LAST-MODIFIED:20230113T145846Z
UID:10002725-1722589200-1722596400@westoverepiscopalchurch.org
SUMMARY:Meals on Wheels
DESCRIPTION:Meals On Wheels (MOW) serves hot\, nutritious meals to the homebound elderly and/or disabled Monday through Friday.
URL:https://westoverepiscopalchurch.org/event/meals-on-wheels/2024-08-02/
END:VEVENT
BEGIN:VEVENT
DTSTART;TZID=America/New_York:20240801T100000
DTEND;TZID=America/New_York:20240801T110000
DTSTAMP:20260425T065047
CREATED:20230712T204456Z
LAST-MODIFIED:20230712T204456Z
UID:10001142-1722506400-1722510000@westoverepiscopalchurch.org
SUMMARY:Gentle Yoga with Rev. Becky
DESCRIPTION:
URL:https://westoverepiscopalchurch.org/event/gentle-yoga-with-rev-becky-3/2024-08-01/
END:VEVENT
BEGIN:VEVENT
DTSTART;TZID=America/New_York:20240801T090000
DTEND;TZID=America/New_York:20240801T110000
DTSTAMP:20260425T065047
CREATED:20240105T180517Z
LAST-MODIFIED:20240105T180520Z
UID:10001338-1722502800-1722510000@westoverepiscopalchurch.org
SUMMARY:Meals on Wheels
DESCRIPTION:
URL:https://westoverepiscopalchurch.org/event/meals-on-wheels-3-2/2024-08-01/
END:VEVENT
BEGIN:VEVENT
DTSTART;TZID=America/New_York:20240801T090000
DTEND;TZID=America/New_York:20240801T110000
DTSTAMP:20260425T065047
CREATED:20230113T145846Z
LAST-MODIFIED:20230113T145846Z
UID:10002724-1722502800-1722510000@westoverepiscopalchurch.org
SUMMARY:Meals on Wheels
DESCRIPTION:Meals On Wheels (MOW) serves hot\, nutritious meals to the homebound elderly and/or disabled Monday through Friday.
URL:https://westoverepiscopalchurch.org/event/meals-on-wheels/2024-08-01/
END:VEVENT
BEGIN:VEVENT
DTSTART;TZID=America/New_York:20240731T090000
DTEND;TZID=America/New_York:20240731T110000
DTSTAMP:20260425T065047
CREATED:20240105T180517Z
LAST-MODIFIED:20240105T180520Z
UID:10001337-1722416400-1722423600@westoverepiscopalchurch.org
SUMMARY:Meals on Wheels
DESCRIPTION:
URL:https://westoverepiscopalchurch.org/event/meals-on-wheels-3-2/2024-07-31/
END:VEVENT
BEGIN:VEVENT
DTSTART;TZID=America/New_York:20240731T090000
DTEND;TZID=America/New_York:20240731T110000
DTSTAMP:20260425T065047
CREATED:20230113T145846Z
LAST-MODIFIED:20230113T145846Z
UID:10002723-1722416400-1722423600@westoverepiscopalchurch.org
SUMMARY:Meals on Wheels
DESCRIPTION:Meals On Wheels (MOW) serves hot\, nutritious meals to the homebound elderly and/or disabled Monday through Friday.
URL:https://westoverepiscopalchurch.org/event/meals-on-wheels/2024-07-31/
END:VEVENT
BEGIN:VEVENT
DTSTART;TZID=America/New_York:20240730T090000
DTEND;TZID=America/New_York:20240730T110000
DTSTAMP:20260425T065047
CREATED:20240105T180517Z
LAST-MODIFIED:20240105T180520Z
UID:10001336-1722330000-1722337200@westoverepiscopalchurch.org
SUMMARY:Meals on Wheels
DESCRIPTION:
URL:https://westoverepiscopalchurch.org/event/meals-on-wheels-3-2/2024-07-30/
END:VEVENT
BEGIN:VEVENT
DTSTART;TZID=America/New_York:20240730T090000
DTEND;TZID=America/New_York:20240730T110000
DTSTAMP:20260425T065047
CREATED:20230113T145846Z
LAST-MODIFIED:20230113T145846Z
UID:10002722-1722330000-1722337200@westoverepiscopalchurch.org
SUMMARY:Meals on Wheels
DESCRIPTION:Meals On Wheels (MOW) serves hot\, nutritious meals to the homebound elderly and/or disabled Monday through Friday.
URL:https://westoverepiscopalchurch.org/event/meals-on-wheels/2024-07-30/
END:VEVENT
END:VCALENDAR