BEGIN:VCALENDAR
VERSION:2.0
PRODID:-//Westover Episcopal Church - Charles City, VA - ECPv6.15.20//NONSGML v1.0//EN
CALSCALE:GREGORIAN
METHOD:PUBLISH
X-WR-CALNAME:Westover Episcopal Church - Charles City, VA
X-ORIGINAL-URL:https://westoverepiscopalchurch.org
X-WR-CALDESC:Events for Westover Episcopal Church - Charles City, VA
REFRESH-INTERVAL;VALUE=DURATION:PT1H
X-Robots-Tag:noindex
X-PUBLISHED-TTL:PT1H
BEGIN:VTIMEZONE
TZID:America/New_York
BEGIN:DAYLIGHT
TZOFFSETFROM:-0500
TZOFFSETTO:-0400
TZNAME:EDT
DTSTART:20280312T070000
END:DAYLIGHT
BEGIN:STANDARD
TZOFFSETFROM:-0400
TZOFFSETTO:-0500
TZNAME:EST
DTSTART:20281105T060000
END:STANDARD
BEGIN:DAYLIGHT
TZOFFSETFROM:-0500
TZOFFSETTO:-0400
TZNAME:EDT
DTSTART:20290311T070000
END:DAYLIGHT
BEGIN:STANDARD
TZOFFSETFROM:-0400
TZOFFSETTO:-0500
TZNAME:EST
DTSTART:20291104T060000
END:STANDARD
BEGIN:DAYLIGHT
TZOFFSETFROM:-0500
TZOFFSETTO:-0400
TZNAME:EDT
DTSTART:20300310T070000
END:DAYLIGHT
BEGIN:STANDARD
TZOFFSETFROM:-0400
TZOFFSETTO:-0500
TZNAME:EST
DTSTART:20301103T060000
END:STANDARD
END:VTIMEZONE
BEGIN:VEVENT
DTSTART;TZID=America/New_York:20290903T090000
DTEND;TZID=America/New_York:20290903T110000
DTSTAMP:20260426T003749
CREATED:20230113T145846Z
LAST-MODIFIED:20230113T145846Z
UID:10004051-1883120400-1883127600@westoverepiscopalchurch.org
SUMMARY:Meals on Wheels
DESCRIPTION:Meals On Wheels (MOW) serves hot\, nutritious meals to the homebound elderly and/or disabled Monday through Friday.
URL:https://westoverepiscopalchurch.org/event/meals-on-wheels/2029-09-03/
END:VEVENT
BEGIN:VEVENT
DTSTART;TZID=America/New_York:20290904T090000
DTEND;TZID=America/New_York:20290904T110000
DTSTAMP:20260426T003749
CREATED:20230113T145846Z
LAST-MODIFIED:20230113T145846Z
UID:10004052-1883206800-1883214000@westoverepiscopalchurch.org
SUMMARY:Meals on Wheels
DESCRIPTION:Meals On Wheels (MOW) serves hot\, nutritious meals to the homebound elderly and/or disabled Monday through Friday.
URL:https://westoverepiscopalchurch.org/event/meals-on-wheels/2029-09-04/
END:VEVENT
BEGIN:VEVENT
DTSTART;TZID=America/New_York:20290905T090000
DTEND;TZID=America/New_York:20290905T110000
DTSTAMP:20260426T003749
CREATED:20230113T145846Z
LAST-MODIFIED:20230113T145846Z
UID:10004053-1883293200-1883300400@westoverepiscopalchurch.org
SUMMARY:Meals on Wheels
DESCRIPTION:Meals On Wheels (MOW) serves hot\, nutritious meals to the homebound elderly and/or disabled Monday through Friday.
URL:https://westoverepiscopalchurch.org/event/meals-on-wheels/2029-09-05/
END:VEVENT
BEGIN:VEVENT
DTSTART;TZID=America/New_York:20290906T090000
DTEND;TZID=America/New_York:20290906T110000
DTSTAMP:20260426T003749
CREATED:20230113T145846Z
LAST-MODIFIED:20230113T145846Z
UID:10004054-1883379600-1883386800@westoverepiscopalchurch.org
SUMMARY:Meals on Wheels
DESCRIPTION:Meals On Wheels (MOW) serves hot\, nutritious meals to the homebound elderly and/or disabled Monday through Friday.
URL:https://westoverepiscopalchurch.org/event/meals-on-wheels/2029-09-06/
END:VEVENT
BEGIN:VEVENT
DTSTART;TZID=America/New_York:20290907T090000
DTEND;TZID=America/New_York:20290907T110000
DTSTAMP:20260426T003749
CREATED:20230113T145846Z
LAST-MODIFIED:20230113T145846Z
UID:10004055-1883466000-1883473200@westoverepiscopalchurch.org
SUMMARY:Meals on Wheels
DESCRIPTION:Meals On Wheels (MOW) serves hot\, nutritious meals to the homebound elderly and/or disabled Monday through Friday.
URL:https://westoverepiscopalchurch.org/event/meals-on-wheels/2029-09-07/
END:VEVENT
BEGIN:VEVENT
DTSTART;TZID=America/New_York:20290910T090000
DTEND;TZID=America/New_York:20290910T110000
DTSTAMP:20260426T003749
CREATED:20230113T145846Z
LAST-MODIFIED:20230113T145846Z
UID:10004056-1883725200-1883732400@westoverepiscopalchurch.org
SUMMARY:Meals on Wheels
DESCRIPTION:Meals On Wheels (MOW) serves hot\, nutritious meals to the homebound elderly and/or disabled Monday through Friday.
URL:https://westoverepiscopalchurch.org/event/meals-on-wheels/2029-09-10/
END:VEVENT
BEGIN:VEVENT
DTSTART;TZID=America/New_York:20290911T090000
DTEND;TZID=America/New_York:20290911T110000
DTSTAMP:20260426T003749
CREATED:20230113T145846Z
LAST-MODIFIED:20230113T145846Z
UID:10004057-1883811600-1883818800@westoverepiscopalchurch.org
SUMMARY:Meals on Wheels
DESCRIPTION:Meals On Wheels (MOW) serves hot\, nutritious meals to the homebound elderly and/or disabled Monday through Friday.
URL:https://westoverepiscopalchurch.org/event/meals-on-wheels/2029-09-11/
END:VEVENT
BEGIN:VEVENT
DTSTART;TZID=America/New_York:20290912T090000
DTEND;TZID=America/New_York:20290912T110000
DTSTAMP:20260426T003749
CREATED:20230113T145846Z
LAST-MODIFIED:20230113T145846Z
UID:10004058-1883898000-1883905200@westoverepiscopalchurch.org
SUMMARY:Meals on Wheels
DESCRIPTION:Meals On Wheels (MOW) serves hot\, nutritious meals to the homebound elderly and/or disabled Monday through Friday.
URL:https://westoverepiscopalchurch.org/event/meals-on-wheels/2029-09-12/
END:VEVENT
BEGIN:VEVENT
DTSTART;TZID=America/New_York:20290913T090000
DTEND;TZID=America/New_York:20290913T110000
DTSTAMP:20260426T003749
CREATED:20230113T145846Z
LAST-MODIFIED:20230113T145846Z
UID:10004059-1883984400-1883991600@westoverepiscopalchurch.org
SUMMARY:Meals on Wheels
DESCRIPTION:Meals On Wheels (MOW) serves hot\, nutritious meals to the homebound elderly and/or disabled Monday through Friday.
URL:https://westoverepiscopalchurch.org/event/meals-on-wheels/2029-09-13/
END:VEVENT
BEGIN:VEVENT
DTSTART;TZID=America/New_York:20290914T090000
DTEND;TZID=America/New_York:20290914T110000
DTSTAMP:20260426T003749
CREATED:20230113T145846Z
LAST-MODIFIED:20230113T145846Z
UID:10004060-1884070800-1884078000@westoverepiscopalchurch.org
SUMMARY:Meals on Wheels
DESCRIPTION:Meals On Wheels (MOW) serves hot\, nutritious meals to the homebound elderly and/or disabled Monday through Friday.
URL:https://westoverepiscopalchurch.org/event/meals-on-wheels/2029-09-14/
END:VEVENT
BEGIN:VEVENT
DTSTART;TZID=America/New_York:20290917T090000
DTEND;TZID=America/New_York:20290917T110000
DTSTAMP:20260426T003749
CREATED:20230113T145846Z
LAST-MODIFIED:20230113T145846Z
UID:10004061-1884330000-1884337200@westoverepiscopalchurch.org
SUMMARY:Meals on Wheels
DESCRIPTION:Meals On Wheels (MOW) serves hot\, nutritious meals to the homebound elderly and/or disabled Monday through Friday.
URL:https://westoverepiscopalchurch.org/event/meals-on-wheels/2029-09-17/
END:VEVENT
BEGIN:VEVENT
DTSTART;TZID=America/New_York:20290918T090000
DTEND;TZID=America/New_York:20290918T110000
DTSTAMP:20260426T003749
CREATED:20230113T145846Z
LAST-MODIFIED:20230113T145846Z
UID:10004062-1884416400-1884423600@westoverepiscopalchurch.org
SUMMARY:Meals on Wheels
DESCRIPTION:Meals On Wheels (MOW) serves hot\, nutritious meals to the homebound elderly and/or disabled Monday through Friday.
URL:https://westoverepiscopalchurch.org/event/meals-on-wheels/2029-09-18/
END:VEVENT
BEGIN:VEVENT
DTSTART;TZID=America/New_York:20290919T090000
DTEND;TZID=America/New_York:20290919T110000
DTSTAMP:20260426T003749
CREATED:20230113T145846Z
LAST-MODIFIED:20230113T145846Z
UID:10004063-1884502800-1884510000@westoverepiscopalchurch.org
SUMMARY:Meals on Wheels
DESCRIPTION:Meals On Wheels (MOW) serves hot\, nutritious meals to the homebound elderly and/or disabled Monday through Friday.
URL:https://westoverepiscopalchurch.org/event/meals-on-wheels/2029-09-19/
END:VEVENT
BEGIN:VEVENT
DTSTART;TZID=America/New_York:20290920T090000
DTEND;TZID=America/New_York:20290920T110000
DTSTAMP:20260426T003749
CREATED:20230113T145846Z
LAST-MODIFIED:20230113T145846Z
UID:10004064-1884589200-1884596400@westoverepiscopalchurch.org
SUMMARY:Meals on Wheels
DESCRIPTION:Meals On Wheels (MOW) serves hot\, nutritious meals to the homebound elderly and/or disabled Monday through Friday.
URL:https://westoverepiscopalchurch.org/event/meals-on-wheels/2029-09-20/
END:VEVENT
BEGIN:VEVENT
DTSTART;TZID=America/New_York:20290921T090000
DTEND;TZID=America/New_York:20290921T110000
DTSTAMP:20260426T003749
CREATED:20230113T145846Z
LAST-MODIFIED:20230113T145846Z
UID:10004065-1884675600-1884682800@westoverepiscopalchurch.org
SUMMARY:Meals on Wheels
DESCRIPTION:Meals On Wheels (MOW) serves hot\, nutritious meals to the homebound elderly and/or disabled Monday through Friday.
URL:https://westoverepiscopalchurch.org/event/meals-on-wheels/2029-09-21/
END:VEVENT
BEGIN:VEVENT
DTSTART;TZID=America/New_York:20290924T090000
DTEND;TZID=America/New_York:20290924T110000
DTSTAMP:20260426T003749
CREATED:20230113T145846Z
LAST-MODIFIED:20230113T145846Z
UID:10004066-1884934800-1884942000@westoverepiscopalchurch.org
SUMMARY:Meals on Wheels
DESCRIPTION:Meals On Wheels (MOW) serves hot\, nutritious meals to the homebound elderly and/or disabled Monday through Friday.
URL:https://westoverepiscopalchurch.org/event/meals-on-wheels/2029-09-24/
END:VEVENT
BEGIN:VEVENT
DTSTART;TZID=America/New_York:20290925T090000
DTEND;TZID=America/New_York:20290925T110000
DTSTAMP:20260426T003749
CREATED:20230113T145846Z
LAST-MODIFIED:20230113T145846Z
UID:10004067-1885021200-1885028400@westoverepiscopalchurch.org
SUMMARY:Meals on Wheels
DESCRIPTION:Meals On Wheels (MOW) serves hot\, nutritious meals to the homebound elderly and/or disabled Monday through Friday.
URL:https://westoverepiscopalchurch.org/event/meals-on-wheels/2029-09-25/
END:VEVENT
BEGIN:VEVENT
DTSTART;TZID=America/New_York:20290926T090000
DTEND;TZID=America/New_York:20290926T110000
DTSTAMP:20260426T003749
CREATED:20230113T145846Z
LAST-MODIFIED:20230113T145846Z
UID:10004068-1885107600-1885114800@westoverepiscopalchurch.org
SUMMARY:Meals on Wheels
DESCRIPTION:Meals On Wheels (MOW) serves hot\, nutritious meals to the homebound elderly and/or disabled Monday through Friday.
URL:https://westoverepiscopalchurch.org/event/meals-on-wheels/2029-09-26/
END:VEVENT
BEGIN:VEVENT
DTSTART;TZID=America/New_York:20290927T090000
DTEND;TZID=America/New_York:20290927T110000
DTSTAMP:20260426T003749
CREATED:20230113T145846Z
LAST-MODIFIED:20230113T145846Z
UID:10004069-1885194000-1885201200@westoverepiscopalchurch.org
SUMMARY:Meals on Wheels
DESCRIPTION:Meals On Wheels (MOW) serves hot\, nutritious meals to the homebound elderly and/or disabled Monday through Friday.
URL:https://westoverepiscopalchurch.org/event/meals-on-wheels/2029-09-27/
END:VEVENT
BEGIN:VEVENT
DTSTART;TZID=America/New_York:20290928T090000
DTEND;TZID=America/New_York:20290928T110000
DTSTAMP:20260426T003749
CREATED:20230113T145846Z
LAST-MODIFIED:20230113T145846Z
UID:10004070-1885280400-1885287600@westoverepiscopalchurch.org
SUMMARY:Meals on Wheels
DESCRIPTION:Meals On Wheels (MOW) serves hot\, nutritious meals to the homebound elderly and/or disabled Monday through Friday.
URL:https://westoverepiscopalchurch.org/event/meals-on-wheels/2029-09-28/
END:VEVENT
END:VCALENDAR