BEGIN:VCALENDAR
VERSION:2.0
PRODID:-//Westover Episcopal Church - Charles City, VA - ECPv6.15.20//NONSGML v1.0//EN
CALSCALE:GREGORIAN
METHOD:PUBLISH
X-WR-CALNAME:Westover Episcopal Church - Charles City, VA
X-ORIGINAL-URL:https://westoverepiscopalchurch.org
X-WR-CALDESC:Events for Westover Episcopal Church - Charles City, VA
REFRESH-INTERVAL;VALUE=DURATION:PT1H
X-Robots-Tag:noindex
X-PUBLISHED-TTL:PT1H
BEGIN:VTIMEZONE
TZID:America/New_York
BEGIN:DAYLIGHT
TZOFFSETFROM:-0500
TZOFFSETTO:-0400
TZNAME:EDT
DTSTART:20220313T070000
END:DAYLIGHT
BEGIN:STANDARD
TZOFFSETFROM:-0400
TZOFFSETTO:-0500
TZNAME:EST
DTSTART:20221106T060000
END:STANDARD
BEGIN:DAYLIGHT
TZOFFSETFROM:-0500
TZOFFSETTO:-0400
TZNAME:EDT
DTSTART:20230312T070000
END:DAYLIGHT
BEGIN:STANDARD
TZOFFSETFROM:-0400
TZOFFSETTO:-0500
TZNAME:EST
DTSTART:20231105T060000
END:STANDARD
BEGIN:DAYLIGHT
TZOFFSETFROM:-0500
TZOFFSETTO:-0400
TZNAME:EDT
DTSTART:20240310T070000
END:DAYLIGHT
BEGIN:STANDARD
TZOFFSETFROM:-0400
TZOFFSETTO:-0500
TZNAME:EST
DTSTART:20241103T060000
END:STANDARD
END:VTIMEZONE
BEGIN:VEVENT
DTSTART;TZID=America/New_York:20230507T100000
DTEND;TZID=America/New_York:20230507T113000
DTSTAMP:20260425T195437
CREATED:20230501T180644Z
LAST-MODIFIED:20230501T180644Z
UID:10001073-1683453600-1683459000@westoverepiscopalchurch.org
SUMMARY:Fifth Sunday of Easter
DESCRIPTION:
URL:https://westoverepiscopalchurch.org/event/fifth-sunday-of-easter-2/
LOCATION:Westover Episcopal Church\, 6401 John Tyler Hwy.\, Charles City\, VA\, 23030\, United States
END:VEVENT
BEGIN:VEVENT
DTSTART;TZID=America/New_York:20230508T090000
DTEND;TZID=America/New_York:20230508T110000
DTSTAMP:20260425T195437
CREATED:20230113T145846Z
LAST-MODIFIED:20230113T145846Z
UID:10000809-1683536400-1683543600@westoverepiscopalchurch.org
SUMMARY:Meals on Wheels
DESCRIPTION:Meals On Wheels (MOW) serves hot\, nutritious meals to the homebound elderly and/or disabled Monday through Friday.
URL:https://westoverepiscopalchurch.org/event/meals-on-wheels/2023-05-08/
END:VEVENT
BEGIN:VEVENT
DTSTART;TZID=America/New_York:20230509T090000
DTEND;TZID=America/New_York:20230509T110000
DTSTAMP:20260425T195437
CREATED:20230113T145846Z
LAST-MODIFIED:20230113T145846Z
UID:10000810-1683622800-1683630000@westoverepiscopalchurch.org
SUMMARY:Meals on Wheels
DESCRIPTION:Meals On Wheels (MOW) serves hot\, nutritious meals to the homebound elderly and/or disabled Monday through Friday.
URL:https://westoverepiscopalchurch.org/event/meals-on-wheels/2023-05-09/
END:VEVENT
BEGIN:VEVENT
DTSTART;TZID=America/New_York:20230510T090000
DTEND;TZID=America/New_York:20230510T110000
DTSTAMP:20260425T195437
CREATED:20230113T145846Z
LAST-MODIFIED:20230113T145846Z
UID:10000811-1683709200-1683716400@westoverepiscopalchurch.org
SUMMARY:Meals on Wheels
DESCRIPTION:Meals On Wheels (MOW) serves hot\, nutritious meals to the homebound elderly and/or disabled Monday through Friday.
URL:https://westoverepiscopalchurch.org/event/meals-on-wheels/2023-05-10/
END:VEVENT
BEGIN:VEVENT
DTSTART;TZID=America/New_York:20230511T090000
DTEND;TZID=America/New_York:20230511T110000
DTSTAMP:20260425T195437
CREATED:20230113T145846Z
LAST-MODIFIED:20230113T145846Z
UID:10000812-1683795600-1683802800@westoverepiscopalchurch.org
SUMMARY:Meals on Wheels
DESCRIPTION:Meals On Wheels (MOW) serves hot\, nutritious meals to the homebound elderly and/or disabled Monday through Friday.
URL:https://westoverepiscopalchurch.org/event/meals-on-wheels/2023-05-11/
END:VEVENT
BEGIN:VEVENT
DTSTART;TZID=America/New_York:20230511T100000
DTEND;TZID=America/New_York:20230511T110000
DTSTAMP:20260425T195437
CREATED:20230411T181935Z
LAST-MODIFIED:20230411T182124Z
UID:10001017-1683799200-1683802800@westoverepiscopalchurch.org
SUMMARY:Gentle Yoga with Rev. Becky
DESCRIPTION:
URL:https://westoverepiscopalchurch.org/event/gentle-yoga-with-rev-becky-2/2023-05-11/
LOCATION:Sherwood Forest Plantation\, 14501 John Tyler Memorial Hwy\, Charles City\, 23030\, United States
END:VEVENT
BEGIN:VEVENT
DTSTART;TZID=America/New_York:20230512T090000
DTEND;TZID=America/New_York:20230512T110000
DTSTAMP:20260425T195437
CREATED:20230113T145846Z
LAST-MODIFIED:20230113T145846Z
UID:10000813-1683882000-1683889200@westoverepiscopalchurch.org
SUMMARY:Meals on Wheels
DESCRIPTION:Meals On Wheels (MOW) serves hot\, nutritious meals to the homebound elderly and/or disabled Monday through Friday.
URL:https://westoverepiscopalchurch.org/event/meals-on-wheels/2023-05-12/
END:VEVENT
END:VCALENDAR