BEGIN:VCALENDAR
VERSION:2.0
PRODID:-//Westover Episcopal Church - Charles City, VA - ECPv6.15.20//NONSGML v1.0//EN
CALSCALE:GREGORIAN
METHOD:PUBLISH
X-WR-CALNAME:Westover Episcopal Church - Charles City, VA
X-ORIGINAL-URL:https://westoverepiscopalchurch.org
X-WR-CALDESC:Events for Westover Episcopal Church - Charles City, VA
REFRESH-INTERVAL;VALUE=DURATION:PT1H
X-Robots-Tag:noindex
X-PUBLISHED-TTL:PT1H
BEGIN:VTIMEZONE
TZID:America/New_York
BEGIN:DAYLIGHT
TZOFFSETFROM:-0500
TZOFFSETTO:-0400
TZNAME:EDT
DTSTART:20220313T070000
END:DAYLIGHT
BEGIN:STANDARD
TZOFFSETFROM:-0400
TZOFFSETTO:-0500
TZNAME:EST
DTSTART:20221106T060000
END:STANDARD
BEGIN:DAYLIGHT
TZOFFSETFROM:-0500
TZOFFSETTO:-0400
TZNAME:EDT
DTSTART:20230312T070000
END:DAYLIGHT
BEGIN:STANDARD
TZOFFSETFROM:-0400
TZOFFSETTO:-0500
TZNAME:EST
DTSTART:20231105T060000
END:STANDARD
BEGIN:DAYLIGHT
TZOFFSETFROM:-0500
TZOFFSETTO:-0400
TZNAME:EDT
DTSTART:20240310T070000
END:DAYLIGHT
BEGIN:STANDARD
TZOFFSETFROM:-0400
TZOFFSETTO:-0500
TZNAME:EST
DTSTART:20241103T060000
END:STANDARD
END:VTIMEZONE
BEGIN:VEVENT
DTSTART;TZID=America/New_York:20230514T100000
DTEND;TZID=America/New_York:20230514T113000
DTSTAMP:20260425T195343
CREATED:20230501T180845Z
LAST-MODIFIED:20230501T180845Z
UID:10001074-1684058400-1684063800@westoverepiscopalchurch.org
SUMMARY:Sixth Sunday of Easter
DESCRIPTION:
URL:https://westoverepiscopalchurch.org/event/sixth-sunday-of-easter-2/
LOCATION:Westover Episcopal Church\, 6401 John Tyler Hwy.\, Charles City\, VA\, 23030\, United States
END:VEVENT
BEGIN:VEVENT
DTSTART;TZID=America/New_York:20230515T090000
DTEND;TZID=America/New_York:20230515T110000
DTSTAMP:20260425T195343
CREATED:20230113T145846Z
LAST-MODIFIED:20230113T145846Z
UID:10000814-1684141200-1684148400@westoverepiscopalchurch.org
SUMMARY:Meals on Wheels
DESCRIPTION:Meals On Wheels (MOW) serves hot\, nutritious meals to the homebound elderly and/or disabled Monday through Friday.
URL:https://westoverepiscopalchurch.org/event/meals-on-wheels/2023-05-15/
END:VEVENT
BEGIN:VEVENT
DTSTART;TZID=America/New_York:20230516T090000
DTEND;TZID=America/New_York:20230516T110000
DTSTAMP:20260425T195343
CREATED:20230113T145846Z
LAST-MODIFIED:20230113T145846Z
UID:10000815-1684227600-1684234800@westoverepiscopalchurch.org
SUMMARY:Meals on Wheels
DESCRIPTION:Meals On Wheels (MOW) serves hot\, nutritious meals to the homebound elderly and/or disabled Monday through Friday.
URL:https://westoverepiscopalchurch.org/event/meals-on-wheels/2023-05-16/
END:VEVENT
BEGIN:VEVENT
DTSTART;TZID=America/New_York:20230517T090000
DTEND;TZID=America/New_York:20230517T110000
DTSTAMP:20260425T195343
CREATED:20230113T145846Z
LAST-MODIFIED:20230113T145846Z
UID:10000816-1684314000-1684321200@westoverepiscopalchurch.org
SUMMARY:Meals on Wheels
DESCRIPTION:Meals On Wheels (MOW) serves hot\, nutritious meals to the homebound elderly and/or disabled Monday through Friday.
URL:https://westoverepiscopalchurch.org/event/meals-on-wheels/2023-05-17/
END:VEVENT
BEGIN:VEVENT
DTSTART;TZID=America/New_York:20230518T090000
DTEND;TZID=America/New_York:20230518T110000
DTSTAMP:20260425T195343
CREATED:20230113T145846Z
LAST-MODIFIED:20230113T145846Z
UID:10000817-1684400400-1684407600@westoverepiscopalchurch.org
SUMMARY:Meals on Wheels
DESCRIPTION:Meals On Wheels (MOW) serves hot\, nutritious meals to the homebound elderly and/or disabled Monday through Friday.
URL:https://westoverepiscopalchurch.org/event/meals-on-wheels/2023-05-18/
END:VEVENT
BEGIN:VEVENT
DTSTART;TZID=America/New_York:20230518T100000
DTEND;TZID=America/New_York:20230518T110000
DTSTAMP:20260425T195343
CREATED:20230411T181935Z
LAST-MODIFIED:20230411T182124Z
UID:10001018-1684404000-1684407600@westoverepiscopalchurch.org
SUMMARY:Gentle Yoga with Rev. Becky
DESCRIPTION:
URL:https://westoverepiscopalchurch.org/event/gentle-yoga-with-rev-becky-2/2023-05-18/
LOCATION:Sherwood Forest Plantation\, 14501 John Tyler Memorial Hwy\, Charles City\, 23030\, United States
END:VEVENT
BEGIN:VEVENT
DTSTART;TZID=America/New_York:20230519T090000
DTEND;TZID=America/New_York:20230519T110000
DTSTAMP:20260425T195343
CREATED:20230113T145846Z
LAST-MODIFIED:20230113T145846Z
UID:10000818-1684486800-1684494000@westoverepiscopalchurch.org
SUMMARY:Meals on Wheels
DESCRIPTION:Meals On Wheels (MOW) serves hot\, nutritious meals to the homebound elderly and/or disabled Monday through Friday.
URL:https://westoverepiscopalchurch.org/event/meals-on-wheels/2023-05-19/
END:VEVENT
END:VCALENDAR