BEGIN:VCALENDAR
VERSION:2.0
PRODID:-//Westover Episcopal Church - Charles City, VA - ECPv6.15.20//NONSGML v1.0//EN
CALSCALE:GREGORIAN
METHOD:PUBLISH
X-ORIGINAL-URL:https://westoverepiscopalchurch.org
X-WR-CALDESC:Events for Westover Episcopal Church - Charles City, VA
REFRESH-INTERVAL;VALUE=DURATION:PT1H
X-Robots-Tag:noindex
X-PUBLISHED-TTL:PT1H
BEGIN:VTIMEZONE
TZID:America/New_York
BEGIN:DAYLIGHT
TZOFFSETFROM:-0500
TZOFFSETTO:-0400
TZNAME:EDT
DTSTART:20220313T070000
END:DAYLIGHT
BEGIN:STANDARD
TZOFFSETFROM:-0400
TZOFFSETTO:-0500
TZNAME:EST
DTSTART:20221106T060000
END:STANDARD
BEGIN:DAYLIGHT
TZOFFSETFROM:-0500
TZOFFSETTO:-0400
TZNAME:EDT
DTSTART:20230312T070000
END:DAYLIGHT
BEGIN:STANDARD
TZOFFSETFROM:-0400
TZOFFSETTO:-0500
TZNAME:EST
DTSTART:20231105T060000
END:STANDARD
BEGIN:DAYLIGHT
TZOFFSETFROM:-0500
TZOFFSETTO:-0400
TZNAME:EDT
DTSTART:20240310T070000
END:DAYLIGHT
BEGIN:STANDARD
TZOFFSETFROM:-0400
TZOFFSETTO:-0500
TZNAME:EST
DTSTART:20241103T060000
END:STANDARD
END:VTIMEZONE
BEGIN:VEVENT
DTSTART;TZID=America/New_York:20230910T100000
DTEND;TZID=America/New_York:20230910T110000
DTSTAMP:20260425T142342
CREATED:20230803T182459Z
LAST-MODIFIED:20230803T182459Z
UID:10001155-1694340000-1694343600@westoverepiscopalchurch.org
SUMMARY:Fifteen Sunday after Pentecost
DESCRIPTION:
URL:https://westoverepiscopalchurch.org/event/fifteen-sunday-after-pentecost/
LOCATION:Westover Episcopal Church\, 6401 John Tyler Hwy.\, Charles City\, VA\, 23030\, United States
END:VEVENT
BEGIN:VEVENT
DTSTART;TZID=America/New_York:20230911T090000
DTEND;TZID=America/New_York:20230911T110000
DTSTAMP:20260425T142342
CREATED:20230113T145846Z
LAST-MODIFIED:20230113T145846Z
UID:10000899-1694422800-1694430000@westoverepiscopalchurch.org
SUMMARY:Meals on Wheels
DESCRIPTION:Meals On Wheels (MOW) serves hot\, nutritious meals to the homebound elderly and/or disabled Monday through Friday.
URL:https://westoverepiscopalchurch.org/event/meals-on-wheels/2023-09-11/
END:VEVENT
BEGIN:VEVENT
DTSTART;TZID=America/New_York:20230912T090000
DTEND;TZID=America/New_York:20230912T110000
DTSTAMP:20260425T142342
CREATED:20230113T145846Z
LAST-MODIFIED:20230113T145846Z
UID:10000900-1694509200-1694516400@westoverepiscopalchurch.org
SUMMARY:Meals on Wheels
DESCRIPTION:Meals On Wheels (MOW) serves hot\, nutritious meals to the homebound elderly and/or disabled Monday through Friday.
URL:https://westoverepiscopalchurch.org/event/meals-on-wheels/2023-09-12/
END:VEVENT
BEGIN:VEVENT
DTSTART;TZID=America/New_York:20230913T090000
DTEND;TZID=America/New_York:20230913T110000
DTSTAMP:20260425T142342
CREATED:20230113T145846Z
LAST-MODIFIED:20230113T145846Z
UID:10000901-1694595600-1694602800@westoverepiscopalchurch.org
SUMMARY:Meals on Wheels
DESCRIPTION:Meals On Wheels (MOW) serves hot\, nutritious meals to the homebound elderly and/or disabled Monday through Friday.
URL:https://westoverepiscopalchurch.org/event/meals-on-wheels/2023-09-13/
END:VEVENT
BEGIN:VEVENT
DTSTART;TZID=America/New_York:20230914T090000
DTEND;TZID=America/New_York:20230914T110000
DTSTAMP:20260425T142342
CREATED:20230113T145846Z
LAST-MODIFIED:20230113T145846Z
UID:10000902-1694682000-1694689200@westoverepiscopalchurch.org
SUMMARY:Meals on Wheels
DESCRIPTION:Meals On Wheels (MOW) serves hot\, nutritious meals to the homebound elderly and/or disabled Monday through Friday.
URL:https://westoverepiscopalchurch.org/event/meals-on-wheels/2023-09-14/
END:VEVENT
BEGIN:VEVENT
DTSTART;TZID=America/New_York:20230914T100000
DTEND;TZID=America/New_York:20230914T110000
DTSTAMP:20260425T142342
CREATED:20230712T204456Z
LAST-MODIFIED:20230712T204456Z
UID:10001096-1694685600-1694689200@westoverepiscopalchurch.org
SUMMARY:Gentle Yoga with Rev. Becky
DESCRIPTION:
URL:https://westoverepiscopalchurch.org/event/gentle-yoga-with-rev-becky-3/2023-09-14/
END:VEVENT
BEGIN:VEVENT
DTSTART;TZID=America/New_York:20230915T090000
DTEND;TZID=America/New_York:20230915T110000
DTSTAMP:20260425T142342
CREATED:20230113T145846Z
LAST-MODIFIED:20230113T145846Z
UID:10000903-1694768400-1694775600@westoverepiscopalchurch.org
SUMMARY:Meals on Wheels
DESCRIPTION:Meals On Wheels (MOW) serves hot\, nutritious meals to the homebound elderly and/or disabled Monday through Friday.
URL:https://westoverepiscopalchurch.org/event/meals-on-wheels/2023-09-15/
END:VEVENT
END:VCALENDAR