BEGIN:VCALENDAR
VERSION:2.0
PRODID:-//Westover Episcopal Church - Charles City, VA - ECPv6.15.20//NONSGML v1.0//EN
CALSCALE:GREGORIAN
METHOD:PUBLISH
X-WR-CALNAME:Westover Episcopal Church - Charles City, VA
X-ORIGINAL-URL:https://westoverepiscopalchurch.org
X-WR-CALDESC:Events for Westover Episcopal Church - Charles City, VA
REFRESH-INTERVAL;VALUE=DURATION:PT1H
X-Robots-Tag:noindex
X-PUBLISHED-TTL:PT1H
BEGIN:VTIMEZONE
TZID:America/New_York
BEGIN:DAYLIGHT
TZOFFSETFROM:-0500
TZOFFSETTO:-0400
TZNAME:EDT
DTSTART:20220313T070000
END:DAYLIGHT
BEGIN:STANDARD
TZOFFSETFROM:-0400
TZOFFSETTO:-0500
TZNAME:EST
DTSTART:20221106T060000
END:STANDARD
BEGIN:DAYLIGHT
TZOFFSETFROM:-0500
TZOFFSETTO:-0400
TZNAME:EDT
DTSTART:20230312T070000
END:DAYLIGHT
BEGIN:STANDARD
TZOFFSETFROM:-0400
TZOFFSETTO:-0500
TZNAME:EST
DTSTART:20231105T060000
END:STANDARD
BEGIN:DAYLIGHT
TZOFFSETFROM:-0500
TZOFFSETTO:-0400
TZNAME:EDT
DTSTART:20240310T070000
END:DAYLIGHT
BEGIN:STANDARD
TZOFFSETFROM:-0400
TZOFFSETTO:-0500
TZNAME:EST
DTSTART:20241103T060000
END:STANDARD
END:VTIMEZONE
BEGIN:VEVENT
DTSTART;TZID=America/New_York:20231119T100000
DTEND;TZID=America/New_York:20231119T110000
DTSTAMP:20260425T111655
CREATED:20230925T204439Z
LAST-MODIFIED:20230925T204647Z
UID:10001167-1700388000-1700391600@westoverepiscopalchurch.org
SUMMARY:Twenty-Fifth Sunday after Pentecost and Thanksgiving Service
DESCRIPTION:
URL:https://westoverepiscopalchurch.org/event/twenty-third-sunday-after-pentecost-and-thanksgiving-service/
LOCATION:Westover Episcopal Church\, 6401 John Tyler Hwy.\, Charles City\, VA\, 23030\, United States
END:VEVENT
BEGIN:VEVENT
DTSTART;TZID=America/New_York:20231119T110000
DTEND;TZID=America/New_York:20231119T120000
DTSTAMP:20260425T111655
CREATED:20230925T204525Z
LAST-MODIFIED:20230925T204525Z
UID:10001168-1700391600-1700395200@westoverepiscopalchurch.org
SUMMARY:Annual Congregational Meeting
DESCRIPTION:
URL:https://westoverepiscopalchurch.org/event/annual-congregational-meeting/
LOCATION:Westover Episcopal Church\, 6401 John Tyler Hwy.\, Charles City\, VA\, 23030\, United States
END:VEVENT
BEGIN:VEVENT
DTSTART;TZID=America/New_York:20231120T090000
DTEND;TZID=America/New_York:20231120T110000
DTSTAMP:20260425T111655
CREATED:20230113T145846Z
LAST-MODIFIED:20230113T145846Z
UID:10000949-1700470800-1700478000@westoverepiscopalchurch.org
SUMMARY:Meals on Wheels
DESCRIPTION:Meals On Wheels (MOW) serves hot\, nutritious meals to the homebound elderly and/or disabled Monday through Friday.
URL:https://westoverepiscopalchurch.org/event/meals-on-wheels/2023-11-20/
END:VEVENT
BEGIN:VEVENT
DTSTART;TZID=America/New_York:20231121T090000
DTEND;TZID=America/New_York:20231121T110000
DTSTAMP:20260425T111655
CREATED:20230113T145846Z
LAST-MODIFIED:20230113T145846Z
UID:10000950-1700557200-1700564400@westoverepiscopalchurch.org
SUMMARY:Meals on Wheels
DESCRIPTION:Meals On Wheels (MOW) serves hot\, nutritious meals to the homebound elderly and/or disabled Monday through Friday.
URL:https://westoverepiscopalchurch.org/event/meals-on-wheels/2023-11-21/
END:VEVENT
BEGIN:VEVENT
DTSTART;TZID=America/New_York:20231122T090000
DTEND;TZID=America/New_York:20231122T110000
DTSTAMP:20260425T111655
CREATED:20230113T145846Z
LAST-MODIFIED:20230113T145846Z
UID:10000951-1700643600-1700650800@westoverepiscopalchurch.org
SUMMARY:Meals on Wheels
DESCRIPTION:Meals On Wheels (MOW) serves hot\, nutritious meals to the homebound elderly and/or disabled Monday through Friday.
URL:https://westoverepiscopalchurch.org/event/meals-on-wheels/2023-11-22/
END:VEVENT
BEGIN:VEVENT
DTSTART;TZID=America/New_York:20231123T083000
DTEND;TZID=America/New_York:20231123T100000
DTSTAMP:20260425T111655
CREATED:20230925T204246Z
LAST-MODIFIED:20230925T204246Z
UID:10001166-1700728200-1700733600@westoverepiscopalchurch.org
SUMMARY:No Gentle Yoga Today
DESCRIPTION:
URL:https://westoverepiscopalchurch.org/event/no-gentle-yoga-today/
LOCATION:Westover Episcopal Church\, 6401 John Tyler Hwy.\, Charles City\, VA\, 23030\, United States
END:VEVENT
BEGIN:VEVENT
DTSTART;TZID=America/New_York:20231123T090000
DTEND;TZID=America/New_York:20231123T110000
DTSTAMP:20260425T111655
CREATED:20230113T145846Z
LAST-MODIFIED:20230113T145846Z
UID:10000952-1700730000-1700737200@westoverepiscopalchurch.org
SUMMARY:Meals on Wheels
DESCRIPTION:Meals On Wheels (MOW) serves hot\, nutritious meals to the homebound elderly and/or disabled Monday through Friday.
URL:https://westoverepiscopalchurch.org/event/meals-on-wheels/2023-11-23/
END:VEVENT
BEGIN:VEVENT
DTSTART;TZID=America/New_York:20231123T100000
DTEND;TZID=America/New_York:20231123T110000
DTSTAMP:20260425T111655
CREATED:20230712T204456Z
LAST-MODIFIED:20230712T204456Z
UID:10001106-1700733600-1700737200@westoverepiscopalchurch.org
SUMMARY:Gentle Yoga with Rev. Becky
DESCRIPTION:
URL:https://westoverepiscopalchurch.org/event/gentle-yoga-with-rev-becky-3/2023-11-23/
END:VEVENT
BEGIN:VEVENT
DTSTART;TZID=America/New_York:20231124T090000
DTEND;TZID=America/New_York:20231124T110000
DTSTAMP:20260425T111655
CREATED:20230113T145846Z
LAST-MODIFIED:20230113T145846Z
UID:10000953-1700816400-1700823600@westoverepiscopalchurch.org
SUMMARY:Meals on Wheels
DESCRIPTION:Meals On Wheels (MOW) serves hot\, nutritious meals to the homebound elderly and/or disabled Monday through Friday.
URL:https://westoverepiscopalchurch.org/event/meals-on-wheels/2023-11-24/
END:VEVENT
END:VCALENDAR