BEGIN:VCALENDAR
VERSION:2.0
PRODID:-//Westover Episcopal Church - Charles City, VA - ECPv6.15.20//NONSGML v1.0//EN
CALSCALE:GREGORIAN
METHOD:PUBLISH
X-WR-CALNAME:Westover Episcopal Church - Charles City, VA
X-ORIGINAL-URL:https://westoverepiscopalchurch.org
X-WR-CALDESC:Events for Westover Episcopal Church - Charles City, VA
REFRESH-INTERVAL;VALUE=DURATION:PT1H
X-Robots-Tag:noindex
X-PUBLISHED-TTL:PT1H
BEGIN:VTIMEZONE
TZID:America/New_York
BEGIN:DAYLIGHT
TZOFFSETFROM:-0500
TZOFFSETTO:-0400
TZNAME:EDT
DTSTART:20230312T070000
END:DAYLIGHT
BEGIN:STANDARD
TZOFFSETFROM:-0400
TZOFFSETTO:-0500
TZNAME:EST
DTSTART:20231105T060000
END:STANDARD
BEGIN:DAYLIGHT
TZOFFSETFROM:-0500
TZOFFSETTO:-0400
TZNAME:EDT
DTSTART:20240310T070000
END:DAYLIGHT
BEGIN:STANDARD
TZOFFSETFROM:-0400
TZOFFSETTO:-0500
TZNAME:EST
DTSTART:20241103T060000
END:STANDARD
BEGIN:DAYLIGHT
TZOFFSETFROM:-0500
TZOFFSETTO:-0400
TZNAME:EDT
DTSTART:20250309T070000
END:DAYLIGHT
BEGIN:STANDARD
TZOFFSETFROM:-0400
TZOFFSETTO:-0500
TZNAME:EST
DTSTART:20251102T060000
END:STANDARD
END:VTIMEZONE
BEGIN:VEVENT
DTSTART;TZID=America/New_York:20240526T100000
DTEND;TZID=America/New_York:20240526T110000
DTSTAMP:20260424T223540
CREATED:20240606T153141Z
LAST-MODIFIED:20240606T153141Z
UID:10001470-1716717600-1716721200@westoverepiscopalchurch.org
SUMMARY:First Sunday after Pentecost Service
DESCRIPTION:
URL:https://westoverepiscopalchurch.org/event/first-sunday-after-pentecost-service/
END:VEVENT
BEGIN:VEVENT
DTSTART;TZID=America/New_York:20240527T090000
DTEND;TZID=America/New_York:20240527T110000
DTSTAMP:20260424T223540
CREATED:20230113T145846Z
LAST-MODIFIED:20230113T145846Z
UID:10002676-1716800400-1716807600@westoverepiscopalchurch.org
SUMMARY:Meals on Wheels
DESCRIPTION:Meals On Wheels (MOW) serves hot\, nutritious meals to the homebound elderly and/or disabled Monday through Friday.
URL:https://westoverepiscopalchurch.org/event/meals-on-wheels/2024-05-27/
END:VEVENT
BEGIN:VEVENT
DTSTART;TZID=America/New_York:20240527T090000
DTEND;TZID=America/New_York:20240527T110000
DTSTAMP:20260424T223540
CREATED:20240105T180517Z
LAST-MODIFIED:20240105T180520Z
UID:10001290-1716800400-1716807600@westoverepiscopalchurch.org
SUMMARY:Meals on Wheels
DESCRIPTION:
URL:https://westoverepiscopalchurch.org/event/meals-on-wheels-3-2/2024-05-27/
END:VEVENT
BEGIN:VEVENT
DTSTART;TZID=America/New_York:20240528T090000
DTEND;TZID=America/New_York:20240528T110000
DTSTAMP:20260424T223540
CREATED:20230113T145846Z
LAST-MODIFIED:20230113T145846Z
UID:10002677-1716886800-1716894000@westoverepiscopalchurch.org
SUMMARY:Meals on Wheels
DESCRIPTION:Meals On Wheels (MOW) serves hot\, nutritious meals to the homebound elderly and/or disabled Monday through Friday.
URL:https://westoverepiscopalchurch.org/event/meals-on-wheels/2024-05-28/
END:VEVENT
BEGIN:VEVENT
DTSTART;TZID=America/New_York:20240528T090000
DTEND;TZID=America/New_York:20240528T110000
DTSTAMP:20260424T223540
CREATED:20240105T180517Z
LAST-MODIFIED:20240105T180520Z
UID:10001291-1716886800-1716894000@westoverepiscopalchurch.org
SUMMARY:Meals on Wheels
DESCRIPTION:
URL:https://westoverepiscopalchurch.org/event/meals-on-wheels-3-2/2024-05-28/
END:VEVENT
BEGIN:VEVENT
DTSTART;TZID=America/New_York:20240529T090000
DTEND;TZID=America/New_York:20240529T110000
DTSTAMP:20260424T223540
CREATED:20230113T145846Z
LAST-MODIFIED:20230113T145846Z
UID:10002678-1716973200-1716980400@westoverepiscopalchurch.org
SUMMARY:Meals on Wheels
DESCRIPTION:Meals On Wheels (MOW) serves hot\, nutritious meals to the homebound elderly and/or disabled Monday through Friday.
URL:https://westoverepiscopalchurch.org/event/meals-on-wheels/2024-05-29/
END:VEVENT
BEGIN:VEVENT
DTSTART;TZID=America/New_York:20240529T090000
DTEND;TZID=America/New_York:20240529T110000
DTSTAMP:20260424T223540
CREATED:20240105T180517Z
LAST-MODIFIED:20240105T180520Z
UID:10001292-1716973200-1716980400@westoverepiscopalchurch.org
SUMMARY:Meals on Wheels
DESCRIPTION:
URL:https://westoverepiscopalchurch.org/event/meals-on-wheels-3-2/2024-05-29/
END:VEVENT
BEGIN:VEVENT
DTSTART;TZID=America/New_York:20240530T090000
DTEND;TZID=America/New_York:20240530T110000
DTSTAMP:20260424T223540
CREATED:20230113T145846Z
LAST-MODIFIED:20230113T145846Z
UID:10002679-1717059600-1717066800@westoverepiscopalchurch.org
SUMMARY:Meals on Wheels
DESCRIPTION:Meals On Wheels (MOW) serves hot\, nutritious meals to the homebound elderly and/or disabled Monday through Friday.
URL:https://westoverepiscopalchurch.org/event/meals-on-wheels/2024-05-30/
END:VEVENT
BEGIN:VEVENT
DTSTART;TZID=America/New_York:20240530T090000
DTEND;TZID=America/New_York:20240530T110000
DTSTAMP:20260424T223540
CREATED:20240105T180517Z
LAST-MODIFIED:20240105T180520Z
UID:10001293-1717059600-1717066800@westoverepiscopalchurch.org
SUMMARY:Meals on Wheels
DESCRIPTION:
URL:https://westoverepiscopalchurch.org/event/meals-on-wheels-3-2/2024-05-30/
END:VEVENT
BEGIN:VEVENT
DTSTART;TZID=America/New_York:20240530T100000
DTEND;TZID=America/New_York:20240530T110000
DTSTAMP:20260424T223540
CREATED:20230712T204456Z
LAST-MODIFIED:20230712T204456Z
UID:10001133-1717063200-1717066800@westoverepiscopalchurch.org
SUMMARY:Gentle Yoga with Rev. Becky
DESCRIPTION:
URL:https://westoverepiscopalchurch.org/event/gentle-yoga-with-rev-becky-3/2024-05-30/
END:VEVENT
BEGIN:VEVENT
DTSTART;TZID=America/New_York:20240531T090000
DTEND;TZID=America/New_York:20240531T110000
DTSTAMP:20260424T223540
CREATED:20230113T145846Z
LAST-MODIFIED:20230113T145846Z
UID:10002680-1717146000-1717153200@westoverepiscopalchurch.org
SUMMARY:Meals on Wheels
DESCRIPTION:Meals On Wheels (MOW) serves hot\, nutritious meals to the homebound elderly and/or disabled Monday through Friday.
URL:https://westoverepiscopalchurch.org/event/meals-on-wheels/2024-05-31/
END:VEVENT
BEGIN:VEVENT
DTSTART;TZID=America/New_York:20240531T090000
DTEND;TZID=America/New_York:20240531T110000
DTSTAMP:20260424T223540
CREATED:20240105T180517Z
LAST-MODIFIED:20240105T180520Z
UID:10001294-1717146000-1717153200@westoverepiscopalchurch.org
SUMMARY:Meals on Wheels
DESCRIPTION:
URL:https://westoverepiscopalchurch.org/event/meals-on-wheels-3-2/2024-05-31/
END:VEVENT
END:VCALENDAR