BEGIN:VCALENDAR
VERSION:2.0
PRODID:-//Westover Episcopal Church - Charles City, VA - ECPv6.15.20//NONSGML v1.0//EN
CALSCALE:GREGORIAN
METHOD:PUBLISH
X-ORIGINAL-URL:https://westoverepiscopalchurch.org
X-WR-CALDESC:Events for Westover Episcopal Church - Charles City, VA
REFRESH-INTERVAL;VALUE=DURATION:PT1H
X-Robots-Tag:noindex
X-PUBLISHED-TTL:PT1H
BEGIN:VTIMEZONE
TZID:America/New_York
BEGIN:DAYLIGHT
TZOFFSETFROM:-0500
TZOFFSETTO:-0400
TZNAME:EDT
DTSTART:20230312T070000
END:DAYLIGHT
BEGIN:STANDARD
TZOFFSETFROM:-0400
TZOFFSETTO:-0500
TZNAME:EST
DTSTART:20231105T060000
END:STANDARD
BEGIN:DAYLIGHT
TZOFFSETFROM:-0500
TZOFFSETTO:-0400
TZNAME:EDT
DTSTART:20240310T070000
END:DAYLIGHT
BEGIN:STANDARD
TZOFFSETFROM:-0400
TZOFFSETTO:-0500
TZNAME:EST
DTSTART:20241103T060000
END:STANDARD
BEGIN:DAYLIGHT
TZOFFSETFROM:-0500
TZOFFSETTO:-0400
TZNAME:EDT
DTSTART:20250309T070000
END:DAYLIGHT
BEGIN:STANDARD
TZOFFSETFROM:-0400
TZOFFSETTO:-0500
TZNAME:EST
DTSTART:20251102T060000
END:STANDARD
END:VTIMEZONE
BEGIN:VEVENT
DTSTART;TZID=America/New_York:20240804T100000
DTEND;TZID=America/New_York:20240804T110000
DTSTAMP:20260424T210533
CREATED:20240606T154414Z
LAST-MODIFIED:20240606T154414Z
UID:10001480-1722765600-1722769200@westoverepiscopalchurch.org
SUMMARY:Eleventh Sunday after Pentecost Service
DESCRIPTION:
URL:https://westoverepiscopalchurch.org/event/eleventh-sunday-after-pentecost-service/
END:VEVENT
BEGIN:VEVENT
DTSTART;TZID=America/New_York:20240805T090000
DTEND;TZID=America/New_York:20240805T110000
DTSTAMP:20260424T210533
CREATED:20230113T145846Z
LAST-MODIFIED:20230113T145846Z
UID:10002726-1722848400-1722855600@westoverepiscopalchurch.org
SUMMARY:Meals on Wheels
DESCRIPTION:Meals On Wheels (MOW) serves hot\, nutritious meals to the homebound elderly and/or disabled Monday through Friday.
URL:https://westoverepiscopalchurch.org/event/meals-on-wheels/2024-08-05/
END:VEVENT
BEGIN:VEVENT
DTSTART;TZID=America/New_York:20240805T090000
DTEND;TZID=America/New_York:20240805T110000
DTSTAMP:20260424T210533
CREATED:20240105T180517Z
LAST-MODIFIED:20240105T180520Z
UID:10001340-1722848400-1722855600@westoverepiscopalchurch.org
SUMMARY:Meals on Wheels
DESCRIPTION:
URL:https://westoverepiscopalchurch.org/event/meals-on-wheels-3-2/2024-08-05/
END:VEVENT
BEGIN:VEVENT
DTSTART;TZID=America/New_York:20240806T090000
DTEND;TZID=America/New_York:20240806T110000
DTSTAMP:20260424T210533
CREATED:20230113T145846Z
LAST-MODIFIED:20230113T145846Z
UID:10002727-1722934800-1722942000@westoverepiscopalchurch.org
SUMMARY:Meals on Wheels
DESCRIPTION:Meals On Wheels (MOW) serves hot\, nutritious meals to the homebound elderly and/or disabled Monday through Friday.
URL:https://westoverepiscopalchurch.org/event/meals-on-wheels/2024-08-06/
END:VEVENT
BEGIN:VEVENT
DTSTART;TZID=America/New_York:20240806T090000
DTEND;TZID=America/New_York:20240806T110000
DTSTAMP:20260424T210533
CREATED:20240105T180517Z
LAST-MODIFIED:20240105T180520Z
UID:10001341-1722934800-1722942000@westoverepiscopalchurch.org
SUMMARY:Meals on Wheels
DESCRIPTION:
URL:https://westoverepiscopalchurch.org/event/meals-on-wheels-3-2/2024-08-06/
END:VEVENT
BEGIN:VEVENT
DTSTART;TZID=America/New_York:20240807T090000
DTEND;TZID=America/New_York:20240807T110000
DTSTAMP:20260424T210533
CREATED:20230113T145846Z
LAST-MODIFIED:20230113T145846Z
UID:10002728-1723021200-1723028400@westoverepiscopalchurch.org
SUMMARY:Meals on Wheels
DESCRIPTION:Meals On Wheels (MOW) serves hot\, nutritious meals to the homebound elderly and/or disabled Monday through Friday.
URL:https://westoverepiscopalchurch.org/event/meals-on-wheels/2024-08-07/
END:VEVENT
BEGIN:VEVENT
DTSTART;TZID=America/New_York:20240807T090000
DTEND;TZID=America/New_York:20240807T110000
DTSTAMP:20260424T210533
CREATED:20240105T180517Z
LAST-MODIFIED:20240105T180520Z
UID:10001342-1723021200-1723028400@westoverepiscopalchurch.org
SUMMARY:Meals on Wheels
DESCRIPTION:
URL:https://westoverepiscopalchurch.org/event/meals-on-wheels-3-2/2024-08-07/
END:VEVENT
BEGIN:VEVENT
DTSTART;TZID=America/New_York:20240808T090000
DTEND;TZID=America/New_York:20240808T110000
DTSTAMP:20260424T210533
CREATED:20230113T145846Z
LAST-MODIFIED:20230113T145846Z
UID:10002729-1723107600-1723114800@westoverepiscopalchurch.org
SUMMARY:Meals on Wheels
DESCRIPTION:Meals On Wheels (MOW) serves hot\, nutritious meals to the homebound elderly and/or disabled Monday through Friday.
URL:https://westoverepiscopalchurch.org/event/meals-on-wheels/2024-08-08/
END:VEVENT
BEGIN:VEVENT
DTSTART;TZID=America/New_York:20240808T090000
DTEND;TZID=America/New_York:20240808T110000
DTSTAMP:20260424T210533
CREATED:20240105T180517Z
LAST-MODIFIED:20240105T180520Z
UID:10001343-1723107600-1723114800@westoverepiscopalchurch.org
SUMMARY:Meals on Wheels
DESCRIPTION:
URL:https://westoverepiscopalchurch.org/event/meals-on-wheels-3-2/2024-08-08/
END:VEVENT
BEGIN:VEVENT
DTSTART;TZID=America/New_York:20240808T100000
DTEND;TZID=America/New_York:20240808T110000
DTSTAMP:20260424T210533
CREATED:20230712T204456Z
LAST-MODIFIED:20230712T204456Z
UID:10001143-1723111200-1723114800@westoverepiscopalchurch.org
SUMMARY:Gentle Yoga with Rev. Becky
DESCRIPTION:
URL:https://westoverepiscopalchurch.org/event/gentle-yoga-with-rev-becky-3/2024-08-08/
END:VEVENT
BEGIN:VEVENT
DTSTART;TZID=America/New_York:20240809T090000
DTEND;TZID=America/New_York:20240809T110000
DTSTAMP:20260424T210533
CREATED:20230113T145846Z
LAST-MODIFIED:20230113T145846Z
UID:10002730-1723194000-1723201200@westoverepiscopalchurch.org
SUMMARY:Meals on Wheels
DESCRIPTION:Meals On Wheels (MOW) serves hot\, nutritious meals to the homebound elderly and/or disabled Monday through Friday.
URL:https://westoverepiscopalchurch.org/event/meals-on-wheels/2024-08-09/
END:VEVENT
BEGIN:VEVENT
DTSTART;TZID=America/New_York:20240809T090000
DTEND;TZID=America/New_York:20240809T110000
DTSTAMP:20260424T210533
CREATED:20240105T180517Z
LAST-MODIFIED:20240105T180520Z
UID:10001344-1723194000-1723201200@westoverepiscopalchurch.org
SUMMARY:Meals on Wheels
DESCRIPTION:
URL:https://westoverepiscopalchurch.org/event/meals-on-wheels-3-2/2024-08-09/
END:VEVENT
END:VCALENDAR